BEGIN:VCALENDAR
VERSION:2.0
PRODID:-//Diggers Services Club - ECPv6.15.20//NONSGML v1.0//EN
CALSCALE:GREGORIAN
METHOD:PUBLISH
X-ORIGINAL-URL:https://www.diggersservicesclub.com.au
X-WR-CALDESC:Events for Diggers Services Club
REFRESH-INTERVAL;VALUE=DURATION:PT1H
X-Robots-Tag:noindex
X-PUBLISHED-TTL:PT1H
BEGIN:VTIMEZONE
TZID:Australia/Brisbane
BEGIN:STANDARD
TZOFFSETFROM:+1000
TZOFFSETTO:+1000
TZNAME:AEST
DTSTART:20260101T000000
END:STANDARD
END:VTIMEZONE
BEGIN:VEVENT
DTSTART;TZID=Australia/Brisbane:20270717T100000
DTEND;TZID=Australia/Brisbane:20270717T130000
DTSTAMP:20260424T054330
CREATED:20250303T183006Z
LAST-MODIFIED:20250710T034919Z
UID:10012841-1815818400-1815829200@www.diggersservicesclub.com.au
SUMMARY:Saturday AM Bingo
DESCRIPTION:Doors open – 10am / Eyes Down – 11am (Paper sales close @ 10.55am)\nJackpot starts @ $1\,000 UNLIMITED CALLS + Bingo Ball Multiplier\nTreble sheet – $200/$250/$300\nBook 10 (Trebles) – $40/$50/$60\nBook 5 (Feature/Full House) – $50/$60/$70
URL:https://www.diggersservicesclub.com.au/event/saturday-am-bingo/2027-07-17/
CATEGORIES:Bingo
ATTACH;FMTTYPE=image/jpeg:https://www.diggersservicesclub.com.au/wp/wp-content/uploads/2025/03/NEW-Sat-AM-Program_page-0001.jpg
END:VEVENT
BEGIN:VEVENT
DTSTART;TZID=Australia/Brisbane:20270717T103000
DTEND;TZID=Australia/Brisbane:20270717T131000
DTSTAMP:20260424T054330
CREATED:20240929T191811Z
LAST-MODIFIED:20240929T191811Z
UID:10007170-1815820200-1815829800@www.diggersservicesclub.com.au
SUMMARY:Weekly Saturday Raffles
DESCRIPTION:Diggers Services Club is the place to be every Saturday! Aside from all the happenings at the club\, you can also take part in our weekly Saturday Raffles. With $650 in cash and prizes\, including four meat trays\, club vouchers\, and cash vouchers\, there’s no better way to spend a Saturday. \nAdditionally\, become a Star VIP Raffle Club member for extra chances to win our Saturday Raffle. It’s free to join\, and your chances of winning increase. \nTickets go on sale at 10:30 am and are drawn at 1.10 pm every Saturday. \nPrizes Drawn in Random order \n\n4x $60 Meat Trays\n2x $50 Coles/Myer Gift Cards\n1x $60 Carton Beer\n$50 Club Voucher (1 x $20 & 1 x $30)\n$50 Cash\n$100 Cash\n$50 Cash\n\n 
URL:https://www.diggersservicesclub.com.au/event/weekly-saturday-raffles-2/2027-07-17/
CATEGORIES:Raffles
ATTACH;FMTTYPE=image/jpeg:https://www.diggersservicesclub.com.au/wp/wp-content/uploads/2021/07/Sat-Raffle_A3_PRINT.jpg
END:VEVENT
BEGIN:VEVENT
DTSTART;TZID=Australia/Brisbane:20270717T120000
DTEND;TZID=Australia/Brisbane:20270717T140000
DTSTAMP:20260424T054330
CREATED:20260202T032358Z
LAST-MODIFIED:20260202T032358Z
UID:10017218-1815825600-1815832800@www.diggersservicesclub.com.au
SUMMARY:Saturday Steak & Pint - Bistro Special
DESCRIPTION:200g Rump Steak & Pint for ONLY $15 \nServed w/ chips & gravy. \nLunch time Special ONLY.
URL:https://www.diggersservicesclub.com.au/event/saturday-steak-pint-bistro-special/2027-07-17/
ATTACH;FMTTYPE=image/png:https://www.diggersservicesclub.com.au/wp/wp-content/uploads/2025/11/A3.png
END:VEVENT
BEGIN:VEVENT
DTSTART;TZID=Australia/Brisbane:20270717T173000
DTEND;TZID=Australia/Brisbane:20270717T203000
DTSTAMP:20260424T054330
CREATED:20250303T183210Z
LAST-MODIFIED:20250710T034931Z
UID:10013102-1815845400-1815856200@www.diggersservicesclub.com.au
SUMMARY:Saturday PM Bingo
DESCRIPTION:Doors open – 5.30pm / Eyes Down – 7pm (Paper sales close @ 6.55pm)\nJackpot starts @ $1500 UNLIMITED CALLS\nTreble sheet – $200/$300/$500\nBook 10 (Feature/Full House) – $50/$60/$70\nBook 5 (Trebles) – $50/$70/$100
URL:https://www.diggersservicesclub.com.au/event/saturday-pm-bingo/2027-07-17/
CATEGORIES:Bingo
ATTACH;FMTTYPE=image/jpeg:https://www.diggersservicesclub.com.au/wp/wp-content/uploads/2025/03/NEW-Sat-PM-Program_page-0001.jpg
END:VEVENT
BEGIN:VEVENT
DTSTART;TZID=Australia/Brisbane:20270718T120000
DTEND;TZID=Australia/Brisbane:20270718T150000
DTSTAMP:20260424T054330
CREATED:20250619T002918Z
LAST-MODIFIED:20251119T220606Z
UID:10014973-1815912000-1815922800@www.diggersservicesclub.com.au
SUMMARY:Sunday Bingo
DESCRIPTION:Sunday 12pm – 3pm\nTicket Sales 12pm\nEyes Down 1pm\nOver $4k cash to be won\n$1.5K UNLIMITED JACKPOT!
URL:https://www.diggersservicesclub.com.au/event/sunday-bingo-2/2027-07-18/
CATEGORIES:Food & DIning
ATTACH;FMTTYPE=image/jpeg:https://www.diggersservicesclub.com.au/wp/wp-content/uploads/2025/06/NEW-Sun-Program_page-0001.jpg
END:VEVENT
BEGIN:VEVENT
DTSTART;TZID=Australia/Brisbane:20270719T100000
DTEND;TZID=Australia/Brisbane:20270719T130000
DTSTAMP:20260424T054330
CREATED:20250303T181740Z
LAST-MODIFIED:20250303T181740Z
UID:10010492-1815991200-1816002000@www.diggersservicesclub.com.au
SUMMARY:Monday Bingo
DESCRIPTION:Doors open – 10am / Eyes Down – 11am\nPAPER ONLY SESSION\nJackpot starts @ $1000 in 45 calls (+1 call & $100 each week unclaimed)\nTreble sheet – $100/$100/$100\nBook 10 (Feature/Full House) – $20/$30/$40\nBook 5 (Trebles) – $40/$40/$40
URL:https://www.diggersservicesclub.com.au/event/monday-bingo/2027-07-19/
CATEGORIES:Bingo
ATTACH;FMTTYPE=image/jpeg:https://www.diggersservicesclub.com.au/wp/wp-content/uploads/2025/03/NEW-Monday-Program_page-0001.jpg
END:VEVENT
BEGIN:VEVENT
DTSTART;TZID=Australia/Brisbane:20270720T100000
DTEND;TZID=Australia/Brisbane:20270720T130000
DTSTAMP:20260424T054330
CREATED:20250710T035034Z
LAST-MODIFIED:20250710T035034Z
UID:10015850-1816077600-1816088400@www.diggersservicesclub.com.au
SUMMARY:Tuesday AM Bingo
DESCRIPTION:Doors open – 10am / Eyes down – 11am (paper sales close @10.55am)\nJackpot starts @ $3\,500 in 45 calls (+1 call each week unclaimed) $500 consolation\n$750 Treble sheet – $200/$250/$300\nBook 10 (Feature/Full House) – $40/$50/$60\nBook 5 (Trebles) – $50/$70/$100
URL:https://www.diggersservicesclub.com.au/event/tuesday-am-bingo/2027-07-20/
CATEGORIES:Bingo
ATTACH;FMTTYPE=image/jpeg:https://www.diggersservicesclub.com.au/wp/wp-content/uploads/2025/07/tuesday-bingo_A3_PRINT.jpg
END:VEVENT
BEGIN:VEVENT
DTSTART;TZID=Australia/Brisbane:20270721T100000
DTEND;TZID=Australia/Brisbane:20270721T130000
DTSTAMP:20260424T054330
CREATED:20251106T004951Z
LAST-MODIFIED:20251106T004951Z
UID:10016218-1816164000-1816174800@www.diggersservicesclub.com.au
SUMMARY:Wednesday AM Bingo
DESCRIPTION:Doors open – 10am / Eyes Down – 11am (Paper sales close @ 10.55am)\nJackpot starts @ $2\,000 in 45 calls (+1 call each week unclaimed)\nTreble sheet – $100/$100/$100\nBook 10 (Trebles) – $40/$50/$60\nBook 5 (Feature/Full House) – $40/$50/$60
URL:https://www.diggersservicesclub.com.au/event/wednesday-am-bingo/2027-07-21/
ATTACH;FMTTYPE=image/jpeg:https://www.diggersservicesclub.com.au/wp/wp-content/uploads/2025/03/NEW-Wednesday-Program_page-0001-Copy.jpg
END:VEVENT
BEGIN:VEVENT
DTSTART;TZID=Australia/Brisbane:20270722T100000
DTEND;TZID=Australia/Brisbane:20270722T130000
DTSTAMP:20260424T054330
CREATED:20251106T005315Z
LAST-MODIFIED:20251106T005315Z
UID:10016480-1816250400-1816261200@www.diggersservicesclub.com.au
SUMMARY:Thursday AM Bingo
DESCRIPTION:Doors open – 10am / Eyes Down – 11am (Paper sales close @ 10.55pm)\nJackpot – $1\,000 UNLIMITED\nTreble sheet – $100/$150/$200\nBook 10 (Trebles) – $20/$30/$40\nBook 5 (Feature/Full House) – $40/$60/$70
URL:https://www.diggersservicesclub.com.au/event/thursday-am-bingo-2/2027-07-22/
ATTACH;FMTTYPE=image/jpeg:https://www.diggersservicesclub.com.au/wp/wp-content/uploads/2025/03/NEW-Thurs-AM-Program_page-0001.jpg
END:VEVENT
BEGIN:VEVENT
DTSTART;TZID=Australia/Brisbane:20270722T180000
DTEND;TZID=Australia/Brisbane:20270722T210000
DTSTAMP:20260424T054330
CREATED:20250303T182627Z
LAST-MODIFIED:20250303T182746Z
UID:10012059-1816279200-1816290000@www.diggersservicesclub.com.au
SUMMARY:Thursday PM Bingo
DESCRIPTION:Doors open – 6pm / Eyes Down – 7pm (Paper sales close @ 6.55pm)\nJackpot starts @ $1500 in 55 calls (+1 call & $100 each week unclaimed)\nTreble sheet – $200/$250/$300\nBook 10 (Feature/Full House) – $50/$60/$70\nBook 5 (Trebles) – $40/$60/$100
URL:https://www.diggersservicesclub.com.au/event/thursday-pm-bingo/2027-07-22/
CATEGORIES:Bingo
ATTACH;FMTTYPE=image/jpeg:https://www.diggersservicesclub.com.au/wp/wp-content/uploads/2025/03/NEW-Thurs-PM-Program_page-0001.jpg
END:VEVENT
BEGIN:VEVENT
DTSTART;TZID=Australia/Brisbane:20270723T100000
DTEND;TZID=Australia/Brisbane:20270723T130000
DTSTAMP:20260424T054330
CREATED:20250303T182721Z
LAST-MODIFIED:20250303T182721Z
UID:10011798-1816336800-1816347600@www.diggersservicesclub.com.au
SUMMARY:Friday AM Bingo
DESCRIPTION:Doors open – 10am / Eyes Down – 11am (Paper sales close @ 10.55am)\nHALF PRICE & SHORTER SESSION\nJackpot starts @ $1000 in 45 calls (+1 call each week unclaimed)\nTreble sheet – $100/$150/$200\nBook 10 (Trebles) – $20/$30/$40
URL:https://www.diggersservicesclub.com.au/event/friday-am-bingo/2027-07-23/
CATEGORIES:Bingo
ATTACH;FMTTYPE=image/jpeg:https://www.diggersservicesclub.com.au/wp/wp-content/uploads/2025/03/NEW-Fri-AM-Program_page-0001.jpg
END:VEVENT
BEGIN:VEVENT
DTSTART;TZID=Australia/Brisbane:20270723T140000
DTEND;TZID=Australia/Brisbane:20270723T173000
DTSTAMP:20260424T054330
CREATED:20260121T054951Z
LAST-MODIFIED:20260121T054951Z
UID:10016960-1816351200-1816363800@www.diggersservicesclub.com.au
SUMMARY:Friday Arvo Feed - Bistro Special
DESCRIPTION:Beef Burger \nor \nSouthern Fried Chicken Burger \nw/Chips & a Pint \nONLY $7.00
URL:https://www.diggersservicesclub.com.au/event/friday-arvo-feed-bistro-special/2027-07-23/
ATTACH;FMTTYPE=image/jpeg:https://www.diggersservicesclub.com.au/wp/wp-content/uploads/2026/01/FridayArvoFeed_JAN26_A3_PRINT_NEW-scaled.jpg
END:VEVENT
BEGIN:VEVENT
DTSTART;TZID=Australia/Brisbane:20270723T173000
DTEND;TZID=Australia/Brisbane:20270723T203000
DTSTAMP:20260424T054330
CREATED:20250303T182908Z
LAST-MODIFIED:20250303T182908Z
UID:10012320-1816363800-1816374600@www.diggersservicesclub.com.au
SUMMARY:Friday PM Bingo
DESCRIPTION:Doors open – 5.30pm / Eyes Down – 7pm (Paper sales close @ 6.55pm)\nJackpot starts @ $2000 in 50 calls (+1 call & $250 each week unclaimed)\nTreble sheet – $100/$200/$300\nBook 10 (Feature/Full House) – $50/$100/$150\nBook 5 (Trebles) – $50/$100/$150
URL:https://www.diggersservicesclub.com.au/event/friday-pm-bingo/2027-07-23/
CATEGORIES:Bingo
ATTACH;FMTTYPE=image/jpeg:https://www.diggersservicesclub.com.au/wp/wp-content/uploads/2025/03/NEW-Fri-PM-Program_page-0001.jpg
END:VEVENT
BEGIN:VEVENT
DTSTART;TZID=Australia/Brisbane:20270724T100000
DTEND;TZID=Australia/Brisbane:20270724T130000
DTSTAMP:20260424T054330
CREATED:20250303T183006Z
LAST-MODIFIED:20250710T034919Z
UID:10012842-1816423200-1816434000@www.diggersservicesclub.com.au
SUMMARY:Saturday AM Bingo
DESCRIPTION:Doors open – 10am / Eyes Down – 11am (Paper sales close @ 10.55am)\nJackpot starts @ $1\,000 UNLIMITED CALLS + Bingo Ball Multiplier\nTreble sheet – $200/$250/$300\nBook 10 (Trebles) – $40/$50/$60\nBook 5 (Feature/Full House) – $50/$60/$70
URL:https://www.diggersservicesclub.com.au/event/saturday-am-bingo/2027-07-24/
CATEGORIES:Bingo
ATTACH;FMTTYPE=image/jpeg:https://www.diggersservicesclub.com.au/wp/wp-content/uploads/2025/03/NEW-Sat-AM-Program_page-0001.jpg
END:VEVENT
BEGIN:VEVENT
DTSTART;TZID=Australia/Brisbane:20270724T103000
DTEND;TZID=Australia/Brisbane:20270724T131000
DTSTAMP:20260424T054330
CREATED:20240929T191811Z
LAST-MODIFIED:20240929T191811Z
UID:10007171-1816425000-1816434600@www.diggersservicesclub.com.au
SUMMARY:Weekly Saturday Raffles
DESCRIPTION:Diggers Services Club is the place to be every Saturday! Aside from all the happenings at the club\, you can also take part in our weekly Saturday Raffles. With $650 in cash and prizes\, including four meat trays\, club vouchers\, and cash vouchers\, there’s no better way to spend a Saturday. \nAdditionally\, become a Star VIP Raffle Club member for extra chances to win our Saturday Raffle. It’s free to join\, and your chances of winning increase. \nTickets go on sale at 10:30 am and are drawn at 1.10 pm every Saturday. \nPrizes Drawn in Random order \n\n4x $60 Meat Trays\n2x $50 Coles/Myer Gift Cards\n1x $60 Carton Beer\n$50 Club Voucher (1 x $20 & 1 x $30)\n$50 Cash\n$100 Cash\n$50 Cash\n\n 
URL:https://www.diggersservicesclub.com.au/event/weekly-saturday-raffles-2/2027-07-24/
CATEGORIES:Raffles
ATTACH;FMTTYPE=image/jpeg:https://www.diggersservicesclub.com.au/wp/wp-content/uploads/2021/07/Sat-Raffle_A3_PRINT.jpg
END:VEVENT
BEGIN:VEVENT
DTSTART;TZID=Australia/Brisbane:20270724T120000
DTEND;TZID=Australia/Brisbane:20270724T140000
DTSTAMP:20260424T054330
CREATED:20260202T032358Z
LAST-MODIFIED:20260202T032358Z
UID:10017219-1816430400-1816437600@www.diggersservicesclub.com.au
SUMMARY:Saturday Steak & Pint - Bistro Special
DESCRIPTION:200g Rump Steak & Pint for ONLY $15 \nServed w/ chips & gravy. \nLunch time Special ONLY.
URL:https://www.diggersservicesclub.com.au/event/saturday-steak-pint-bistro-special/2027-07-24/
ATTACH;FMTTYPE=image/png:https://www.diggersservicesclub.com.au/wp/wp-content/uploads/2025/11/A3.png
END:VEVENT
BEGIN:VEVENT
DTSTART;TZID=Australia/Brisbane:20270724T173000
DTEND;TZID=Australia/Brisbane:20270724T203000
DTSTAMP:20260424T054330
CREATED:20250303T183210Z
LAST-MODIFIED:20250710T034931Z
UID:10013103-1816450200-1816461000@www.diggersservicesclub.com.au
SUMMARY:Saturday PM Bingo
DESCRIPTION:Doors open – 5.30pm / Eyes Down – 7pm (Paper sales close @ 6.55pm)\nJackpot starts @ $1500 UNLIMITED CALLS\nTreble sheet – $200/$300/$500\nBook 10 (Feature/Full House) – $50/$60/$70\nBook 5 (Trebles) – $50/$70/$100
URL:https://www.diggersservicesclub.com.au/event/saturday-pm-bingo/2027-07-24/
CATEGORIES:Bingo
ATTACH;FMTTYPE=image/jpeg:https://www.diggersservicesclub.com.au/wp/wp-content/uploads/2025/03/NEW-Sat-PM-Program_page-0001.jpg
END:VEVENT
BEGIN:VEVENT
DTSTART;TZID=Australia/Brisbane:20270725T120000
DTEND;TZID=Australia/Brisbane:20270725T150000
DTSTAMP:20260424T054330
CREATED:20250619T002918Z
LAST-MODIFIED:20251119T220606Z
UID:10014974-1816516800-1816527600@www.diggersservicesclub.com.au
SUMMARY:Sunday Bingo
DESCRIPTION:Sunday 12pm – 3pm\nTicket Sales 12pm\nEyes Down 1pm\nOver $4k cash to be won\n$1.5K UNLIMITED JACKPOT!
URL:https://www.diggersservicesclub.com.au/event/sunday-bingo-2/2027-07-25/
CATEGORIES:Food & DIning
ATTACH;FMTTYPE=image/jpeg:https://www.diggersservicesclub.com.au/wp/wp-content/uploads/2025/06/NEW-Sun-Program_page-0001.jpg
END:VEVENT
BEGIN:VEVENT
DTSTART;TZID=Australia/Brisbane:20270726T100000
DTEND;TZID=Australia/Brisbane:20270726T130000
DTSTAMP:20260424T054330
CREATED:20250303T181740Z
LAST-MODIFIED:20250303T181740Z
UID:10010493-1816596000-1816606800@www.diggersservicesclub.com.au
SUMMARY:Monday Bingo
DESCRIPTION:Doors open – 10am / Eyes Down – 11am\nPAPER ONLY SESSION\nJackpot starts @ $1000 in 45 calls (+1 call & $100 each week unclaimed)\nTreble sheet – $100/$100/$100\nBook 10 (Feature/Full House) – $20/$30/$40\nBook 5 (Trebles) – $40/$40/$40
URL:https://www.diggersservicesclub.com.au/event/monday-bingo/2027-07-26/
CATEGORIES:Bingo
ATTACH;FMTTYPE=image/jpeg:https://www.diggersservicesclub.com.au/wp/wp-content/uploads/2025/03/NEW-Monday-Program_page-0001.jpg
END:VEVENT
BEGIN:VEVENT
DTSTART;TZID=Australia/Brisbane:20270727T100000
DTEND;TZID=Australia/Brisbane:20270727T130000
DTSTAMP:20260424T054330
CREATED:20250710T035034Z
LAST-MODIFIED:20250710T035034Z
UID:10015851-1816682400-1816693200@www.diggersservicesclub.com.au
SUMMARY:Tuesday AM Bingo
DESCRIPTION:Doors open – 10am / Eyes down – 11am (paper sales close @10.55am)\nJackpot starts @ $3\,500 in 45 calls (+1 call each week unclaimed) $500 consolation\n$750 Treble sheet – $200/$250/$300\nBook 10 (Feature/Full House) – $40/$50/$60\nBook 5 (Trebles) – $50/$70/$100
URL:https://www.diggersservicesclub.com.au/event/tuesday-am-bingo/2027-07-27/
CATEGORIES:Bingo
ATTACH;FMTTYPE=image/jpeg:https://www.diggersservicesclub.com.au/wp/wp-content/uploads/2025/07/tuesday-bingo_A3_PRINT.jpg
END:VEVENT
BEGIN:VEVENT
DTSTART;TZID=Australia/Brisbane:20270728T100000
DTEND;TZID=Australia/Brisbane:20270728T130000
DTSTAMP:20260424T054330
CREATED:20251106T004951Z
LAST-MODIFIED:20251106T004951Z
UID:10016219-1816768800-1816779600@www.diggersservicesclub.com.au
SUMMARY:Wednesday AM Bingo
DESCRIPTION:Doors open – 10am / Eyes Down – 11am (Paper sales close @ 10.55am)\nJackpot starts @ $2\,000 in 45 calls (+1 call each week unclaimed)\nTreble sheet – $100/$100/$100\nBook 10 (Trebles) – $40/$50/$60\nBook 5 (Feature/Full House) – $40/$50/$60
URL:https://www.diggersservicesclub.com.au/event/wednesday-am-bingo/2027-07-28/
ATTACH;FMTTYPE=image/jpeg:https://www.diggersservicesclub.com.au/wp/wp-content/uploads/2025/03/NEW-Wednesday-Program_page-0001-Copy.jpg
END:VEVENT
BEGIN:VEVENT
DTSTART;TZID=Australia/Brisbane:20270729T100000
DTEND;TZID=Australia/Brisbane:20270729T130000
DTSTAMP:20260424T054330
CREATED:20251106T005315Z
LAST-MODIFIED:20251106T005315Z
UID:10016481-1816855200-1816866000@www.diggersservicesclub.com.au
SUMMARY:Thursday AM Bingo
DESCRIPTION:Doors open – 10am / Eyes Down – 11am (Paper sales close @ 10.55pm)\nJackpot – $1\,000 UNLIMITED\nTreble sheet – $100/$150/$200\nBook 10 (Trebles) – $20/$30/$40\nBook 5 (Feature/Full House) – $40/$60/$70
URL:https://www.diggersservicesclub.com.au/event/thursday-am-bingo-2/2027-07-29/
ATTACH;FMTTYPE=image/jpeg:https://www.diggersservicesclub.com.au/wp/wp-content/uploads/2025/03/NEW-Thurs-AM-Program_page-0001.jpg
END:VEVENT
BEGIN:VEVENT
DTSTART;TZID=Australia/Brisbane:20270729T180000
DTEND;TZID=Australia/Brisbane:20270729T210000
DTSTAMP:20260424T054330
CREATED:20250303T182627Z
LAST-MODIFIED:20250303T182746Z
UID:10012060-1816884000-1816894800@www.diggersservicesclub.com.au
SUMMARY:Thursday PM Bingo
DESCRIPTION:Doors open – 6pm / Eyes Down – 7pm (Paper sales close @ 6.55pm)\nJackpot starts @ $1500 in 55 calls (+1 call & $100 each week unclaimed)\nTreble sheet – $200/$250/$300\nBook 10 (Feature/Full House) – $50/$60/$70\nBook 5 (Trebles) – $40/$60/$100
URL:https://www.diggersservicesclub.com.au/event/thursday-pm-bingo/2027-07-29/
CATEGORIES:Bingo
ATTACH;FMTTYPE=image/jpeg:https://www.diggersservicesclub.com.au/wp/wp-content/uploads/2025/03/NEW-Thurs-PM-Program_page-0001.jpg
END:VEVENT
BEGIN:VEVENT
DTSTART;TZID=Australia/Brisbane:20270730T100000
DTEND;TZID=Australia/Brisbane:20270730T130000
DTSTAMP:20260424T054330
CREATED:20250303T182721Z
LAST-MODIFIED:20250303T182721Z
UID:10011799-1816941600-1816952400@www.diggersservicesclub.com.au
SUMMARY:Friday AM Bingo
DESCRIPTION:Doors open – 10am / Eyes Down – 11am (Paper sales close @ 10.55am)\nHALF PRICE & SHORTER SESSION\nJackpot starts @ $1000 in 45 calls (+1 call each week unclaimed)\nTreble sheet – $100/$150/$200\nBook 10 (Trebles) – $20/$30/$40
URL:https://www.diggersservicesclub.com.au/event/friday-am-bingo/2027-07-30/
CATEGORIES:Bingo
ATTACH;FMTTYPE=image/jpeg:https://www.diggersservicesclub.com.au/wp/wp-content/uploads/2025/03/NEW-Fri-AM-Program_page-0001.jpg
END:VEVENT
BEGIN:VEVENT
DTSTART;TZID=Australia/Brisbane:20270730T140000
DTEND;TZID=Australia/Brisbane:20270730T173000
DTSTAMP:20260424T054330
CREATED:20260121T054951Z
LAST-MODIFIED:20260121T054951Z
UID:10016961-1816956000-1816968600@www.diggersservicesclub.com.au
SUMMARY:Friday Arvo Feed - Bistro Special
DESCRIPTION:Beef Burger \nor \nSouthern Fried Chicken Burger \nw/Chips & a Pint \nONLY $7.00
URL:https://www.diggersservicesclub.com.au/event/friday-arvo-feed-bistro-special/2027-07-30/
ATTACH;FMTTYPE=image/jpeg:https://www.diggersservicesclub.com.au/wp/wp-content/uploads/2026/01/FridayArvoFeed_JAN26_A3_PRINT_NEW-scaled.jpg
END:VEVENT
BEGIN:VEVENT
DTSTART;TZID=Australia/Brisbane:20270730T173000
DTEND;TZID=Australia/Brisbane:20270730T203000
DTSTAMP:20260424T054330
CREATED:20250303T182908Z
LAST-MODIFIED:20250303T182908Z
UID:10012321-1816968600-1816979400@www.diggersservicesclub.com.au
SUMMARY:Friday PM Bingo
DESCRIPTION:Doors open – 5.30pm / Eyes Down – 7pm (Paper sales close @ 6.55pm)\nJackpot starts @ $2000 in 50 calls (+1 call & $250 each week unclaimed)\nTreble sheet – $100/$200/$300\nBook 10 (Feature/Full House) – $50/$100/$150\nBook 5 (Trebles) – $50/$100/$150
URL:https://www.diggersservicesclub.com.au/event/friday-pm-bingo/2027-07-30/
CATEGORIES:Bingo
ATTACH;FMTTYPE=image/jpeg:https://www.diggersservicesclub.com.au/wp/wp-content/uploads/2025/03/NEW-Fri-PM-Program_page-0001.jpg
END:VEVENT
BEGIN:VEVENT
DTSTART;TZID=Australia/Brisbane:20270731T100000
DTEND;TZID=Australia/Brisbane:20270731T130000
DTSTAMP:20260424T054330
CREATED:20250303T183006Z
LAST-MODIFIED:20250710T034919Z
UID:10012843-1817028000-1817038800@www.diggersservicesclub.com.au
SUMMARY:Saturday AM Bingo
DESCRIPTION:Doors open – 10am / Eyes Down – 11am (Paper sales close @ 10.55am)\nJackpot starts @ $1\,000 UNLIMITED CALLS + Bingo Ball Multiplier\nTreble sheet – $200/$250/$300\nBook 10 (Trebles) – $40/$50/$60\nBook 5 (Feature/Full House) – $50/$60/$70
URL:https://www.diggersservicesclub.com.au/event/saturday-am-bingo/2027-07-31/
CATEGORIES:Bingo
ATTACH;FMTTYPE=image/jpeg:https://www.diggersservicesclub.com.au/wp/wp-content/uploads/2025/03/NEW-Sat-AM-Program_page-0001.jpg
END:VEVENT
BEGIN:VEVENT
DTSTART;TZID=Australia/Brisbane:20270731T103000
DTEND;TZID=Australia/Brisbane:20270731T131000
DTSTAMP:20260424T054330
CREATED:20240929T191811Z
LAST-MODIFIED:20240929T191811Z
UID:10007172-1817029800-1817039400@www.diggersservicesclub.com.au
SUMMARY:Weekly Saturday Raffles
DESCRIPTION:Diggers Services Club is the place to be every Saturday! Aside from all the happenings at the club\, you can also take part in our weekly Saturday Raffles. With $650 in cash and prizes\, including four meat trays\, club vouchers\, and cash vouchers\, there’s no better way to spend a Saturday. \nAdditionally\, become a Star VIP Raffle Club member for extra chances to win our Saturday Raffle. It’s free to join\, and your chances of winning increase. \nTickets go on sale at 10:30 am and are drawn at 1.10 pm every Saturday. \nPrizes Drawn in Random order \n\n4x $60 Meat Trays\n2x $50 Coles/Myer Gift Cards\n1x $60 Carton Beer\n$50 Club Voucher (1 x $20 & 1 x $30)\n$50 Cash\n$100 Cash\n$50 Cash\n\n 
URL:https://www.diggersservicesclub.com.au/event/weekly-saturday-raffles-2/2027-07-31/
CATEGORIES:Raffles
ATTACH;FMTTYPE=image/jpeg:https://www.diggersservicesclub.com.au/wp/wp-content/uploads/2021/07/Sat-Raffle_A3_PRINT.jpg
END:VEVENT
BEGIN:VEVENT
DTSTART;TZID=Australia/Brisbane:20270731T120000
DTEND;TZID=Australia/Brisbane:20270731T140000
DTSTAMP:20260424T054330
CREATED:20260202T032358Z
LAST-MODIFIED:20260202T032358Z
UID:10017220-1817035200-1817042400@www.diggersservicesclub.com.au
SUMMARY:Saturday Steak & Pint - Bistro Special
DESCRIPTION:200g Rump Steak & Pint for ONLY $15 \nServed w/ chips & gravy. \nLunch time Special ONLY.
URL:https://www.diggersservicesclub.com.au/event/saturday-steak-pint-bistro-special/2027-07-31/
ATTACH;FMTTYPE=image/png:https://www.diggersservicesclub.com.au/wp/wp-content/uploads/2025/11/A3.png
END:VEVENT
BEGIN:VEVENT
DTSTART;TZID=Australia/Brisbane:20270731T140000
DTEND;TZID=Australia/Brisbane:20270731T213000
DTSTAMP:20260424T054330
CREATED:20251224T030649Z
LAST-MODIFIED:20251224T030649Z
UID:10016716-1817042400-1817069400@www.diggersservicesclub.com.au
SUMMARY:Birthday Blitz
DESCRIPTION:Collect your Birthday Scratchie & Win and instant prize! \nSecond Chance Draw @ 9.30pm\, win up to $100 CASH \nMust be here to win!
URL:https://www.diggersservicesclub.com.au/event/birthday-blitz/2027-07-31/
ATTACH;FMTTYPE=image/jpeg:https://www.diggersservicesclub.com.au/wp/wp-content/uploads/2025/12/DIGGERS-Birthday-Blitz-A3-POSTER_page-0001.jpg
END:VEVENT
END:VCALENDAR