BEGIN:VCALENDAR
VERSION:2.0
PRODID:-//Diggers Services Club - ECPv6.15.20//NONSGML v1.0//EN
CALSCALE:GREGORIAN
METHOD:PUBLISH
X-WR-CALNAME:Diggers Services Club
X-ORIGINAL-URL:https://www.diggersservicesclub.com.au
X-WR-CALDESC:Events for Diggers Services Club
REFRESH-INTERVAL;VALUE=DURATION:PT1H
X-Robots-Tag:noindex
X-PUBLISHED-TTL:PT1H
BEGIN:VTIMEZONE
TZID:Australia/Brisbane
BEGIN:STANDARD
TZOFFSETFROM:+1000
TZOFFSETTO:+1000
TZNAME:AEST
DTSTART:20250101T000000
END:STANDARD
END:VTIMEZONE
BEGIN:VEVENT
DTSTART;TZID=Australia/Brisbane:20260924T100000
DTEND;TZID=Australia/Brisbane:20260924T130000
DTSTAMP:20260420T125506
CREATED:20251106T005315Z
LAST-MODIFIED:20251106T005315Z
UID:10016437-1790244000-1790254800@www.diggersservicesclub.com.au
SUMMARY:Thursday AM Bingo
DESCRIPTION:Doors open – 10am / Eyes Down – 11am (Paper sales close @ 10.55pm)\nJackpot – $1\,000 UNLIMITED\nTreble sheet – $100/$150/$200\nBook 10 (Trebles) – $20/$30/$40\nBook 5 (Feature/Full House) – $40/$60/$70
URL:https://www.diggersservicesclub.com.au/event/thursday-am-bingo-2/2026-09-24/
ATTACH;FMTTYPE=image/jpeg:https://www.diggersservicesclub.com.au/wp/wp-content/uploads/2025/03/NEW-Thurs-AM-Program_page-0001.jpg
END:VEVENT
BEGIN:VEVENT
DTSTART;TZID=Australia/Brisbane:20260924T180000
DTEND;TZID=Australia/Brisbane:20260924T210000
DTSTAMP:20260420T125506
CREATED:20250303T182627Z
LAST-MODIFIED:20250303T182746Z
UID:10012016-1790272800-1790283600@www.diggersservicesclub.com.au
SUMMARY:Thursday PM Bingo
DESCRIPTION:Doors open – 6pm / Eyes Down – 7pm (Paper sales close @ 6.55pm)\nJackpot starts @ $1500 in 55 calls (+1 call & $100 each week unclaimed)\nTreble sheet – $200/$250/$300\nBook 10 (Feature/Full House) – $50/$60/$70\nBook 5 (Trebles) – $40/$60/$100
URL:https://www.diggersservicesclub.com.au/event/thursday-pm-bingo/2026-09-24/
CATEGORIES:Bingo
ATTACH;FMTTYPE=image/jpeg:https://www.diggersservicesclub.com.au/wp/wp-content/uploads/2025/03/NEW-Thurs-PM-Program_page-0001.jpg
END:VEVENT
BEGIN:VEVENT
DTSTART;TZID=Australia/Brisbane:20260925T100000
DTEND;TZID=Australia/Brisbane:20260925T130000
DTSTAMP:20260420T125506
CREATED:20250303T182721Z
LAST-MODIFIED:20250303T182721Z
UID:10011755-1790330400-1790341200@www.diggersservicesclub.com.au
SUMMARY:Friday AM Bingo
DESCRIPTION:Doors open – 10am / Eyes Down – 11am (Paper sales close @ 10.55am)\nHALF PRICE & SHORTER SESSION\nJackpot starts @ $1000 in 45 calls (+1 call each week unclaimed)\nTreble sheet – $100/$150/$200\nBook 10 (Trebles) – $20/$30/$40
URL:https://www.diggersservicesclub.com.au/event/friday-am-bingo/2026-09-25/
CATEGORIES:Bingo
ATTACH;FMTTYPE=image/jpeg:https://www.diggersservicesclub.com.au/wp/wp-content/uploads/2025/03/NEW-Fri-AM-Program_page-0001.jpg
END:VEVENT
BEGIN:VEVENT
DTSTART;TZID=Australia/Brisbane:20260925T140000
DTEND;TZID=Australia/Brisbane:20260925T173000
DTSTAMP:20260420T125506
CREATED:20260121T054951Z
LAST-MODIFIED:20260121T054951Z
UID:10016917-1790344800-1790357400@www.diggersservicesclub.com.au
SUMMARY:Friday Arvo Feed - Bistro Special
DESCRIPTION:Beef Burger \nor \nSouthern Fried Chicken Burger \nw/Chips & a Pint \nONLY $7.00
URL:https://www.diggersservicesclub.com.au/event/friday-arvo-feed-bistro-special/2026-09-25/
ATTACH;FMTTYPE=image/jpeg:https://www.diggersservicesclub.com.au/wp/wp-content/uploads/2026/01/FridayArvoFeed_JAN26_A3_PRINT_NEW-scaled.jpg
END:VEVENT
BEGIN:VEVENT
DTSTART;TZID=Australia/Brisbane:20260925T173000
DTEND;TZID=Australia/Brisbane:20260925T203000
DTSTAMP:20260420T125506
CREATED:20250303T182908Z
LAST-MODIFIED:20250303T182908Z
UID:10012277-1790357400-1790368200@www.diggersservicesclub.com.au
SUMMARY:Friday PM Bingo
DESCRIPTION:Doors open – 5.30pm / Eyes Down – 7pm (Paper sales close @ 6.55pm)\nJackpot starts @ $2000 in 50 calls (+1 call & $250 each week unclaimed)\nTreble sheet – $100/$200/$300\nBook 10 (Feature/Full House) – $50/$100/$150\nBook 5 (Trebles) – $50/$100/$150
URL:https://www.diggersservicesclub.com.au/event/friday-pm-bingo/2026-09-25/
CATEGORIES:Bingo
ATTACH;FMTTYPE=image/jpeg:https://www.diggersservicesclub.com.au/wp/wp-content/uploads/2025/03/NEW-Fri-PM-Program_page-0001.jpg
END:VEVENT
BEGIN:VEVENT
DTSTART;TZID=Australia/Brisbane:20260926T100000
DTEND;TZID=Australia/Brisbane:20260926T130000
DTSTAMP:20260420T125506
CREATED:20250303T183006Z
LAST-MODIFIED:20250710T034919Z
UID:10012799-1790416800-1790427600@www.diggersservicesclub.com.au
SUMMARY:Saturday AM Bingo
DESCRIPTION:Doors open – 10am / Eyes Down – 11am (Paper sales close @ 10.55am)\nJackpot starts @ $1\,000 UNLIMITED CALLS + Bingo Ball Multiplier\nTreble sheet – $200/$250/$300\nBook 10 (Trebles) – $40/$50/$60\nBook 5 (Feature/Full House) – $50/$60/$70
URL:https://www.diggersservicesclub.com.au/event/saturday-am-bingo/2026-09-26/
CATEGORIES:Bingo
ATTACH;FMTTYPE=image/jpeg:https://www.diggersservicesclub.com.au/wp/wp-content/uploads/2025/03/NEW-Sat-AM-Program_page-0001.jpg
END:VEVENT
BEGIN:VEVENT
DTSTART;TZID=Australia/Brisbane:20260926T103000
DTEND;TZID=Australia/Brisbane:20260926T131000
DTSTAMP:20260420T125506
CREATED:20240929T191811Z
LAST-MODIFIED:20240929T191811Z
UID:10007128-1790418600-1790428200@www.diggersservicesclub.com.au
SUMMARY:Weekly Saturday Raffles
DESCRIPTION:Diggers Services Club is the place to be every Saturday! Aside from all the happenings at the club\, you can also take part in our weekly Saturday Raffles. With $650 in cash and prizes\, including four meat trays\, club vouchers\, and cash vouchers\, there’s no better way to spend a Saturday. \nAdditionally\, become a Star VIP Raffle Club member for extra chances to win our Saturday Raffle. It’s free to join\, and your chances of winning increase. \nTickets go on sale at 10:30 am and are drawn at 1.10 pm every Saturday. \nPrizes Drawn in Random order \n\n4x $60 Meat Trays\n2x $50 Coles/Myer Gift Cards\n1x $60 Carton Beer\n$50 Club Voucher (1 x $20 & 1 x $30)\n$50 Cash\n$100 Cash\n$50 Cash\n\n 
URL:https://www.diggersservicesclub.com.au/event/weekly-saturday-raffles-2/2026-09-26/
CATEGORIES:Raffles
ATTACH;FMTTYPE=image/jpeg:https://www.diggersservicesclub.com.au/wp/wp-content/uploads/2021/07/Sat-Raffle_A3_PRINT.jpg
END:VEVENT
BEGIN:VEVENT
DTSTART;TZID=Australia/Brisbane:20260926T120000
DTEND;TZID=Australia/Brisbane:20260926T140000
DTSTAMP:20260420T125506
CREATED:20260202T032358Z
LAST-MODIFIED:20260202T032358Z
UID:10017176-1790424000-1790431200@www.diggersservicesclub.com.au
SUMMARY:Saturday Steak & Pint - Bistro Special
DESCRIPTION:200g Rump Steak & Pint for ONLY $15 \nServed w/ chips & gravy. \nLunch time Special ONLY.
URL:https://www.diggersservicesclub.com.au/event/saturday-steak-pint-bistro-special/2026-09-26/
ATTACH;FMTTYPE=image/png:https://www.diggersservicesclub.com.au/wp/wp-content/uploads/2025/11/A3.png
END:VEVENT
BEGIN:VEVENT
DTSTART;TZID=Australia/Brisbane:20260926T140000
DTEND;TZID=Australia/Brisbane:20260926T213000
DTSTAMP:20260420T125506
CREATED:20251224T030649Z
LAST-MODIFIED:20251224T030649Z
UID:10016706-1790431200-1790458200@www.diggersservicesclub.com.au
SUMMARY:Birthday Blitz
DESCRIPTION:Collect your Birthday Scratchie & Win and instant prize! \nSecond Chance Draw @ 9.30pm\, win up to $100 CASH \nMust be here to win!
URL:https://www.diggersservicesclub.com.au/event/birthday-blitz/2026-09-26/
ATTACH;FMTTYPE=image/jpeg:https://www.diggersservicesclub.com.au/wp/wp-content/uploads/2025/12/DIGGERS-Birthday-Blitz-A3-POSTER_page-0001.jpg
END:VEVENT
BEGIN:VEVENT
DTSTART;TZID=Australia/Brisbane:20260926T173000
DTEND;TZID=Australia/Brisbane:20260926T203000
DTSTAMP:20260420T125506
CREATED:20250303T183210Z
LAST-MODIFIED:20250710T034931Z
UID:10013060-1790443800-1790454600@www.diggersservicesclub.com.au
SUMMARY:Saturday PM Bingo
DESCRIPTION:Doors open – 5.30pm / Eyes Down – 7pm (Paper sales close @ 6.55pm)\nJackpot starts @ $1500 UNLIMITED CALLS\nTreble sheet – $200/$300/$500\nBook 10 (Feature/Full House) – $50/$60/$70\nBook 5 (Trebles) – $50/$70/$100
URL:https://www.diggersservicesclub.com.au/event/saturday-pm-bingo/2026-09-26/
CATEGORIES:Bingo
ATTACH;FMTTYPE=image/jpeg:https://www.diggersservicesclub.com.au/wp/wp-content/uploads/2025/03/NEW-Sat-PM-Program_page-0001.jpg
END:VEVENT
BEGIN:VEVENT
DTSTART;TZID=Australia/Brisbane:20260927T120000
DTEND;TZID=Australia/Brisbane:20260927T150000
DTSTAMP:20260420T125506
CREATED:20250619T002918Z
LAST-MODIFIED:20251119T220606Z
UID:10014931-1790510400-1790521200@www.diggersservicesclub.com.au
SUMMARY:Sunday Bingo
DESCRIPTION:Sunday 12pm – 3pm\nTicket Sales 12pm\nEyes Down 1pm\nOver $4k cash to be won\n$1.5K UNLIMITED JACKPOT!
URL:https://www.diggersservicesclub.com.au/event/sunday-bingo-2/2026-09-27/
CATEGORIES:Food & DIning
ATTACH;FMTTYPE=image/jpeg:https://www.diggersservicesclub.com.au/wp/wp-content/uploads/2025/06/NEW-Sun-Program_page-0001.jpg
END:VEVENT
BEGIN:VEVENT
DTSTART;TZID=Australia/Brisbane:20260928T100000
DTEND;TZID=Australia/Brisbane:20260928T130000
DTSTAMP:20260420T125506
CREATED:20250303T181740Z
LAST-MODIFIED:20250303T181740Z
UID:10010450-1790589600-1790600400@www.diggersservicesclub.com.au
SUMMARY:Monday Bingo
DESCRIPTION:Doors open – 10am / Eyes Down – 11am\nPAPER ONLY SESSION\nJackpot starts @ $1000 in 45 calls (+1 call & $100 each week unclaimed)\nTreble sheet – $100/$100/$100\nBook 10 (Feature/Full House) – $20/$30/$40\nBook 5 (Trebles) – $40/$40/$40
URL:https://www.diggersservicesclub.com.au/event/monday-bingo/2026-09-28/
CATEGORIES:Bingo
ATTACH;FMTTYPE=image/jpeg:https://www.diggersservicesclub.com.au/wp/wp-content/uploads/2025/03/NEW-Monday-Program_page-0001.jpg
END:VEVENT
BEGIN:VEVENT
DTSTART;TZID=Australia/Brisbane:20260929T100000
DTEND;TZID=Australia/Brisbane:20260929T130000
DTSTAMP:20260420T125506
CREATED:20250710T035034Z
LAST-MODIFIED:20250710T035034Z
UID:10015808-1790676000-1790686800@www.diggersservicesclub.com.au
SUMMARY:Tuesday AM Bingo
DESCRIPTION:Doors open – 10am / Eyes down – 11am (paper sales close @10.55am)\nJackpot starts @ $3\,500 in 45 calls (+1 call each week unclaimed) $500 consolation\n$750 Treble sheet – $200/$250/$300\nBook 10 (Feature/Full House) – $40/$50/$60\nBook 5 (Trebles) – $50/$70/$100
URL:https://www.diggersservicesclub.com.au/event/tuesday-am-bingo/2026-09-29/
CATEGORIES:Bingo
ATTACH;FMTTYPE=image/jpeg:https://www.diggersservicesclub.com.au/wp/wp-content/uploads/2025/07/tuesday-bingo_A3_PRINT.jpg
END:VEVENT
BEGIN:VEVENT
DTSTART;TZID=Australia/Brisbane:20260930T100000
DTEND;TZID=Australia/Brisbane:20260930T130000
DTSTAMP:20260420T125506
CREATED:20251106T004951Z
LAST-MODIFIED:20251106T004951Z
UID:10016176-1790762400-1790773200@www.diggersservicesclub.com.au
SUMMARY:Wednesday AM Bingo
DESCRIPTION:Doors open – 10am / Eyes Down – 11am (Paper sales close @ 10.55am)\nJackpot starts @ $2\,000 in 45 calls (+1 call each week unclaimed)\nTreble sheet – $100/$100/$100\nBook 10 (Trebles) – $40/$50/$60\nBook 5 (Feature/Full House) – $40/$50/$60
URL:https://www.diggersservicesclub.com.au/event/wednesday-am-bingo/2026-09-30/
ATTACH;FMTTYPE=image/jpeg:https://www.diggersservicesclub.com.au/wp/wp-content/uploads/2025/03/NEW-Wednesday-Program_page-0001-Copy.jpg
END:VEVENT
BEGIN:VEVENT
DTSTART;TZID=Australia/Brisbane:20261001T100000
DTEND;TZID=Australia/Brisbane:20261001T130000
DTSTAMP:20260420T125506
CREATED:20251106T005315Z
LAST-MODIFIED:20251106T005315Z
UID:10016438-1790848800-1790859600@www.diggersservicesclub.com.au
SUMMARY:Thursday AM Bingo
DESCRIPTION:Doors open – 10am / Eyes Down – 11am (Paper sales close @ 10.55pm)\nJackpot – $1\,000 UNLIMITED\nTreble sheet – $100/$150/$200\nBook 10 (Trebles) – $20/$30/$40\nBook 5 (Feature/Full House) – $40/$60/$70
URL:https://www.diggersservicesclub.com.au/event/thursday-am-bingo-2/2026-10-01/
ATTACH;FMTTYPE=image/jpeg:https://www.diggersservicesclub.com.au/wp/wp-content/uploads/2025/03/NEW-Thurs-AM-Program_page-0001.jpg
END:VEVENT
BEGIN:VEVENT
DTSTART;TZID=Australia/Brisbane:20261001T180000
DTEND;TZID=Australia/Brisbane:20261001T210000
DTSTAMP:20260420T125506
CREATED:20250303T182627Z
LAST-MODIFIED:20250303T182746Z
UID:10012017-1790877600-1790888400@www.diggersservicesclub.com.au
SUMMARY:Thursday PM Bingo
DESCRIPTION:Doors open – 6pm / Eyes Down – 7pm (Paper sales close @ 6.55pm)\nJackpot starts @ $1500 in 55 calls (+1 call & $100 each week unclaimed)\nTreble sheet – $200/$250/$300\nBook 10 (Feature/Full House) – $50/$60/$70\nBook 5 (Trebles) – $40/$60/$100
URL:https://www.diggersservicesclub.com.au/event/thursday-pm-bingo/2026-10-01/
CATEGORIES:Bingo
ATTACH;FMTTYPE=image/jpeg:https://www.diggersservicesclub.com.au/wp/wp-content/uploads/2025/03/NEW-Thurs-PM-Program_page-0001.jpg
END:VEVENT
BEGIN:VEVENT
DTSTART;TZID=Australia/Brisbane:20261002T100000
DTEND;TZID=Australia/Brisbane:20261002T130000
DTSTAMP:20260420T125506
CREATED:20250303T182721Z
LAST-MODIFIED:20250303T182721Z
UID:10011756-1790935200-1790946000@www.diggersservicesclub.com.au
SUMMARY:Friday AM Bingo
DESCRIPTION:Doors open – 10am / Eyes Down – 11am (Paper sales close @ 10.55am)\nHALF PRICE & SHORTER SESSION\nJackpot starts @ $1000 in 45 calls (+1 call each week unclaimed)\nTreble sheet – $100/$150/$200\nBook 10 (Trebles) – $20/$30/$40
URL:https://www.diggersservicesclub.com.au/event/friday-am-bingo/2026-10-02/
CATEGORIES:Bingo
ATTACH;FMTTYPE=image/jpeg:https://www.diggersservicesclub.com.au/wp/wp-content/uploads/2025/03/NEW-Fri-AM-Program_page-0001.jpg
END:VEVENT
BEGIN:VEVENT
DTSTART;TZID=Australia/Brisbane:20261002T140000
DTEND;TZID=Australia/Brisbane:20261002T173000
DTSTAMP:20260420T125506
CREATED:20260121T054951Z
LAST-MODIFIED:20260121T054951Z
UID:10016918-1790949600-1790962200@www.diggersservicesclub.com.au
SUMMARY:Friday Arvo Feed - Bistro Special
DESCRIPTION:Beef Burger \nor \nSouthern Fried Chicken Burger \nw/Chips & a Pint \nONLY $7.00
URL:https://www.diggersservicesclub.com.au/event/friday-arvo-feed-bistro-special/2026-10-02/
ATTACH;FMTTYPE=image/jpeg:https://www.diggersservicesclub.com.au/wp/wp-content/uploads/2026/01/FridayArvoFeed_JAN26_A3_PRINT_NEW-scaled.jpg
END:VEVENT
BEGIN:VEVENT
DTSTART;TZID=Australia/Brisbane:20261002T173000
DTEND;TZID=Australia/Brisbane:20261002T203000
DTSTAMP:20260420T125506
CREATED:20250303T182908Z
LAST-MODIFIED:20250303T182908Z
UID:10012278-1790962200-1790973000@www.diggersservicesclub.com.au
SUMMARY:Friday PM Bingo
DESCRIPTION:Doors open – 5.30pm / Eyes Down – 7pm (Paper sales close @ 6.55pm)\nJackpot starts @ $2000 in 50 calls (+1 call & $250 each week unclaimed)\nTreble sheet – $100/$200/$300\nBook 10 (Feature/Full House) – $50/$100/$150\nBook 5 (Trebles) – $50/$100/$150
URL:https://www.diggersservicesclub.com.au/event/friday-pm-bingo/2026-10-02/
CATEGORIES:Bingo
ATTACH;FMTTYPE=image/jpeg:https://www.diggersservicesclub.com.au/wp/wp-content/uploads/2025/03/NEW-Fri-PM-Program_page-0001.jpg
END:VEVENT
BEGIN:VEVENT
DTSTART;TZID=Australia/Brisbane:20261003T100000
DTEND;TZID=Australia/Brisbane:20261003T130000
DTSTAMP:20260420T125506
CREATED:20250303T183006Z
LAST-MODIFIED:20250710T034919Z
UID:10012800-1791021600-1791032400@www.diggersservicesclub.com.au
SUMMARY:Saturday AM Bingo
DESCRIPTION:Doors open – 10am / Eyes Down – 11am (Paper sales close @ 10.55am)\nJackpot starts @ $1\,000 UNLIMITED CALLS + Bingo Ball Multiplier\nTreble sheet – $200/$250/$300\nBook 10 (Trebles) – $40/$50/$60\nBook 5 (Feature/Full House) – $50/$60/$70
URL:https://www.diggersservicesclub.com.au/event/saturday-am-bingo/2026-10-03/
CATEGORIES:Bingo
ATTACH;FMTTYPE=image/jpeg:https://www.diggersservicesclub.com.au/wp/wp-content/uploads/2025/03/NEW-Sat-AM-Program_page-0001.jpg
END:VEVENT
BEGIN:VEVENT
DTSTART;TZID=Australia/Brisbane:20261003T103000
DTEND;TZID=Australia/Brisbane:20261003T131000
DTSTAMP:20260420T125506
CREATED:20240929T191811Z
LAST-MODIFIED:20240929T191811Z
UID:10007129-1791023400-1791033000@www.diggersservicesclub.com.au
SUMMARY:Weekly Saturday Raffles
DESCRIPTION:Diggers Services Club is the place to be every Saturday! Aside from all the happenings at the club\, you can also take part in our weekly Saturday Raffles. With $650 in cash and prizes\, including four meat trays\, club vouchers\, and cash vouchers\, there’s no better way to spend a Saturday. \nAdditionally\, become a Star VIP Raffle Club member for extra chances to win our Saturday Raffle. It’s free to join\, and your chances of winning increase. \nTickets go on sale at 10:30 am and are drawn at 1.10 pm every Saturday. \nPrizes Drawn in Random order \n\n4x $60 Meat Trays\n2x $50 Coles/Myer Gift Cards\n1x $60 Carton Beer\n$50 Club Voucher (1 x $20 & 1 x $30)\n$50 Cash\n$100 Cash\n$50 Cash\n\n 
URL:https://www.diggersservicesclub.com.au/event/weekly-saturday-raffles-2/2026-10-03/
CATEGORIES:Raffles
ATTACH;FMTTYPE=image/jpeg:https://www.diggersservicesclub.com.au/wp/wp-content/uploads/2021/07/Sat-Raffle_A3_PRINT.jpg
END:VEVENT
BEGIN:VEVENT
DTSTART;TZID=Australia/Brisbane:20261003T120000
DTEND;TZID=Australia/Brisbane:20261003T140000
DTSTAMP:20260420T125506
CREATED:20260202T032358Z
LAST-MODIFIED:20260202T032358Z
UID:10017177-1791028800-1791036000@www.diggersservicesclub.com.au
SUMMARY:Saturday Steak & Pint - Bistro Special
DESCRIPTION:200g Rump Steak & Pint for ONLY $15 \nServed w/ chips & gravy. \nLunch time Special ONLY.
URL:https://www.diggersservicesclub.com.au/event/saturday-steak-pint-bistro-special/2026-10-03/
ATTACH;FMTTYPE=image/png:https://www.diggersservicesclub.com.au/wp/wp-content/uploads/2025/11/A3.png
END:VEVENT
BEGIN:VEVENT
DTSTART;TZID=Australia/Brisbane:20261003T173000
DTEND;TZID=Australia/Brisbane:20261003T203000
DTSTAMP:20260420T125506
CREATED:20250303T183210Z
LAST-MODIFIED:20250710T034931Z
UID:10013061-1791048600-1791059400@www.diggersservicesclub.com.au
SUMMARY:Saturday PM Bingo
DESCRIPTION:Doors open – 5.30pm / Eyes Down – 7pm (Paper sales close @ 6.55pm)\nJackpot starts @ $1500 UNLIMITED CALLS\nTreble sheet – $200/$300/$500\nBook 10 (Feature/Full House) – $50/$60/$70\nBook 5 (Trebles) – $50/$70/$100
URL:https://www.diggersservicesclub.com.au/event/saturday-pm-bingo/2026-10-03/
CATEGORIES:Bingo
ATTACH;FMTTYPE=image/jpeg:https://www.diggersservicesclub.com.au/wp/wp-content/uploads/2025/03/NEW-Sat-PM-Program_page-0001.jpg
END:VEVENT
BEGIN:VEVENT
DTSTART;TZID=Australia/Brisbane:20261004T120000
DTEND;TZID=Australia/Brisbane:20261004T150000
DTSTAMP:20260420T125506
CREATED:20250619T002918Z
LAST-MODIFIED:20251119T220606Z
UID:10014932-1791115200-1791126000@www.diggersservicesclub.com.au
SUMMARY:Sunday Bingo
DESCRIPTION:Sunday 12pm – 3pm\nTicket Sales 12pm\nEyes Down 1pm\nOver $4k cash to be won\n$1.5K UNLIMITED JACKPOT!
URL:https://www.diggersservicesclub.com.au/event/sunday-bingo-2/2026-10-04/
CATEGORIES:Food & DIning
ATTACH;FMTTYPE=image/jpeg:https://www.diggersservicesclub.com.au/wp/wp-content/uploads/2025/06/NEW-Sun-Program_page-0001.jpg
END:VEVENT
BEGIN:VEVENT
DTSTART;TZID=Australia/Brisbane:20261005T100000
DTEND;TZID=Australia/Brisbane:20261005T130000
DTSTAMP:20260420T125506
CREATED:20250303T181740Z
LAST-MODIFIED:20250303T181740Z
UID:10010451-1791194400-1791205200@www.diggersservicesclub.com.au
SUMMARY:Monday Bingo
DESCRIPTION:Doors open – 10am / Eyes Down – 11am\nPAPER ONLY SESSION\nJackpot starts @ $1000 in 45 calls (+1 call & $100 each week unclaimed)\nTreble sheet – $100/$100/$100\nBook 10 (Feature/Full House) – $20/$30/$40\nBook 5 (Trebles) – $40/$40/$40
URL:https://www.diggersservicesclub.com.au/event/monday-bingo/2026-10-05/
CATEGORIES:Bingo
ATTACH;FMTTYPE=image/jpeg:https://www.diggersservicesclub.com.au/wp/wp-content/uploads/2025/03/NEW-Monday-Program_page-0001.jpg
END:VEVENT
BEGIN:VEVENT
DTSTART;TZID=Australia/Brisbane:20261006T100000
DTEND;TZID=Australia/Brisbane:20261006T130000
DTSTAMP:20260420T125506
CREATED:20250710T035034Z
LAST-MODIFIED:20250710T035034Z
UID:10015809-1791280800-1791291600@www.diggersservicesclub.com.au
SUMMARY:Tuesday AM Bingo
DESCRIPTION:Doors open – 10am / Eyes down – 11am (paper sales close @10.55am)\nJackpot starts @ $3\,500 in 45 calls (+1 call each week unclaimed) $500 consolation\n$750 Treble sheet – $200/$250/$300\nBook 10 (Feature/Full House) – $40/$50/$60\nBook 5 (Trebles) – $50/$70/$100
URL:https://www.diggersservicesclub.com.au/event/tuesday-am-bingo/2026-10-06/
CATEGORIES:Bingo
ATTACH;FMTTYPE=image/jpeg:https://www.diggersservicesclub.com.au/wp/wp-content/uploads/2025/07/tuesday-bingo_A3_PRINT.jpg
END:VEVENT
BEGIN:VEVENT
DTSTART;TZID=Australia/Brisbane:20261007T100000
DTEND;TZID=Australia/Brisbane:20261007T130000
DTSTAMP:20260420T125506
CREATED:20251106T004951Z
LAST-MODIFIED:20251106T004951Z
UID:10016177-1791367200-1791378000@www.diggersservicesclub.com.au
SUMMARY:Wednesday AM Bingo
DESCRIPTION:Doors open – 10am / Eyes Down – 11am (Paper sales close @ 10.55am)\nJackpot starts @ $2\,000 in 45 calls (+1 call each week unclaimed)\nTreble sheet – $100/$100/$100\nBook 10 (Trebles) – $40/$50/$60\nBook 5 (Feature/Full House) – $40/$50/$60
URL:https://www.diggersservicesclub.com.au/event/wednesday-am-bingo/2026-10-07/
ATTACH;FMTTYPE=image/jpeg:https://www.diggersservicesclub.com.au/wp/wp-content/uploads/2025/03/NEW-Wednesday-Program_page-0001-Copy.jpg
END:VEVENT
BEGIN:VEVENT
DTSTART;TZID=Australia/Brisbane:20261008T100000
DTEND;TZID=Australia/Brisbane:20261008T130000
DTSTAMP:20260420T125506
CREATED:20251106T005315Z
LAST-MODIFIED:20251106T005315Z
UID:10016439-1791453600-1791464400@www.diggersservicesclub.com.au
SUMMARY:Thursday AM Bingo
DESCRIPTION:Doors open – 10am / Eyes Down – 11am (Paper sales close @ 10.55pm)\nJackpot – $1\,000 UNLIMITED\nTreble sheet – $100/$150/$200\nBook 10 (Trebles) – $20/$30/$40\nBook 5 (Feature/Full House) – $40/$60/$70
URL:https://www.diggersservicesclub.com.au/event/thursday-am-bingo-2/2026-10-08/
ATTACH;FMTTYPE=image/jpeg:https://www.diggersservicesclub.com.au/wp/wp-content/uploads/2025/03/NEW-Thurs-AM-Program_page-0001.jpg
END:VEVENT
BEGIN:VEVENT
DTSTART;TZID=Australia/Brisbane:20261008T180000
DTEND;TZID=Australia/Brisbane:20261008T210000
DTSTAMP:20260420T125506
CREATED:20250303T182627Z
LAST-MODIFIED:20250303T182746Z
UID:10012018-1791482400-1791493200@www.diggersservicesclub.com.au
SUMMARY:Thursday PM Bingo
DESCRIPTION:Doors open – 6pm / Eyes Down – 7pm (Paper sales close @ 6.55pm)\nJackpot starts @ $1500 in 55 calls (+1 call & $100 each week unclaimed)\nTreble sheet – $200/$250/$300\nBook 10 (Feature/Full House) – $50/$60/$70\nBook 5 (Trebles) – $40/$60/$100
URL:https://www.diggersservicesclub.com.au/event/thursday-pm-bingo/2026-10-08/
CATEGORIES:Bingo
ATTACH;FMTTYPE=image/jpeg:https://www.diggersservicesclub.com.au/wp/wp-content/uploads/2025/03/NEW-Thurs-PM-Program_page-0001.jpg
END:VEVENT
BEGIN:VEVENT
DTSTART;TZID=Australia/Brisbane:20261009T100000
DTEND;TZID=Australia/Brisbane:20261009T130000
DTSTAMP:20260420T125506
CREATED:20250303T182721Z
LAST-MODIFIED:20250303T182721Z
UID:10011757-1791540000-1791550800@www.diggersservicesclub.com.au
SUMMARY:Friday AM Bingo
DESCRIPTION:Doors open – 10am / Eyes Down – 11am (Paper sales close @ 10.55am)\nHALF PRICE & SHORTER SESSION\nJackpot starts @ $1000 in 45 calls (+1 call each week unclaimed)\nTreble sheet – $100/$150/$200\nBook 10 (Trebles) – $20/$30/$40
URL:https://www.diggersservicesclub.com.au/event/friday-am-bingo/2026-10-09/
CATEGORIES:Bingo
ATTACH;FMTTYPE=image/jpeg:https://www.diggersservicesclub.com.au/wp/wp-content/uploads/2025/03/NEW-Fri-AM-Program_page-0001.jpg
END:VEVENT
END:VCALENDAR