BEGIN:VCALENDAR
VERSION:2.0
PRODID:-//Diggers Services Club - ECPv6.15.20//NONSGML v1.0//EN
CALSCALE:GREGORIAN
METHOD:PUBLISH
X-WR-CALNAME:Diggers Services Club
X-ORIGINAL-URL:https://www.diggersservicesclub.com.au
X-WR-CALDESC:Events for Diggers Services Club
REFRESH-INTERVAL;VALUE=DURATION:PT1H
X-Robots-Tag:noindex
X-PUBLISHED-TTL:PT1H
BEGIN:VTIMEZONE
TZID:Australia/Brisbane
BEGIN:STANDARD
TZOFFSETFROM:+1000
TZOFFSETTO:+1000
TZNAME:AEST
DTSTART:20250101T000000
END:STANDARD
END:VTIMEZONE
BEGIN:VEVENT
DTSTART;TZID=Australia/Brisbane:20260127T100000
DTEND;TZID=Australia/Brisbane:20260127T130000
DTSTAMP:20260423T174100
CREATED:20250710T035034Z
LAST-MODIFIED:20250710T035034Z
UID:10015773-1769508000-1769518800@www.diggersservicesclub.com.au
SUMMARY:Tuesday AM Bingo
DESCRIPTION:Doors open – 10am / Eyes down – 11am (paper sales close @10.55am)\nJackpot starts @ $3\,500 in 45 calls (+1 call each week unclaimed) $500 consolation\n$750 Treble sheet – $200/$250/$300\nBook 10 (Feature/Full House) – $40/$50/$60\nBook 5 (Trebles) – $50/$70/$100
URL:https://www.diggersservicesclub.com.au/event/tuesday-am-bingo/2026-01-27/
CATEGORIES:Bingo
ATTACH;FMTTYPE=image/jpeg:https://www.diggersservicesclub.com.au/wp/wp-content/uploads/2025/07/tuesday-bingo_A3_PRINT.jpg
END:VEVENT
BEGIN:VEVENT
DTSTART;TZID=Australia/Brisbane:20260126T123000
DTEND;TZID=Australia/Brisbane:20260126T150000
DTSTAMP:20260423T174100
CREATED:20250619T002328Z
LAST-MODIFIED:20250619T002344Z
UID:10013362-1769430600-1769439600@www.diggersservicesclub.com.au
SUMMARY:Grocery Grab
DESCRIPTION:Mondays & Fridays 12.30pm – 3pm\nWin up to $800 per week on Cash\, Prizes & Groceries!
URL:https://www.diggersservicesclub.com.au/event/grocery-grab/2026-01-26/
CATEGORIES:Gaming
ATTACH;FMTTYPE=image/jpeg:https://www.diggersservicesclub.com.au/wp/wp-content/uploads/2025/06/GroceryGrab_A3_PRINT.jpg
END:VEVENT
BEGIN:VEVENT
DTSTART;TZID=Australia/Brisbane:20260126T100000
DTEND;TZID=Australia/Brisbane:20260126T130000
DTSTAMP:20260423T174100
CREATED:20250303T181740Z
LAST-MODIFIED:20250303T181740Z
UID:10010415-1769421600-1769432400@www.diggersservicesclub.com.au
SUMMARY:Monday Bingo
DESCRIPTION:Doors open – 10am / Eyes Down – 11am\nPAPER ONLY SESSION\nJackpot starts @ $1000 in 45 calls (+1 call & $100 each week unclaimed)\nTreble sheet – $100/$100/$100\nBook 10 (Feature/Full House) – $20/$30/$40\nBook 5 (Trebles) – $40/$40/$40
URL:https://www.diggersservicesclub.com.au/event/monday-bingo/2026-01-26/
CATEGORIES:Bingo
ATTACH;FMTTYPE=image/jpeg:https://www.diggersservicesclub.com.au/wp/wp-content/uploads/2025/03/NEW-Monday-Program_page-0001.jpg
END:VEVENT
BEGIN:VEVENT
DTSTART;TZID=Australia/Brisbane:20260125T210000
DTEND;TZID=Australia/Brisbane:20260125T230000
DTSTAMP:20260423T174100
CREATED:20250619T002616Z
LAST-MODIFIED:20250619T053802Z
UID:10015162-1769374800-1769382000@www.diggersservicesclub.com.au
SUMMARY:Fast Fortune
DESCRIPTION:Thursday & Sundays 9pm – 11pm\nRandom gaming machine draws! Win a share in $500 Cash!
URL:https://www.diggersservicesclub.com.au/event/fast-fortune/2026-01-25/
CATEGORIES:Gaming
ATTACH;FMTTYPE=image/jpeg:https://www.diggersservicesclub.com.au/wp/wp-content/uploads/2025/06/Fast_Fortune_A3_PRINT.jpg
END:VEVENT
BEGIN:VEVENT
DTSTART;TZID=Australia/Brisbane:20260125T120000
DTEND;TZID=Australia/Brisbane:20260125T150000
DTSTAMP:20260423T174100
CREATED:20250619T002918Z
LAST-MODIFIED:20251119T220606Z
UID:10014896-1769342400-1769353200@www.diggersservicesclub.com.au
SUMMARY:Sunday Bingo
DESCRIPTION:Sunday 12pm – 3pm\nTicket Sales 12pm\nEyes Down 1pm\nOver $4k cash to be won\n$1.5K UNLIMITED JACKPOT!
URL:https://www.diggersservicesclub.com.au/event/sunday-bingo-2/2026-01-25/
CATEGORIES:Food & DIning
ATTACH;FMTTYPE=image/jpeg:https://www.diggersservicesclub.com.au/wp/wp-content/uploads/2025/06/NEW-Sun-Program_page-0001.jpg
END:VEVENT
BEGIN:VEVENT
DTSTART;TZID=Australia/Brisbane:20260125T103000
DTEND;TZID=Australia/Brisbane:20260125T140000
DTSTAMP:20260423T174100
CREATED:20251224T024302Z
LAST-MODIFIED:20260103T094118Z
UID:10016694-1769337000-1769349600@www.diggersservicesclub.com.au
SUMMARY:Australia Day Weekend Raffles
DESCRIPTION:Saturday 24th & Sunday 25th January 2025 \nOver $2\,400 in cash & Prizes on offer! \nTicket sales from 10.30am \nDraws from 1.30pm
URL:https://www.diggersservicesclub.com.au/event/australia-day-weekend-raffles/2026-01-25/
ATTACH;FMTTYPE=image/jpeg:https://www.diggersservicesclub.com.au/wp/wp-content/uploads/2026/01/australia-day-weekend-raffles-A3-NEW.jpg
END:VEVENT
BEGIN:VEVENT
DTSTART;TZID=Australia/Brisbane:20260124T173000
DTEND;TZID=Australia/Brisbane:20260124T203000
DTSTAMP:20260423T174100
CREATED:20250303T183210Z
LAST-MODIFIED:20250710T034931Z
UID:10013025-1769275800-1769286600@www.diggersservicesclub.com.au
SUMMARY:Saturday PM Bingo
DESCRIPTION:Doors open – 5.30pm / Eyes Down – 7pm (Paper sales close @ 6.55pm)\nJackpot starts @ $1500 UNLIMITED CALLS\nTreble sheet – $200/$300/$500\nBook 10 (Feature/Full House) – $50/$60/$70\nBook 5 (Trebles) – $50/$70/$100
URL:https://www.diggersservicesclub.com.au/event/saturday-pm-bingo/2026-01-24/
CATEGORIES:Bingo
ATTACH;FMTTYPE=image/jpeg:https://www.diggersservicesclub.com.au/wp/wp-content/uploads/2025/03/NEW-Sat-PM-Program_page-0001.jpg
END:VEVENT
BEGIN:VEVENT
DTSTART;TZID=Australia/Brisbane:20260124T170000
DTEND;TZID=Australia/Brisbane:20260124T193000
DTSTAMP:20260423T174100
CREATED:20250619T002700Z
LAST-MODIFIED:20250619T002700Z
UID:10014635-1769274000-1769283000@www.diggersservicesclub.com.au
SUMMARY:Diggers Dollars
DESCRIPTION:Saturdays 5pm – 7.30pm\nFind the gold & win up to $4K Cash! 4x $100 consolation prizes weekly!
URL:https://www.diggersservicesclub.com.au/event/diggers-dollars/2026-01-24/
CATEGORIES:Gaming
ATTACH;FMTTYPE=image/jpeg:https://www.diggersservicesclub.com.au/wp/wp-content/uploads/2025/06/Dollar-Diggers_A3_PRINT.jpg
END:VEVENT
BEGIN:VEVENT
DTSTART;TZID=Australia/Brisbane:20260124T103000
DTEND;TZID=Australia/Brisbane:20260124T140000
DTSTAMP:20260423T174100
CREATED:20251224T024302Z
LAST-MODIFIED:20260103T094118Z
UID:10016693-1769250600-1769263200@www.diggersservicesclub.com.au
SUMMARY:Australia Day Weekend Raffles
DESCRIPTION:Saturday 24th & Sunday 25th January 2025 \nOver $2\,400 in cash & Prizes on offer! \nTicket sales from 10.30am \nDraws from 1.30pm
URL:https://www.diggersservicesclub.com.au/event/australia-day-weekend-raffles/2026-01-24/
ATTACH;FMTTYPE=image/jpeg:https://www.diggersservicesclub.com.au/wp/wp-content/uploads/2026/01/australia-day-weekend-raffles-A3-NEW.jpg
END:VEVENT
BEGIN:VEVENT
DTSTART;TZID=Australia/Brisbane:20260124T100000
DTEND;TZID=Australia/Brisbane:20260124T130000
DTSTAMP:20260423T174100
CREATED:20250303T183006Z
LAST-MODIFIED:20250710T034919Z
UID:10012764-1769248800-1769259600@www.diggersservicesclub.com.au
SUMMARY:Saturday AM Bingo
DESCRIPTION:Doors open – 10am / Eyes Down – 11am (Paper sales close @ 10.55am)\nJackpot starts @ $1\,000 UNLIMITED CALLS + Bingo Ball Multiplier\nTreble sheet – $200/$250/$300\nBook 10 (Trebles) – $40/$50/$60\nBook 5 (Feature/Full House) – $50/$60/$70
URL:https://www.diggersservicesclub.com.au/event/saturday-am-bingo/2026-01-24/
CATEGORIES:Bingo
ATTACH;FMTTYPE=image/jpeg:https://www.diggersservicesclub.com.au/wp/wp-content/uploads/2025/03/NEW-Sat-AM-Program_page-0001.jpg
END:VEVENT
BEGIN:VEVENT
DTSTART;TZID=Australia/Brisbane:20260124T093000
DTEND;TZID=Australia/Brisbane:20260124T121000
DTSTAMP:20260423T174100
CREATED:20240929T191811Z
LAST-MODIFIED:20240929T191811Z
UID:10007093-1769247000-1769256600@www.diggersservicesclub.com.au
SUMMARY:Weekly Saturday Raffles
DESCRIPTION:Diggers Services Club is the place to be every Saturday! Aside from all the happenings at the club\, you can also take part in our weekly Saturday Raffles. With $650 in cash and prizes\, including four meat trays\, club vouchers\, and cash vouchers\, there’s no better way to spend a Saturday. \nAdditionally\, become a Star VIP Raffle Club member for extra chances to win our Saturday Raffle. It’s free to join\, and your chances of winning increase. \nTickets go on sale at 10:30 am and are drawn at 1.10 pm every Saturday. \nPrizes Drawn in Random order \n\n4x $60 Meat Trays\n2x $50 Coles/Myer Gift Cards\n1x $60 Carton Beer\n$50 Club Voucher (1 x $20 & 1 x $30)\n$50 Cash\n$100 Cash\n$50 Cash\n\n 
URL:https://www.diggersservicesclub.com.au/event/weekly-saturday-raffles-2/2026-01-24/
CATEGORIES:Raffles
ATTACH;FMTTYPE=image/jpeg:https://www.diggersservicesclub.com.au/wp/wp-content/uploads/2021/07/Sat-Raffle_A3_PRINT.jpg
END:VEVENT
BEGIN:VEVENT
DTSTART;VALUE=DATE:20260124
DTEND;VALUE=DATE:20260128
DTSTAMP:20260423T174100
CREATED:20251224T024930Z
LAST-MODIFIED:20251224T024930Z
UID:10016695-1769216400-1769475599@www.diggersservicesclub.com.au
SUMMARY:Australia Day Weekend
DESCRIPTION:COME JOIN THE FUN \n200g Rump Teak & Pint of Beer EVERYDAY \nMega Raffles Saturday & Sunday! \nEntries everyday for Cold Hard Cash Draws Monday! Swipe @ the kiosk to enter! \n 
URL:https://www.diggersservicesclub.com.au/event/australia-day-weekend/
ATTACH;FMTTYPE=image/jpeg:https://www.diggersservicesclub.com.au/wp/wp-content/uploads/2025/12/AustraliaDay-Weekend_A3_PRINT-scaled.jpg
END:VEVENT
BEGIN:VEVENT
DTSTART;TZID=Australia/Brisbane:20260123T173000
DTEND;TZID=Australia/Brisbane:20260123T203000
DTSTAMP:20260423T174100
CREATED:20250303T182908Z
LAST-MODIFIED:20250303T182908Z
UID:10012242-1769189400-1769200200@www.diggersservicesclub.com.au
SUMMARY:Friday PM Bingo
DESCRIPTION:Doors open – 5.30pm / Eyes Down – 7pm (Paper sales close @ 6.55pm)\nJackpot starts @ $2000 in 50 calls (+1 call & $250 each week unclaimed)\nTreble sheet – $100/$200/$300\nBook 10 (Feature/Full House) – $50/$100/$150\nBook 5 (Trebles) – $50/$100/$150
URL:https://www.diggersservicesclub.com.au/event/friday-pm-bingo/2026-01-23/
CATEGORIES:Bingo
ATTACH;FMTTYPE=image/jpeg:https://www.diggersservicesclub.com.au/wp/wp-content/uploads/2025/03/NEW-Fri-PM-Program_page-0001.jpg
END:VEVENT
BEGIN:VEVENT
DTSTART;TZID=Australia/Brisbane:20260123T140000
DTEND;TZID=Australia/Brisbane:20260123T173000
DTSTAMP:20260423T174100
CREATED:20260121T054951Z
LAST-MODIFIED:20260121T054951Z
UID:10016882-1769176800-1769189400@www.diggersservicesclub.com.au
SUMMARY:Friday Arvo Feed - Bistro Special
DESCRIPTION:Beef Burger \nor \nSouthern Fried Chicken Burger \nw/Chips & a Pint \nONLY $7.00
URL:https://www.diggersservicesclub.com.au/event/friday-arvo-feed-bistro-special/2026-01-23/
ATTACH;FMTTYPE=image/jpeg:https://www.diggersservicesclub.com.au/wp/wp-content/uploads/2026/01/FridayArvoFeed_JAN26_A3_PRINT_NEW-scaled.jpg
END:VEVENT
BEGIN:VEVENT
DTSTART;TZID=Australia/Brisbane:20260123T123000
DTEND;TZID=Australia/Brisbane:20260123T150000
DTSTAMP:20260423T174100
CREATED:20250619T002328Z
LAST-MODIFIED:20250619T002344Z
UID:10013361-1769171400-1769180400@www.diggersservicesclub.com.au
SUMMARY:Grocery Grab
DESCRIPTION:Mondays & Fridays 12.30pm – 3pm\nWin up to $800 per week on Cash\, Prizes & Groceries!
URL:https://www.diggersservicesclub.com.au/event/grocery-grab/2026-01-23/
CATEGORIES:Gaming
ATTACH;FMTTYPE=image/jpeg:https://www.diggersservicesclub.com.au/wp/wp-content/uploads/2025/06/GroceryGrab_A3_PRINT.jpg
END:VEVENT
BEGIN:VEVENT
DTSTART;TZID=Australia/Brisbane:20260123T100000
DTEND;TZID=Australia/Brisbane:20260123T130000
DTSTAMP:20260423T174100
CREATED:20250303T182721Z
LAST-MODIFIED:20250303T182721Z
UID:10011720-1769162400-1769173200@www.diggersservicesclub.com.au
SUMMARY:Friday AM Bingo
DESCRIPTION:Doors open – 10am / Eyes Down – 11am (Paper sales close @ 10.55am)\nHALF PRICE & SHORTER SESSION\nJackpot starts @ $1000 in 45 calls (+1 call each week unclaimed)\nTreble sheet – $100/$150/$200\nBook 10 (Trebles) – $20/$30/$40
URL:https://www.diggersservicesclub.com.au/event/friday-am-bingo/2026-01-23/
CATEGORIES:Bingo
ATTACH;FMTTYPE=image/jpeg:https://www.diggersservicesclub.com.au/wp/wp-content/uploads/2025/03/NEW-Fri-AM-Program_page-0001.jpg
END:VEVENT
BEGIN:VEVENT
DTSTART;TZID=Australia/Brisbane:20260122T210000
DTEND;TZID=Australia/Brisbane:20260122T230000
DTSTAMP:20260423T174100
CREATED:20250619T002616Z
LAST-MODIFIED:20250619T053802Z
UID:10014144-1769115600-1769122800@www.diggersservicesclub.com.au
SUMMARY:Fast Fortune
DESCRIPTION:Thursday & Sundays 9pm – 11pm\nRandom gaming machine draws! Win a share in $500 Cash!
URL:https://www.diggersservicesclub.com.au/event/fast-fortune/2026-01-22/
CATEGORIES:Gaming
ATTACH;FMTTYPE=image/jpeg:https://www.diggersservicesclub.com.au/wp/wp-content/uploads/2025/06/Fast_Fortune_A3_PRINT.jpg
END:VEVENT
BEGIN:VEVENT
DTSTART;TZID=Australia/Brisbane:20260122T180000
DTEND;TZID=Australia/Brisbane:20260122T210000
DTSTAMP:20260423T174100
CREATED:20250303T182627Z
LAST-MODIFIED:20250303T182746Z
UID:10011981-1769104800-1769115600@www.diggersservicesclub.com.au
SUMMARY:Thursday PM Bingo
DESCRIPTION:Doors open – 6pm / Eyes Down – 7pm (Paper sales close @ 6.55pm)\nJackpot starts @ $1500 in 55 calls (+1 call & $100 each week unclaimed)\nTreble sheet – $200/$250/$300\nBook 10 (Feature/Full House) – $50/$60/$70\nBook 5 (Trebles) – $40/$60/$100
URL:https://www.diggersservicesclub.com.au/event/thursday-pm-bingo/2026-01-22/
CATEGORIES:Bingo
ATTACH;FMTTYPE=image/jpeg:https://www.diggersservicesclub.com.au/wp/wp-content/uploads/2025/03/NEW-Thurs-PM-Program_page-0001.jpg
END:VEVENT
BEGIN:VEVENT
DTSTART;TZID=Australia/Brisbane:20260122T100000
DTEND;TZID=Australia/Brisbane:20260122T130000
DTSTAMP:20260423T174100
CREATED:20251106T005315Z
LAST-MODIFIED:20251106T005315Z
UID:10016402-1769076000-1769086800@www.diggersservicesclub.com.au
SUMMARY:Thursday AM Bingo
DESCRIPTION:Doors open – 10am / Eyes Down – 11am (Paper sales close @ 10.55pm)\nJackpot – $1\,000 UNLIMITED\nTreble sheet – $100/$150/$200\nBook 10 (Trebles) – $20/$30/$40\nBook 5 (Feature/Full House) – $40/$60/$70
URL:https://www.diggersservicesclub.com.au/event/thursday-am-bingo-2/2026-01-22/
ATTACH;FMTTYPE=image/jpeg:https://www.diggersservicesclub.com.au/wp/wp-content/uploads/2025/03/NEW-Thurs-AM-Program_page-0001.jpg
END:VEVENT
BEGIN:VEVENT
DTSTART;TZID=Australia/Brisbane:20260121T190000
DTEND;TZID=Australia/Brisbane:20260121T220000
DTSTAMP:20260423T174100
CREATED:20250619T002453Z
LAST-MODIFIED:20250619T002541Z
UID:10013851-1769022000-1769032800@www.diggersservicesclub.com.au
SUMMARY:Race to Gold
DESCRIPTION:Wednesday 7pm – 10pm\nWin up to $250 cash every 30 mins
URL:https://www.diggersservicesclub.com.au/event/race-to-gold/2026-01-21/
CATEGORIES:Gaming
ATTACH;FMTTYPE=image/jpeg:https://www.diggersservicesclub.com.au/wp/wp-content/uploads/2025/06/Wednesdays_Race-to-Gold_A3_PRINT.jpg
END:VEVENT
BEGIN:VEVENT
DTSTART;TZID=Australia/Brisbane:20260121T100000
DTEND;TZID=Australia/Brisbane:20260121T130000
DTSTAMP:20260423T174100
CREATED:20251106T004951Z
LAST-MODIFIED:20251106T004951Z
UID:10016140-1768989600-1769000400@www.diggersservicesclub.com.au
SUMMARY:Wednesday AM Bingo
DESCRIPTION:Doors open – 10am / Eyes Down – 11am (Paper sales close @ 10.55am)\nJackpot starts @ $2\,000 in 45 calls (+1 call each week unclaimed)\nTreble sheet – $100/$100/$100\nBook 10 (Trebles) – $40/$50/$60\nBook 5 (Feature/Full House) – $40/$50/$60
URL:https://www.diggersservicesclub.com.au/event/wednesday-am-bingo/2026-01-21/
ATTACH;FMTTYPE=image/jpeg:https://www.diggersservicesclub.com.au/wp/wp-content/uploads/2025/03/NEW-Wednesday-Program_page-0001-Copy.jpg
END:VEVENT
BEGIN:VEVENT
DTSTART;TZID=Australia/Brisbane:20260120T100000
DTEND;TZID=Australia/Brisbane:20260120T130000
DTSTAMP:20260423T174100
CREATED:20250710T035034Z
LAST-MODIFIED:20250710T035034Z
UID:10015772-1768903200-1768914000@www.diggersservicesclub.com.au
SUMMARY:Tuesday AM Bingo
DESCRIPTION:Doors open – 10am / Eyes down – 11am (paper sales close @10.55am)\nJackpot starts @ $3\,500 in 45 calls (+1 call each week unclaimed) $500 consolation\n$750 Treble sheet – $200/$250/$300\nBook 10 (Feature/Full House) – $40/$50/$60\nBook 5 (Trebles) – $50/$70/$100
URL:https://www.diggersservicesclub.com.au/event/tuesday-am-bingo/2026-01-20/
CATEGORIES:Bingo
ATTACH;FMTTYPE=image/jpeg:https://www.diggersservicesclub.com.au/wp/wp-content/uploads/2025/07/tuesday-bingo_A3_PRINT.jpg
END:VEVENT
BEGIN:VEVENT
DTSTART;TZID=Australia/Brisbane:20260119T123000
DTEND;TZID=Australia/Brisbane:20260119T150000
DTSTAMP:20260423T174100
CREATED:20250619T002328Z
LAST-MODIFIED:20250619T002344Z
UID:10013360-1768825800-1768834800@www.diggersservicesclub.com.au
SUMMARY:Grocery Grab
DESCRIPTION:Mondays & Fridays 12.30pm – 3pm\nWin up to $800 per week on Cash\, Prizes & Groceries!
URL:https://www.diggersservicesclub.com.au/event/grocery-grab/2026-01-19/
CATEGORIES:Gaming
ATTACH;FMTTYPE=image/jpeg:https://www.diggersservicesclub.com.au/wp/wp-content/uploads/2025/06/GroceryGrab_A3_PRINT.jpg
END:VEVENT
BEGIN:VEVENT
DTSTART;TZID=Australia/Brisbane:20260119T100000
DTEND;TZID=Australia/Brisbane:20260119T130000
DTSTAMP:20260423T174100
CREATED:20250303T181740Z
LAST-MODIFIED:20250303T181740Z
UID:10010414-1768816800-1768827600@www.diggersservicesclub.com.au
SUMMARY:Monday Bingo
DESCRIPTION:Doors open – 10am / Eyes Down – 11am\nPAPER ONLY SESSION\nJackpot starts @ $1000 in 45 calls (+1 call & $100 each week unclaimed)\nTreble sheet – $100/$100/$100\nBook 10 (Feature/Full House) – $20/$30/$40\nBook 5 (Trebles) – $40/$40/$40
URL:https://www.diggersservicesclub.com.au/event/monday-bingo/2026-01-19/
CATEGORIES:Bingo
ATTACH;FMTTYPE=image/jpeg:https://www.diggersservicesclub.com.au/wp/wp-content/uploads/2025/03/NEW-Monday-Program_page-0001.jpg
END:VEVENT
BEGIN:VEVENT
DTSTART;TZID=Australia/Brisbane:20260118T210000
DTEND;TZID=Australia/Brisbane:20260118T230000
DTSTAMP:20260423T174100
CREATED:20250619T002616Z
LAST-MODIFIED:20250619T053802Z
UID:10015161-1768770000-1768777200@www.diggersservicesclub.com.au
SUMMARY:Fast Fortune
DESCRIPTION:Thursday & Sundays 9pm – 11pm\nRandom gaming machine draws! Win a share in $500 Cash!
URL:https://www.diggersservicesclub.com.au/event/fast-fortune/2026-01-18/
CATEGORIES:Gaming
ATTACH;FMTTYPE=image/jpeg:https://www.diggersservicesclub.com.au/wp/wp-content/uploads/2025/06/Fast_Fortune_A3_PRINT.jpg
END:VEVENT
BEGIN:VEVENT
DTSTART;TZID=Australia/Brisbane:20260118T120000
DTEND;TZID=Australia/Brisbane:20260118T150000
DTSTAMP:20260423T174100
CREATED:20250619T002918Z
LAST-MODIFIED:20251119T220606Z
UID:10014895-1768737600-1768748400@www.diggersservicesclub.com.au
SUMMARY:Sunday Bingo
DESCRIPTION:Sunday 12pm – 3pm\nTicket Sales 12pm\nEyes Down 1pm\nOver $4k cash to be won\n$1.5K UNLIMITED JACKPOT!
URL:https://www.diggersservicesclub.com.au/event/sunday-bingo-2/2026-01-18/
CATEGORIES:Food & DIning
ATTACH;FMTTYPE=image/jpeg:https://www.diggersservicesclub.com.au/wp/wp-content/uploads/2025/06/NEW-Sun-Program_page-0001.jpg
END:VEVENT
BEGIN:VEVENT
DTSTART;TZID=Australia/Brisbane:20260117T173000
DTEND;TZID=Australia/Brisbane:20260117T203000
DTSTAMP:20260423T174100
CREATED:20250303T183210Z
LAST-MODIFIED:20250710T034931Z
UID:10013024-1768671000-1768681800@www.diggersservicesclub.com.au
SUMMARY:Saturday PM Bingo
DESCRIPTION:Doors open – 5.30pm / Eyes Down – 7pm (Paper sales close @ 6.55pm)\nJackpot starts @ $1500 UNLIMITED CALLS\nTreble sheet – $200/$300/$500\nBook 10 (Feature/Full House) – $50/$60/$70\nBook 5 (Trebles) – $50/$70/$100
URL:https://www.diggersservicesclub.com.au/event/saturday-pm-bingo/2026-01-17/
CATEGORIES:Bingo
ATTACH;FMTTYPE=image/jpeg:https://www.diggersservicesclub.com.au/wp/wp-content/uploads/2025/03/NEW-Sat-PM-Program_page-0001.jpg
END:VEVENT
BEGIN:VEVENT
DTSTART;TZID=Australia/Brisbane:20260117T170000
DTEND;TZID=Australia/Brisbane:20260117T193000
DTSTAMP:20260423T174100
CREATED:20250619T002700Z
LAST-MODIFIED:20250619T002700Z
UID:10014634-1768669200-1768678200@www.diggersservicesclub.com.au
SUMMARY:Diggers Dollars
DESCRIPTION:Saturdays 5pm – 7.30pm\nFind the gold & win up to $4K Cash! 4x $100 consolation prizes weekly!
URL:https://www.diggersservicesclub.com.au/event/diggers-dollars/2026-01-17/
CATEGORIES:Gaming
ATTACH;FMTTYPE=image/jpeg:https://www.diggersservicesclub.com.au/wp/wp-content/uploads/2025/06/Dollar-Diggers_A3_PRINT.jpg
END:VEVENT
BEGIN:VEVENT
DTSTART;TZID=Australia/Brisbane:20260117T100000
DTEND;TZID=Australia/Brisbane:20260117T130000
DTSTAMP:20260423T174100
CREATED:20250303T183006Z
LAST-MODIFIED:20250710T034919Z
UID:10012763-1768644000-1768654800@www.diggersservicesclub.com.au
SUMMARY:Saturday AM Bingo
DESCRIPTION:Doors open – 10am / Eyes Down – 11am (Paper sales close @ 10.55am)\nJackpot starts @ $1\,000 UNLIMITED CALLS + Bingo Ball Multiplier\nTreble sheet – $200/$250/$300\nBook 10 (Trebles) – $40/$50/$60\nBook 5 (Feature/Full House) – $50/$60/$70
URL:https://www.diggersservicesclub.com.au/event/saturday-am-bingo/2026-01-17/
CATEGORIES:Bingo
ATTACH;FMTTYPE=image/jpeg:https://www.diggersservicesclub.com.au/wp/wp-content/uploads/2025/03/NEW-Sat-AM-Program_page-0001.jpg
END:VEVENT
BEGIN:VEVENT
DTSTART;TZID=Australia/Brisbane:20260117T093000
DTEND;TZID=Australia/Brisbane:20260117T121000
DTSTAMP:20260423T174100
CREATED:20240929T191811Z
LAST-MODIFIED:20240929T191811Z
UID:10007092-1768642200-1768651800@www.diggersservicesclub.com.au
SUMMARY:Weekly Saturday Raffles
DESCRIPTION:Diggers Services Club is the place to be every Saturday! Aside from all the happenings at the club\, you can also take part in our weekly Saturday Raffles. With $650 in cash and prizes\, including four meat trays\, club vouchers\, and cash vouchers\, there’s no better way to spend a Saturday. \nAdditionally\, become a Star VIP Raffle Club member for extra chances to win our Saturday Raffle. It’s free to join\, and your chances of winning increase. \nTickets go on sale at 10:30 am and are drawn at 1.10 pm every Saturday. \nPrizes Drawn in Random order \n\n4x $60 Meat Trays\n2x $50 Coles/Myer Gift Cards\n1x $60 Carton Beer\n$50 Club Voucher (1 x $20 & 1 x $30)\n$50 Cash\n$100 Cash\n$50 Cash\n\n 
URL:https://www.diggersservicesclub.com.au/event/weekly-saturday-raffles-2/2026-01-17/
CATEGORIES:Raffles
ATTACH;FMTTYPE=image/jpeg:https://www.diggersservicesclub.com.au/wp/wp-content/uploads/2021/07/Sat-Raffle_A3_PRINT.jpg
END:VEVENT
END:VCALENDAR