BEGIN:VCALENDAR
VERSION:2.0
PRODID:-//Diggers Services Club - ECPv6.15.20//NONSGML v1.0//EN
CALSCALE:GREGORIAN
METHOD:PUBLISH
X-WR-CALNAME:Diggers Services Club
X-ORIGINAL-URL:https://www.diggersservicesclub.com.au
X-WR-CALDESC:Events for Diggers Services Club
REFRESH-INTERVAL;VALUE=DURATION:PT1H
X-Robots-Tag:noindex
X-PUBLISHED-TTL:PT1H
BEGIN:VTIMEZONE
TZID:Australia/Brisbane
BEGIN:STANDARD
TZOFFSETFROM:+1000
TZOFFSETTO:+1000
TZNAME:AEST
DTSTART:20250101T000000
END:STANDARD
END:VTIMEZONE
BEGIN:VEVENT
DTSTART;TZID=Australia/Brisbane:20260114T190000
DTEND;TZID=Australia/Brisbane:20260114T220000
DTSTAMP:20260423T221111
CREATED:20250619T002453Z
LAST-MODIFIED:20250619T002541Z
UID:10013850-1768417200-1768428000@www.diggersservicesclub.com.au
SUMMARY:Race to Gold
DESCRIPTION:Wednesday 7pm – 10pm\nWin up to $250 cash every 30 mins
URL:https://www.diggersservicesclub.com.au/event/race-to-gold/2026-01-14/
CATEGORIES:Gaming
ATTACH;FMTTYPE=image/jpeg:https://www.diggersservicesclub.com.au/wp/wp-content/uploads/2025/06/Wednesdays_Race-to-Gold_A3_PRINT.jpg
END:VEVENT
BEGIN:VEVENT
DTSTART;TZID=Australia/Brisbane:20260114T100000
DTEND;TZID=Australia/Brisbane:20260114T130000
DTSTAMP:20260423T221111
CREATED:20251106T004951Z
LAST-MODIFIED:20251106T004951Z
UID:10016139-1768384800-1768395600@www.diggersservicesclub.com.au
SUMMARY:Wednesday AM Bingo
DESCRIPTION:Doors open – 10am / Eyes Down – 11am (Paper sales close @ 10.55am)\nJackpot starts @ $2\,000 in 45 calls (+1 call each week unclaimed)\nTreble sheet – $100/$100/$100\nBook 10 (Trebles) – $40/$50/$60\nBook 5 (Feature/Full House) – $40/$50/$60
URL:https://www.diggersservicesclub.com.au/event/wednesday-am-bingo/2026-01-14/
ATTACH;FMTTYPE=image/jpeg:https://www.diggersservicesclub.com.au/wp/wp-content/uploads/2025/03/NEW-Wednesday-Program_page-0001-Copy.jpg
END:VEVENT
BEGIN:VEVENT
DTSTART;TZID=Australia/Brisbane:20260113T100000
DTEND;TZID=Australia/Brisbane:20260113T130000
DTSTAMP:20260423T221111
CREATED:20250710T035034Z
LAST-MODIFIED:20250710T035034Z
UID:10015771-1768298400-1768309200@www.diggersservicesclub.com.au
SUMMARY:Tuesday AM Bingo
DESCRIPTION:Doors open – 10am / Eyes down – 11am (paper sales close @10.55am)\nJackpot starts @ $3\,500 in 45 calls (+1 call each week unclaimed) $500 consolation\n$750 Treble sheet – $200/$250/$300\nBook 10 (Feature/Full House) – $40/$50/$60\nBook 5 (Trebles) – $50/$70/$100
URL:https://www.diggersservicesclub.com.au/event/tuesday-am-bingo/2026-01-13/
CATEGORIES:Bingo
ATTACH;FMTTYPE=image/jpeg:https://www.diggersservicesclub.com.au/wp/wp-content/uploads/2025/07/tuesday-bingo_A3_PRINT.jpg
END:VEVENT
BEGIN:VEVENT
DTSTART;TZID=Australia/Brisbane:20260112T123000
DTEND;TZID=Australia/Brisbane:20260112T150000
DTSTAMP:20260423T221111
CREATED:20250619T002328Z
LAST-MODIFIED:20250619T002344Z
UID:10013358-1768221000-1768230000@www.diggersservicesclub.com.au
SUMMARY:Grocery Grab
DESCRIPTION:Mondays & Fridays 12.30pm – 3pm\nWin up to $800 per week on Cash\, Prizes & Groceries!
URL:https://www.diggersservicesclub.com.au/event/grocery-grab/2026-01-12/
CATEGORIES:Gaming
ATTACH;FMTTYPE=image/jpeg:https://www.diggersservicesclub.com.au/wp/wp-content/uploads/2025/06/GroceryGrab_A3_PRINT.jpg
END:VEVENT
BEGIN:VEVENT
DTSTART;TZID=Australia/Brisbane:20260112T100000
DTEND;TZID=Australia/Brisbane:20260112T130000
DTSTAMP:20260423T221111
CREATED:20250303T181740Z
LAST-MODIFIED:20250303T181740Z
UID:10010413-1768212000-1768222800@www.diggersservicesclub.com.au
SUMMARY:Monday Bingo
DESCRIPTION:Doors open – 10am / Eyes Down – 11am\nPAPER ONLY SESSION\nJackpot starts @ $1000 in 45 calls (+1 call & $100 each week unclaimed)\nTreble sheet – $100/$100/$100\nBook 10 (Feature/Full House) – $20/$30/$40\nBook 5 (Trebles) – $40/$40/$40
URL:https://www.diggersservicesclub.com.au/event/monday-bingo/2026-01-12/
CATEGORIES:Bingo
ATTACH;FMTTYPE=image/jpeg:https://www.diggersservicesclub.com.au/wp/wp-content/uploads/2025/03/NEW-Monday-Program_page-0001.jpg
END:VEVENT
BEGIN:VEVENT
DTSTART;TZID=Australia/Brisbane:20260111T210000
DTEND;TZID=Australia/Brisbane:20260111T230000
DTSTAMP:20260423T221111
CREATED:20250619T002616Z
LAST-MODIFIED:20250619T053802Z
UID:10015160-1768165200-1768172400@www.diggersservicesclub.com.au
SUMMARY:Fast Fortune
DESCRIPTION:Thursday & Sundays 9pm – 11pm\nRandom gaming machine draws! Win a share in $500 Cash!
URL:https://www.diggersservicesclub.com.au/event/fast-fortune/2026-01-11/
CATEGORIES:Gaming
ATTACH;FMTTYPE=image/jpeg:https://www.diggersservicesclub.com.au/wp/wp-content/uploads/2025/06/Fast_Fortune_A3_PRINT.jpg
END:VEVENT
BEGIN:VEVENT
DTSTART;TZID=Australia/Brisbane:20260111T120000
DTEND;TZID=Australia/Brisbane:20260111T183000
DTSTAMP:20260423T221111
CREATED:20251224T024005Z
LAST-MODIFIED:20251224T024005Z
UID:10016690-1768132800-1768156200@www.diggersservicesclub.com.au
SUMMARY:Splash into Summer
DESCRIPTION:Win a share in $2K of cash & prizes! \nEntries from 12pm! \nDraws every 30 minutes from 4pm – 6.30pm \n 
URL:https://www.diggersservicesclub.com.au/event/splash-into-summer/
ATTACH;FMTTYPE=image/jpeg:https://www.diggersservicesclub.com.au/wp/wp-content/uploads/2025/12/SummerSplash_A3_PRINT_NEW-1-scaled.jpg
END:VEVENT
BEGIN:VEVENT
DTSTART;TZID=Australia/Brisbane:20260111T120000
DTEND;TZID=Australia/Brisbane:20260111T150000
DTSTAMP:20260423T221111
CREATED:20250619T002918Z
LAST-MODIFIED:20251119T220606Z
UID:10014894-1768132800-1768143600@www.diggersservicesclub.com.au
SUMMARY:Sunday Bingo
DESCRIPTION:Sunday 12pm – 3pm\nTicket Sales 12pm\nEyes Down 1pm\nOver $4k cash to be won\n$1.5K UNLIMITED JACKPOT!
URL:https://www.diggersservicesclub.com.au/event/sunday-bingo-2/2026-01-11/
CATEGORIES:Food & DIning
ATTACH;FMTTYPE=image/jpeg:https://www.diggersservicesclub.com.au/wp/wp-content/uploads/2025/06/NEW-Sun-Program_page-0001.jpg
END:VEVENT
BEGIN:VEVENT
DTSTART;TZID=Australia/Brisbane:20260110T173000
DTEND;TZID=Australia/Brisbane:20260110T203000
DTSTAMP:20260423T221111
CREATED:20250303T183210Z
LAST-MODIFIED:20250710T034931Z
UID:10013023-1768066200-1768077000@www.diggersservicesclub.com.au
SUMMARY:Saturday PM Bingo
DESCRIPTION:Doors open – 5.30pm / Eyes Down – 7pm (Paper sales close @ 6.55pm)\nJackpot starts @ $1500 UNLIMITED CALLS\nTreble sheet – $200/$300/$500\nBook 10 (Feature/Full House) – $50/$60/$70\nBook 5 (Trebles) – $50/$70/$100
URL:https://www.diggersservicesclub.com.au/event/saturday-pm-bingo/2026-01-10/
CATEGORIES:Bingo
ATTACH;FMTTYPE=image/jpeg:https://www.diggersservicesclub.com.au/wp/wp-content/uploads/2025/03/NEW-Sat-PM-Program_page-0001.jpg
END:VEVENT
BEGIN:VEVENT
DTSTART;TZID=Australia/Brisbane:20260110T170000
DTEND;TZID=Australia/Brisbane:20260110T193000
DTSTAMP:20260423T221111
CREATED:20250619T002700Z
LAST-MODIFIED:20250619T002700Z
UID:10014633-1768064400-1768073400@www.diggersservicesclub.com.au
SUMMARY:Diggers Dollars
DESCRIPTION:Saturdays 5pm – 7.30pm\nFind the gold & win up to $4K Cash! 4x $100 consolation prizes weekly!
URL:https://www.diggersservicesclub.com.au/event/diggers-dollars/2026-01-10/
CATEGORIES:Gaming
ATTACH;FMTTYPE=image/jpeg:https://www.diggersservicesclub.com.au/wp/wp-content/uploads/2025/06/Dollar-Diggers_A3_PRINT.jpg
END:VEVENT
BEGIN:VEVENT
DTSTART;TZID=Australia/Brisbane:20260110T100000
DTEND;TZID=Australia/Brisbane:20260110T130000
DTSTAMP:20260423T221111
CREATED:20250303T183006Z
LAST-MODIFIED:20250710T034919Z
UID:10012762-1768039200-1768050000@www.diggersservicesclub.com.au
SUMMARY:Saturday AM Bingo
DESCRIPTION:Doors open – 10am / Eyes Down – 11am (Paper sales close @ 10.55am)\nJackpot starts @ $1\,000 UNLIMITED CALLS + Bingo Ball Multiplier\nTreble sheet – $200/$250/$300\nBook 10 (Trebles) – $40/$50/$60\nBook 5 (Feature/Full House) – $50/$60/$70
URL:https://www.diggersservicesclub.com.au/event/saturday-am-bingo/2026-01-10/
CATEGORIES:Bingo
ATTACH;FMTTYPE=image/jpeg:https://www.diggersservicesclub.com.au/wp/wp-content/uploads/2025/03/NEW-Sat-AM-Program_page-0001.jpg
END:VEVENT
BEGIN:VEVENT
DTSTART;TZID=Australia/Brisbane:20260110T093000
DTEND;TZID=Australia/Brisbane:20260110T121000
DTSTAMP:20260423T221111
CREATED:20240929T191811Z
LAST-MODIFIED:20240929T191811Z
UID:10007091-1768037400-1768047000@www.diggersservicesclub.com.au
SUMMARY:Weekly Saturday Raffles
DESCRIPTION:Diggers Services Club is the place to be every Saturday! Aside from all the happenings at the club\, you can also take part in our weekly Saturday Raffles. With $650 in cash and prizes\, including four meat trays\, club vouchers\, and cash vouchers\, there’s no better way to spend a Saturday. \nAdditionally\, become a Star VIP Raffle Club member for extra chances to win our Saturday Raffle. It’s free to join\, and your chances of winning increase. \nTickets go on sale at 10:30 am and are drawn at 1.10 pm every Saturday. \nPrizes Drawn in Random order \n\n4x $60 Meat Trays\n2x $50 Coles/Myer Gift Cards\n1x $60 Carton Beer\n$50 Club Voucher (1 x $20 & 1 x $30)\n$50 Cash\n$100 Cash\n$50 Cash\n\n 
URL:https://www.diggersservicesclub.com.au/event/weekly-saturday-raffles-2/2026-01-10/
CATEGORIES:Raffles
ATTACH;FMTTYPE=image/jpeg:https://www.diggersservicesclub.com.au/wp/wp-content/uploads/2021/07/Sat-Raffle_A3_PRINT.jpg
END:VEVENT
BEGIN:VEVENT
DTSTART;TZID=Australia/Brisbane:20260109T173000
DTEND;TZID=Australia/Brisbane:20260109T203000
DTSTAMP:20260423T221111
CREATED:20250303T182908Z
LAST-MODIFIED:20250303T182908Z
UID:10012240-1767979800-1767990600@www.diggersservicesclub.com.au
SUMMARY:Friday PM Bingo
DESCRIPTION:Doors open – 5.30pm / Eyes Down – 7pm (Paper sales close @ 6.55pm)\nJackpot starts @ $2000 in 50 calls (+1 call & $250 each week unclaimed)\nTreble sheet – $100/$200/$300\nBook 10 (Feature/Full House) – $50/$100/$150\nBook 5 (Trebles) – $50/$100/$150
URL:https://www.diggersservicesclub.com.au/event/friday-pm-bingo/2026-01-09/
CATEGORIES:Bingo
ATTACH;FMTTYPE=image/jpeg:https://www.diggersservicesclub.com.au/wp/wp-content/uploads/2025/03/NEW-Fri-PM-Program_page-0001.jpg
END:VEVENT
BEGIN:VEVENT
DTSTART;TZID=Australia/Brisbane:20260109T123000
DTEND;TZID=Australia/Brisbane:20260109T150000
DTSTAMP:20260423T221111
CREATED:20250619T002328Z
LAST-MODIFIED:20250619T002344Z
UID:10013357-1767961800-1767970800@www.diggersservicesclub.com.au
SUMMARY:Grocery Grab
DESCRIPTION:Mondays & Fridays 12.30pm – 3pm\nWin up to $800 per week on Cash\, Prizes & Groceries!
URL:https://www.diggersservicesclub.com.au/event/grocery-grab/2026-01-09/
CATEGORIES:Gaming
ATTACH;FMTTYPE=image/jpeg:https://www.diggersservicesclub.com.au/wp/wp-content/uploads/2025/06/GroceryGrab_A3_PRINT.jpg
END:VEVENT
BEGIN:VEVENT
DTSTART;TZID=Australia/Brisbane:20260109T100000
DTEND;TZID=Australia/Brisbane:20260109T130000
DTSTAMP:20260423T221111
CREATED:20250303T182721Z
LAST-MODIFIED:20250303T182721Z
UID:10011718-1767952800-1767963600@www.diggersservicesclub.com.au
SUMMARY:Friday AM Bingo
DESCRIPTION:Doors open – 10am / Eyes Down – 11am (Paper sales close @ 10.55am)\nHALF PRICE & SHORTER SESSION\nJackpot starts @ $1000 in 45 calls (+1 call each week unclaimed)\nTreble sheet – $100/$150/$200\nBook 10 (Trebles) – $20/$30/$40
URL:https://www.diggersservicesclub.com.au/event/friday-am-bingo/2026-01-09/
CATEGORIES:Bingo
ATTACH;FMTTYPE=image/jpeg:https://www.diggersservicesclub.com.au/wp/wp-content/uploads/2025/03/NEW-Fri-AM-Program_page-0001.jpg
END:VEVENT
BEGIN:VEVENT
DTSTART;TZID=Australia/Brisbane:20260108T210000
DTEND;TZID=Australia/Brisbane:20260108T230000
DTSTAMP:20260423T221111
CREATED:20250619T002616Z
LAST-MODIFIED:20250619T053802Z
UID:10014140-1767906000-1767913200@www.diggersservicesclub.com.au
SUMMARY:Fast Fortune
DESCRIPTION:Thursday & Sundays 9pm – 11pm\nRandom gaming machine draws! Win a share in $500 Cash!
URL:https://www.diggersservicesclub.com.au/event/fast-fortune/2026-01-08/
CATEGORIES:Gaming
ATTACH;FMTTYPE=image/jpeg:https://www.diggersservicesclub.com.au/wp/wp-content/uploads/2025/06/Fast_Fortune_A3_PRINT.jpg
END:VEVENT
BEGIN:VEVENT
DTSTART;TZID=Australia/Brisbane:20260108T180000
DTEND;TZID=Australia/Brisbane:20260108T210000
DTSTAMP:20260423T221111
CREATED:20250303T182627Z
LAST-MODIFIED:20250303T182746Z
UID:10011979-1767895200-1767906000@www.diggersservicesclub.com.au
SUMMARY:Thursday PM Bingo
DESCRIPTION:Doors open – 6pm / Eyes Down – 7pm (Paper sales close @ 6.55pm)\nJackpot starts @ $1500 in 55 calls (+1 call & $100 each week unclaimed)\nTreble sheet – $200/$250/$300\nBook 10 (Feature/Full House) – $50/$60/$70\nBook 5 (Trebles) – $40/$60/$100
URL:https://www.diggersservicesclub.com.au/event/thursday-pm-bingo/2026-01-08/
CATEGORIES:Bingo
ATTACH;FMTTYPE=image/jpeg:https://www.diggersservicesclub.com.au/wp/wp-content/uploads/2025/03/NEW-Thurs-PM-Program_page-0001.jpg
END:VEVENT
BEGIN:VEVENT
DTSTART;TZID=Australia/Brisbane:20260108T100000
DTEND;TZID=Australia/Brisbane:20260108T130000
DTSTAMP:20260423T221111
CREATED:20251106T005315Z
LAST-MODIFIED:20251106T005315Z
UID:10016400-1767866400-1767877200@www.diggersservicesclub.com.au
SUMMARY:Thursday AM Bingo
DESCRIPTION:Doors open – 10am / Eyes Down – 11am (Paper sales close @ 10.55pm)\nJackpot – $1\,000 UNLIMITED\nTreble sheet – $100/$150/$200\nBook 10 (Trebles) – $20/$30/$40\nBook 5 (Feature/Full House) – $40/$60/$70
URL:https://www.diggersservicesclub.com.au/event/thursday-am-bingo-2/2026-01-08/
ATTACH;FMTTYPE=image/jpeg:https://www.diggersservicesclub.com.au/wp/wp-content/uploads/2025/03/NEW-Thurs-AM-Program_page-0001.jpg
END:VEVENT
BEGIN:VEVENT
DTSTART;TZID=Australia/Brisbane:20260107T190000
DTEND;TZID=Australia/Brisbane:20260107T220000
DTSTAMP:20260423T221111
CREATED:20250619T002453Z
LAST-MODIFIED:20250619T002541Z
UID:10013849-1767812400-1767823200@www.diggersservicesclub.com.au
SUMMARY:Race to Gold
DESCRIPTION:Wednesday 7pm – 10pm\nWin up to $250 cash every 30 mins
URL:https://www.diggersservicesclub.com.au/event/race-to-gold/2026-01-07/
CATEGORIES:Gaming
ATTACH;FMTTYPE=image/jpeg:https://www.diggersservicesclub.com.au/wp/wp-content/uploads/2025/06/Wednesdays_Race-to-Gold_A3_PRINT.jpg
END:VEVENT
BEGIN:VEVENT
DTSTART;TZID=Australia/Brisbane:20260107T100000
DTEND;TZID=Australia/Brisbane:20260107T130000
DTSTAMP:20260423T221111
CREATED:20251106T004951Z
LAST-MODIFIED:20251106T004951Z
UID:10016138-1767780000-1767790800@www.diggersservicesclub.com.au
SUMMARY:Wednesday AM Bingo
DESCRIPTION:Doors open – 10am / Eyes Down – 11am (Paper sales close @ 10.55am)\nJackpot starts @ $2\,000 in 45 calls (+1 call each week unclaimed)\nTreble sheet – $100/$100/$100\nBook 10 (Trebles) – $40/$50/$60\nBook 5 (Feature/Full House) – $40/$50/$60
URL:https://www.diggersservicesclub.com.au/event/wednesday-am-bingo/2026-01-07/
ATTACH;FMTTYPE=image/jpeg:https://www.diggersservicesclub.com.au/wp/wp-content/uploads/2025/03/NEW-Wednesday-Program_page-0001-Copy.jpg
END:VEVENT
BEGIN:VEVENT
DTSTART;TZID=Australia/Brisbane:20260106T100000
DTEND;TZID=Australia/Brisbane:20260106T130000
DTSTAMP:20260423T221111
CREATED:20250710T035034Z
LAST-MODIFIED:20250710T035034Z
UID:10015770-1767693600-1767704400@www.diggersservicesclub.com.au
SUMMARY:Tuesday AM Bingo
DESCRIPTION:Doors open – 10am / Eyes down – 11am (paper sales close @10.55am)\nJackpot starts @ $3\,500 in 45 calls (+1 call each week unclaimed) $500 consolation\n$750 Treble sheet – $200/$250/$300\nBook 10 (Feature/Full House) – $40/$50/$60\nBook 5 (Trebles) – $50/$70/$100
URL:https://www.diggersservicesclub.com.au/event/tuesday-am-bingo/2026-01-06/
CATEGORIES:Bingo
ATTACH;FMTTYPE=image/jpeg:https://www.diggersservicesclub.com.au/wp/wp-content/uploads/2025/07/tuesday-bingo_A3_PRINT.jpg
END:VEVENT
BEGIN:VEVENT
DTSTART;TZID=Australia/Brisbane:20260105T123000
DTEND;TZID=Australia/Brisbane:20260105T150000
DTSTAMP:20260423T221111
CREATED:20250619T002328Z
LAST-MODIFIED:20250619T002344Z
UID:10013356-1767616200-1767625200@www.diggersservicesclub.com.au
SUMMARY:Grocery Grab
DESCRIPTION:Mondays & Fridays 12.30pm – 3pm\nWin up to $800 per week on Cash\, Prizes & Groceries!
URL:https://www.diggersservicesclub.com.au/event/grocery-grab/2026-01-05/
CATEGORIES:Gaming
ATTACH;FMTTYPE=image/jpeg:https://www.diggersservicesclub.com.au/wp/wp-content/uploads/2025/06/GroceryGrab_A3_PRINT.jpg
END:VEVENT
BEGIN:VEVENT
DTSTART;TZID=Australia/Brisbane:20260105T100000
DTEND;TZID=Australia/Brisbane:20260105T130000
DTSTAMP:20260423T221111
CREATED:20250303T181740Z
LAST-MODIFIED:20250303T181740Z
UID:10010412-1767607200-1767618000@www.diggersservicesclub.com.au
SUMMARY:Monday Bingo
DESCRIPTION:Doors open – 10am / Eyes Down – 11am\nPAPER ONLY SESSION\nJackpot starts @ $1000 in 45 calls (+1 call & $100 each week unclaimed)\nTreble sheet – $100/$100/$100\nBook 10 (Feature/Full House) – $20/$30/$40\nBook 5 (Trebles) – $40/$40/$40
URL:https://www.diggersservicesclub.com.au/event/monday-bingo/2026-01-05/
CATEGORIES:Bingo
ATTACH;FMTTYPE=image/jpeg:https://www.diggersservicesclub.com.au/wp/wp-content/uploads/2025/03/NEW-Monday-Program_page-0001.jpg
END:VEVENT
BEGIN:VEVENT
DTSTART;TZID=Australia/Brisbane:20260104T210000
DTEND;TZID=Australia/Brisbane:20260104T230000
DTSTAMP:20260423T221111
CREATED:20250619T002616Z
LAST-MODIFIED:20250619T053802Z
UID:10015159-1767560400-1767567600@www.diggersservicesclub.com.au
SUMMARY:Fast Fortune
DESCRIPTION:Thursday & Sundays 9pm – 11pm\nRandom gaming machine draws! Win a share in $500 Cash!
URL:https://www.diggersservicesclub.com.au/event/fast-fortune/2026-01-04/
CATEGORIES:Gaming
ATTACH;FMTTYPE=image/jpeg:https://www.diggersservicesclub.com.au/wp/wp-content/uploads/2025/06/Fast_Fortune_A3_PRINT.jpg
END:VEVENT
BEGIN:VEVENT
DTSTART;TZID=Australia/Brisbane:20260104T120000
DTEND;TZID=Australia/Brisbane:20260104T150000
DTSTAMP:20260423T221111
CREATED:20250619T002918Z
LAST-MODIFIED:20251119T220606Z
UID:10014893-1767528000-1767538800@www.diggersservicesclub.com.au
SUMMARY:Sunday Bingo
DESCRIPTION:Sunday 12pm – 3pm\nTicket Sales 12pm\nEyes Down 1pm\nOver $4k cash to be won\n$1.5K UNLIMITED JACKPOT!
URL:https://www.diggersservicesclub.com.au/event/sunday-bingo-2/2026-01-04/
CATEGORIES:Food & DIning
ATTACH;FMTTYPE=image/jpeg:https://www.diggersservicesclub.com.au/wp/wp-content/uploads/2025/06/NEW-Sun-Program_page-0001.jpg
END:VEVENT
BEGIN:VEVENT
DTSTART;TZID=Australia/Brisbane:20260103T173000
DTEND;TZID=Australia/Brisbane:20260103T203000
DTSTAMP:20260423T221111
CREATED:20250303T183210Z
LAST-MODIFIED:20250710T034931Z
UID:10013022-1767461400-1767472200@www.diggersservicesclub.com.au
SUMMARY:Saturday PM Bingo
DESCRIPTION:Doors open – 5.30pm / Eyes Down – 7pm (Paper sales close @ 6.55pm)\nJackpot starts @ $1500 UNLIMITED CALLS\nTreble sheet – $200/$300/$500\nBook 10 (Feature/Full House) – $50/$60/$70\nBook 5 (Trebles) – $50/$70/$100
URL:https://www.diggersservicesclub.com.au/event/saturday-pm-bingo/2026-01-03/
CATEGORIES:Bingo
ATTACH;FMTTYPE=image/jpeg:https://www.diggersservicesclub.com.au/wp/wp-content/uploads/2025/03/NEW-Sat-PM-Program_page-0001.jpg
END:VEVENT
BEGIN:VEVENT
DTSTART;TZID=Australia/Brisbane:20260103T170000
DTEND;TZID=Australia/Brisbane:20260103T193000
DTSTAMP:20260423T221111
CREATED:20250619T002700Z
LAST-MODIFIED:20250619T002700Z
UID:10014632-1767459600-1767468600@www.diggersservicesclub.com.au
SUMMARY:Diggers Dollars
DESCRIPTION:Saturdays 5pm – 7.30pm\nFind the gold & win up to $4K Cash! 4x $100 consolation prizes weekly!
URL:https://www.diggersservicesclub.com.au/event/diggers-dollars/2026-01-03/
CATEGORIES:Gaming
ATTACH;FMTTYPE=image/jpeg:https://www.diggersservicesclub.com.au/wp/wp-content/uploads/2025/06/Dollar-Diggers_A3_PRINT.jpg
END:VEVENT
BEGIN:VEVENT
DTSTART;TZID=Australia/Brisbane:20260103T100000
DTEND;TZID=Australia/Brisbane:20260103T130000
DTSTAMP:20260423T221111
CREATED:20250303T183006Z
LAST-MODIFIED:20250710T034919Z
UID:10012761-1767434400-1767445200@www.diggersservicesclub.com.au
SUMMARY:Saturday AM Bingo
DESCRIPTION:Doors open – 10am / Eyes Down – 11am (Paper sales close @ 10.55am)\nJackpot starts @ $1\,000 UNLIMITED CALLS + Bingo Ball Multiplier\nTreble sheet – $200/$250/$300\nBook 10 (Trebles) – $40/$50/$60\nBook 5 (Feature/Full House) – $50/$60/$70
URL:https://www.diggersservicesclub.com.au/event/saturday-am-bingo/2026-01-03/
CATEGORIES:Bingo
ATTACH;FMTTYPE=image/jpeg:https://www.diggersservicesclub.com.au/wp/wp-content/uploads/2025/03/NEW-Sat-AM-Program_page-0001.jpg
END:VEVENT
BEGIN:VEVENT
DTSTART;TZID=Australia/Brisbane:20260103T093000
DTEND;TZID=Australia/Brisbane:20260103T121000
DTSTAMP:20260423T221111
CREATED:20240929T191811Z
LAST-MODIFIED:20240929T191811Z
UID:10007090-1767432600-1767442200@www.diggersservicesclub.com.au
SUMMARY:Weekly Saturday Raffles
DESCRIPTION:Diggers Services Club is the place to be every Saturday! Aside from all the happenings at the club\, you can also take part in our weekly Saturday Raffles. With $650 in cash and prizes\, including four meat trays\, club vouchers\, and cash vouchers\, there’s no better way to spend a Saturday. \nAdditionally\, become a Star VIP Raffle Club member for extra chances to win our Saturday Raffle. It’s free to join\, and your chances of winning increase. \nTickets go on sale at 10:30 am and are drawn at 1.10 pm every Saturday. \nPrizes Drawn in Random order \n\n4x $60 Meat Trays\n2x $50 Coles/Myer Gift Cards\n1x $60 Carton Beer\n$50 Club Voucher (1 x $20 & 1 x $30)\n$50 Cash\n$100 Cash\n$50 Cash\n\n 
URL:https://www.diggersservicesclub.com.au/event/weekly-saturday-raffles-2/2026-01-03/
CATEGORIES:Raffles
ATTACH;FMTTYPE=image/jpeg:https://www.diggersservicesclub.com.au/wp/wp-content/uploads/2021/07/Sat-Raffle_A3_PRINT.jpg
END:VEVENT
BEGIN:VEVENT
DTSTART;TZID=Australia/Brisbane:20260102T173000
DTEND;TZID=Australia/Brisbane:20260102T203000
DTSTAMP:20260423T221111
CREATED:20250303T182908Z
LAST-MODIFIED:20250303T182908Z
UID:10012239-1767375000-1767385800@www.diggersservicesclub.com.au
SUMMARY:Friday PM Bingo
DESCRIPTION:Doors open – 5.30pm / Eyes Down – 7pm (Paper sales close @ 6.55pm)\nJackpot starts @ $2000 in 50 calls (+1 call & $250 each week unclaimed)\nTreble sheet – $100/$200/$300\nBook 10 (Feature/Full House) – $50/$100/$150\nBook 5 (Trebles) – $50/$100/$150
URL:https://www.diggersservicesclub.com.au/event/friday-pm-bingo/2026-01-02/
CATEGORIES:Bingo
ATTACH;FMTTYPE=image/jpeg:https://www.diggersservicesclub.com.au/wp/wp-content/uploads/2025/03/NEW-Fri-PM-Program_page-0001.jpg
END:VEVENT
END:VCALENDAR