BEGIN:VCALENDAR
VERSION:2.0
PRODID:-//Diggers Services Club - ECPv6.15.20//NONSGML v1.0//EN
CALSCALE:GREGORIAN
METHOD:PUBLISH
X-WR-CALNAME:Diggers Services Club
X-ORIGINAL-URL:https://www.diggersservicesclub.com.au
X-WR-CALDESC:Events for Diggers Services Club
REFRESH-INTERVAL;VALUE=DURATION:PT1H
X-Robots-Tag:noindex
X-PUBLISHED-TTL:PT1H
BEGIN:VTIMEZONE
TZID:Australia/Brisbane
BEGIN:STANDARD
TZOFFSETFROM:+1000
TZOFFSETTO:+1000
TZNAME:AEST
DTSTART:20240101T000000
END:STANDARD
END:VTIMEZONE
BEGIN:VEVENT
DTSTART;TZID=Australia/Brisbane:20251212T123000
DTEND;TZID=Australia/Brisbane:20251212T150000
DTSTAMP:20260424T080853
CREATED:20250619T002328Z
LAST-MODIFIED:20250619T002344Z
UID:10013349-1765542600-1765551600@www.diggersservicesclub.com.au
SUMMARY:Grocery Grab
DESCRIPTION:Mondays & Fridays 12.30pm – 3pm\nWin up to $800 per week on Cash\, Prizes & Groceries!
URL:https://www.diggersservicesclub.com.au/event/grocery-grab/2025-12-12/
CATEGORIES:Gaming
ATTACH;FMTTYPE=image/jpeg:https://www.diggersservicesclub.com.au/wp/wp-content/uploads/2025/06/GroceryGrab_A3_PRINT.jpg
END:VEVENT
BEGIN:VEVENT
DTSTART;TZID=Australia/Brisbane:20251212T100000
DTEND;TZID=Australia/Brisbane:20251212T130000
DTSTAMP:20260424T080853
CREATED:20250303T182721Z
LAST-MODIFIED:20250303T182721Z
UID:10011714-1765533600-1765544400@www.diggersservicesclub.com.au
SUMMARY:Friday AM Bingo
DESCRIPTION:Doors open – 10am / Eyes Down – 11am (Paper sales close @ 10.55am)\nHALF PRICE & SHORTER SESSION\nJackpot starts @ $1000 in 45 calls (+1 call each week unclaimed)\nTreble sheet – $100/$150/$200\nBook 10 (Trebles) – $20/$30/$40
URL:https://www.diggersservicesclub.com.au/event/friday-am-bingo/2025-12-12/
CATEGORIES:Bingo
ATTACH;FMTTYPE=image/jpeg:https://www.diggersservicesclub.com.au/wp/wp-content/uploads/2025/03/NEW-Fri-AM-Program_page-0001.jpg
END:VEVENT
BEGIN:VEVENT
DTSTART;TZID=Australia/Brisbane:20251211T210000
DTEND;TZID=Australia/Brisbane:20251211T230000
DTSTAMP:20260424T080853
CREATED:20250619T002616Z
LAST-MODIFIED:20250619T053802Z
UID:10014132-1765486800-1765494000@www.diggersservicesclub.com.au
SUMMARY:Fast Fortune
DESCRIPTION:Thursday & Sundays 9pm – 11pm\nRandom gaming machine draws! Win a share in $500 Cash!
URL:https://www.diggersservicesclub.com.au/event/fast-fortune/2025-12-11/
CATEGORIES:Gaming
ATTACH;FMTTYPE=image/jpeg:https://www.diggersservicesclub.com.au/wp/wp-content/uploads/2025/06/Fast_Fortune_A3_PRINT.jpg
END:VEVENT
BEGIN:VEVENT
DTSTART;TZID=Australia/Brisbane:20251211T180000
DTEND;TZID=Australia/Brisbane:20251211T210000
DTSTAMP:20260424T080853
CREATED:20250303T182627Z
LAST-MODIFIED:20250303T182746Z
UID:10011975-1765476000-1765486800@www.diggersservicesclub.com.au
SUMMARY:Thursday PM Bingo
DESCRIPTION:Doors open – 6pm / Eyes Down – 7pm (Paper sales close @ 6.55pm)\nJackpot starts @ $1500 in 55 calls (+1 call & $100 each week unclaimed)\nTreble sheet – $200/$250/$300\nBook 10 (Feature/Full House) – $50/$60/$70\nBook 5 (Trebles) – $40/$60/$100
URL:https://www.diggersservicesclub.com.au/event/thursday-pm-bingo/2025-12-11/
CATEGORIES:Bingo
ATTACH;FMTTYPE=image/jpeg:https://www.diggersservicesclub.com.au/wp/wp-content/uploads/2025/03/NEW-Thurs-PM-Program_page-0001.jpg
END:VEVENT
BEGIN:VEVENT
DTSTART;TZID=Australia/Brisbane:20251211T100000
DTEND;TZID=Australia/Brisbane:20251211T130000
DTSTAMP:20260424T080853
CREATED:20251106T005315Z
LAST-MODIFIED:20251106T005315Z
UID:10016396-1765447200-1765458000@www.diggersservicesclub.com.au
SUMMARY:Thursday AM Bingo
DESCRIPTION:Doors open – 10am / Eyes Down – 11am (Paper sales close @ 10.55pm)\nJackpot – $1\,000 UNLIMITED\nTreble sheet – $100/$150/$200\nBook 10 (Trebles) – $20/$30/$40\nBook 5 (Feature/Full House) – $40/$60/$70
URL:https://www.diggersservicesclub.com.au/event/thursday-am-bingo-2/2025-12-11/
ATTACH;FMTTYPE=image/jpeg:https://www.diggersservicesclub.com.au/wp/wp-content/uploads/2025/03/NEW-Thurs-AM-Program_page-0001.jpg
END:VEVENT
BEGIN:VEVENT
DTSTART;TZID=Australia/Brisbane:20251210T190000
DTEND;TZID=Australia/Brisbane:20251210T220000
DTSTAMP:20260424T080853
CREATED:20250619T002453Z
LAST-MODIFIED:20250619T002541Z
UID:10013845-1765393200-1765404000@www.diggersservicesclub.com.au
SUMMARY:Race to Gold
DESCRIPTION:Wednesday 7pm – 10pm\nWin up to $250 cash every 30 mins
URL:https://www.diggersservicesclub.com.au/event/race-to-gold/2025-12-10/
CATEGORIES:Gaming
ATTACH;FMTTYPE=image/jpeg:https://www.diggersservicesclub.com.au/wp/wp-content/uploads/2025/06/Wednesdays_Race-to-Gold_A3_PRINT.jpg
END:VEVENT
BEGIN:VEVENT
DTSTART;TZID=Australia/Brisbane:20251210T100000
DTEND;TZID=Australia/Brisbane:20251210T130000
DTSTAMP:20260424T080853
CREATED:20251106T004951Z
LAST-MODIFIED:20251106T004951Z
UID:10016134-1765360800-1765371600@www.diggersservicesclub.com.au
SUMMARY:Wednesday AM Bingo
DESCRIPTION:Doors open – 10am / Eyes Down – 11am (Paper sales close @ 10.55am)\nJackpot starts @ $2\,000 in 45 calls (+1 call each week unclaimed)\nTreble sheet – $100/$100/$100\nBook 10 (Trebles) – $40/$50/$60\nBook 5 (Feature/Full House) – $40/$50/$60
URL:https://www.diggersservicesclub.com.au/event/wednesday-am-bingo/2025-12-10/
ATTACH;FMTTYPE=image/jpeg:https://www.diggersservicesclub.com.au/wp/wp-content/uploads/2025/03/NEW-Wednesday-Program_page-0001-Copy.jpg
END:VEVENT
BEGIN:VEVENT
DTSTART;TZID=Australia/Brisbane:20251209T100000
DTEND;TZID=Australia/Brisbane:20251209T130000
DTSTAMP:20260424T080853
CREATED:20250710T035034Z
LAST-MODIFIED:20250710T035034Z
UID:10015766-1765274400-1765285200@www.diggersservicesclub.com.au
SUMMARY:Tuesday AM Bingo
DESCRIPTION:Doors open – 10am / Eyes down – 11am (paper sales close @10.55am)\nJackpot starts @ $3\,500 in 45 calls (+1 call each week unclaimed) $500 consolation\n$750 Treble sheet – $200/$250/$300\nBook 10 (Feature/Full House) – $40/$50/$60\nBook 5 (Trebles) – $50/$70/$100
URL:https://www.diggersservicesclub.com.au/event/tuesday-am-bingo/2025-12-09/
CATEGORIES:Bingo
ATTACH;FMTTYPE=image/jpeg:https://www.diggersservicesclub.com.au/wp/wp-content/uploads/2025/07/tuesday-bingo_A3_PRINT.jpg
END:VEVENT
BEGIN:VEVENT
DTSTART;TZID=Australia/Brisbane:20251208T123000
DTEND;TZID=Australia/Brisbane:20251208T150000
DTSTAMP:20260424T080853
CREATED:20250619T002328Z
LAST-MODIFIED:20250619T002344Z
UID:10013348-1765197000-1765206000@www.diggersservicesclub.com.au
SUMMARY:Grocery Grab
DESCRIPTION:Mondays & Fridays 12.30pm – 3pm\nWin up to $800 per week on Cash\, Prizes & Groceries!
URL:https://www.diggersservicesclub.com.au/event/grocery-grab/2025-12-08/
CATEGORIES:Gaming
ATTACH;FMTTYPE=image/jpeg:https://www.diggersservicesclub.com.au/wp/wp-content/uploads/2025/06/GroceryGrab_A3_PRINT.jpg
END:VEVENT
BEGIN:VEVENT
DTSTART;TZID=Australia/Brisbane:20251208T100000
DTEND;TZID=Australia/Brisbane:20251208T130000
DTSTAMP:20260424T080853
CREATED:20250303T181740Z
LAST-MODIFIED:20250303T181740Z
UID:10010408-1765188000-1765198800@www.diggersservicesclub.com.au
SUMMARY:Monday Bingo
DESCRIPTION:Doors open – 10am / Eyes Down – 11am\nPAPER ONLY SESSION\nJackpot starts @ $1000 in 45 calls (+1 call & $100 each week unclaimed)\nTreble sheet – $100/$100/$100\nBook 10 (Feature/Full House) – $20/$30/$40\nBook 5 (Trebles) – $40/$40/$40
URL:https://www.diggersservicesclub.com.au/event/monday-bingo/2025-12-08/
CATEGORIES:Bingo
ATTACH;FMTTYPE=image/jpeg:https://www.diggersservicesclub.com.au/wp/wp-content/uploads/2025/03/NEW-Monday-Program_page-0001.jpg
END:VEVENT
BEGIN:VEVENT
DTSTART;TZID=Australia/Brisbane:20251207T210000
DTEND;TZID=Australia/Brisbane:20251207T230000
DTSTAMP:20260424T080853
CREATED:20250619T002616Z
LAST-MODIFIED:20250619T053802Z
UID:10015155-1765141200-1765148400@www.diggersservicesclub.com.au
SUMMARY:Fast Fortune
DESCRIPTION:Thursday & Sundays 9pm – 11pm\nRandom gaming machine draws! Win a share in $500 Cash!
URL:https://www.diggersservicesclub.com.au/event/fast-fortune/2025-12-07/
CATEGORIES:Gaming
ATTACH;FMTTYPE=image/jpeg:https://www.diggersservicesclub.com.au/wp/wp-content/uploads/2025/06/Fast_Fortune_A3_PRINT.jpg
END:VEVENT
BEGIN:VEVENT
DTSTART;TZID=Australia/Brisbane:20251207T120000
DTEND;TZID=Australia/Brisbane:20251207T150000
DTSTAMP:20260424T080853
CREATED:20250619T002918Z
LAST-MODIFIED:20251119T220606Z
UID:10014889-1765108800-1765119600@www.diggersservicesclub.com.au
SUMMARY:Sunday Bingo
DESCRIPTION:Sunday 12pm – 3pm\nTicket Sales 12pm\nEyes Down 1pm\nOver $4k cash to be won\n$1.5K UNLIMITED JACKPOT!
URL:https://www.diggersservicesclub.com.au/event/sunday-bingo-2/2025-12-07/
CATEGORIES:Food & DIning
ATTACH;FMTTYPE=image/jpeg:https://www.diggersservicesclub.com.au/wp/wp-content/uploads/2025/06/NEW-Sun-Program_page-0001.jpg
END:VEVENT
BEGIN:VEVENT
DTSTART;TZID=Australia/Brisbane:20251206T173000
DTEND;TZID=Australia/Brisbane:20251206T203000
DTSTAMP:20260424T080853
CREATED:20250303T183210Z
LAST-MODIFIED:20250710T034931Z
UID:10013018-1765042200-1765053000@www.diggersservicesclub.com.au
SUMMARY:Saturday PM Bingo
DESCRIPTION:Doors open – 5.30pm / Eyes Down – 7pm (Paper sales close @ 6.55pm)\nJackpot starts @ $1500 UNLIMITED CALLS\nTreble sheet – $200/$300/$500\nBook 10 (Feature/Full House) – $50/$60/$70\nBook 5 (Trebles) – $50/$70/$100
URL:https://www.diggersservicesclub.com.au/event/saturday-pm-bingo/2025-12-06/
CATEGORIES:Bingo
ATTACH;FMTTYPE=image/jpeg:https://www.diggersservicesclub.com.au/wp/wp-content/uploads/2025/03/NEW-Sat-PM-Program_page-0001.jpg
END:VEVENT
BEGIN:VEVENT
DTSTART;TZID=Australia/Brisbane:20251206T170000
DTEND;TZID=Australia/Brisbane:20251206T193000
DTSTAMP:20260424T080853
CREATED:20250619T002700Z
LAST-MODIFIED:20250619T002700Z
UID:10014628-1765040400-1765049400@www.diggersservicesclub.com.au
SUMMARY:Diggers Dollars
DESCRIPTION:Saturdays 5pm – 7.30pm\nFind the gold & win up to $4K Cash! 4x $100 consolation prizes weekly!
URL:https://www.diggersservicesclub.com.au/event/diggers-dollars/2025-12-06/
CATEGORIES:Gaming
ATTACH;FMTTYPE=image/jpeg:https://www.diggersservicesclub.com.au/wp/wp-content/uploads/2025/06/Dollar-Diggers_A3_PRINT.jpg
END:VEVENT
BEGIN:VEVENT
DTSTART;TZID=Australia/Brisbane:20251206T100000
DTEND;TZID=Australia/Brisbane:20251206T130000
DTSTAMP:20260424T080853
CREATED:20250303T183006Z
LAST-MODIFIED:20250710T034919Z
UID:10012757-1765015200-1765026000@www.diggersservicesclub.com.au
SUMMARY:Saturday AM Bingo
DESCRIPTION:Doors open – 10am / Eyes Down – 11am (Paper sales close @ 10.55am)\nJackpot starts @ $1\,000 UNLIMITED CALLS + Bingo Ball Multiplier\nTreble sheet – $200/$250/$300\nBook 10 (Trebles) – $40/$50/$60\nBook 5 (Feature/Full House) – $50/$60/$70
URL:https://www.diggersservicesclub.com.au/event/saturday-am-bingo/2025-12-06/
CATEGORIES:Bingo
ATTACH;FMTTYPE=image/jpeg:https://www.diggersservicesclub.com.au/wp/wp-content/uploads/2025/03/NEW-Sat-AM-Program_page-0001.jpg
END:VEVENT
BEGIN:VEVENT
DTSTART;TZID=Australia/Brisbane:20251206T093000
DTEND;TZID=Australia/Brisbane:20251206T121000
DTSTAMP:20260424T080853
CREATED:20240929T191811Z
LAST-MODIFIED:20240929T191811Z
UID:10007086-1765013400-1765023000@www.diggersservicesclub.com.au
SUMMARY:Weekly Saturday Raffles
DESCRIPTION:Diggers Services Club is the place to be every Saturday! Aside from all the happenings at the club\, you can also take part in our weekly Saturday Raffles. With $650 in cash and prizes\, including four meat trays\, club vouchers\, and cash vouchers\, there’s no better way to spend a Saturday. \nAdditionally\, become a Star VIP Raffle Club member for extra chances to win our Saturday Raffle. It’s free to join\, and your chances of winning increase. \nTickets go on sale at 10:30 am and are drawn at 1.10 pm every Saturday. \nPrizes Drawn in Random order \n\n4x $60 Meat Trays\n2x $50 Coles/Myer Gift Cards\n1x $60 Carton Beer\n$50 Club Voucher (1 x $20 & 1 x $30)\n$50 Cash\n$100 Cash\n$50 Cash\n\n 
URL:https://www.diggersservicesclub.com.au/event/weekly-saturday-raffles-2/2025-12-06/
CATEGORIES:Raffles
ATTACH;FMTTYPE=image/jpeg:https://www.diggersservicesclub.com.au/wp/wp-content/uploads/2021/07/Sat-Raffle_A3_PRINT.jpg
END:VEVENT
BEGIN:VEVENT
DTSTART;TZID=Australia/Brisbane:20251205T173000
DTEND;TZID=Australia/Brisbane:20251205T203000
DTSTAMP:20260424T080853
CREATED:20250303T182908Z
LAST-MODIFIED:20250303T182908Z
UID:10012235-1764955800-1764966600@www.diggersservicesclub.com.au
SUMMARY:Friday PM Bingo
DESCRIPTION:Doors open – 5.30pm / Eyes Down – 7pm (Paper sales close @ 6.55pm)\nJackpot starts @ $2000 in 50 calls (+1 call & $250 each week unclaimed)\nTreble sheet – $100/$200/$300\nBook 10 (Feature/Full House) – $50/$100/$150\nBook 5 (Trebles) – $50/$100/$150
URL:https://www.diggersservicesclub.com.au/event/friday-pm-bingo/2025-12-05/
CATEGORIES:Bingo
ATTACH;FMTTYPE=image/jpeg:https://www.diggersservicesclub.com.au/wp/wp-content/uploads/2025/03/NEW-Fri-PM-Program_page-0001.jpg
END:VEVENT
BEGIN:VEVENT
DTSTART;TZID=Australia/Brisbane:20251205T123000
DTEND;TZID=Australia/Brisbane:20251205T150000
DTSTAMP:20260424T080853
CREATED:20250619T002328Z
LAST-MODIFIED:20250619T002344Z
UID:10013347-1764937800-1764946800@www.diggersservicesclub.com.au
SUMMARY:Grocery Grab
DESCRIPTION:Mondays & Fridays 12.30pm – 3pm\nWin up to $800 per week on Cash\, Prizes & Groceries!
URL:https://www.diggersservicesclub.com.au/event/grocery-grab/2025-12-05/
CATEGORIES:Gaming
ATTACH;FMTTYPE=image/jpeg:https://www.diggersservicesclub.com.au/wp/wp-content/uploads/2025/06/GroceryGrab_A3_PRINT.jpg
END:VEVENT
BEGIN:VEVENT
DTSTART;TZID=Australia/Brisbane:20251205T100000
DTEND;TZID=Australia/Brisbane:20251205T130000
DTSTAMP:20260424T080853
CREATED:20250303T182721Z
LAST-MODIFIED:20250303T182721Z
UID:10011713-1764928800-1764939600@www.diggersservicesclub.com.au
SUMMARY:Friday AM Bingo
DESCRIPTION:Doors open – 10am / Eyes Down – 11am (Paper sales close @ 10.55am)\nHALF PRICE & SHORTER SESSION\nJackpot starts @ $1000 in 45 calls (+1 call each week unclaimed)\nTreble sheet – $100/$150/$200\nBook 10 (Trebles) – $20/$30/$40
URL:https://www.diggersservicesclub.com.au/event/friday-am-bingo/2025-12-05/
CATEGORIES:Bingo
ATTACH;FMTTYPE=image/jpeg:https://www.diggersservicesclub.com.au/wp/wp-content/uploads/2025/03/NEW-Fri-AM-Program_page-0001.jpg
END:VEVENT
BEGIN:VEVENT
DTSTART;TZID=Australia/Brisbane:20251204T210000
DTEND;TZID=Australia/Brisbane:20251204T230000
DTSTAMP:20260424T080853
CREATED:20250619T002616Z
LAST-MODIFIED:20250619T053802Z
UID:10014130-1764882000-1764889200@www.diggersservicesclub.com.au
SUMMARY:Fast Fortune
DESCRIPTION:Thursday & Sundays 9pm – 11pm\nRandom gaming machine draws! Win a share in $500 Cash!
URL:https://www.diggersservicesclub.com.au/event/fast-fortune/2025-12-04/
CATEGORIES:Gaming
ATTACH;FMTTYPE=image/jpeg:https://www.diggersservicesclub.com.au/wp/wp-content/uploads/2025/06/Fast_Fortune_A3_PRINT.jpg
END:VEVENT
BEGIN:VEVENT
DTSTART;TZID=Australia/Brisbane:20251204T180000
DTEND;TZID=Australia/Brisbane:20251204T210000
DTSTAMP:20260424T080853
CREATED:20250303T182627Z
LAST-MODIFIED:20250303T182746Z
UID:10011974-1764871200-1764882000@www.diggersservicesclub.com.au
SUMMARY:Thursday PM Bingo
DESCRIPTION:Doors open – 6pm / Eyes Down – 7pm (Paper sales close @ 6.55pm)\nJackpot starts @ $1500 in 55 calls (+1 call & $100 each week unclaimed)\nTreble sheet – $200/$250/$300\nBook 10 (Feature/Full House) – $50/$60/$70\nBook 5 (Trebles) – $40/$60/$100
URL:https://www.diggersservicesclub.com.au/event/thursday-pm-bingo/2025-12-04/
CATEGORIES:Bingo
ATTACH;FMTTYPE=image/jpeg:https://www.diggersservicesclub.com.au/wp/wp-content/uploads/2025/03/NEW-Thurs-PM-Program_page-0001.jpg
END:VEVENT
BEGIN:VEVENT
DTSTART;TZID=Australia/Brisbane:20251204T100000
DTEND;TZID=Australia/Brisbane:20251204T130000
DTSTAMP:20260424T080853
CREATED:20251106T005315Z
LAST-MODIFIED:20251106T005315Z
UID:10016395-1764842400-1764853200@www.diggersservicesclub.com.au
SUMMARY:Thursday AM Bingo
DESCRIPTION:Doors open – 10am / Eyes Down – 11am (Paper sales close @ 10.55pm)\nJackpot – $1\,000 UNLIMITED\nTreble sheet – $100/$150/$200\nBook 10 (Trebles) – $20/$30/$40\nBook 5 (Feature/Full House) – $40/$60/$70
URL:https://www.diggersservicesclub.com.au/event/thursday-am-bingo-2/2025-12-04/
ATTACH;FMTTYPE=image/jpeg:https://www.diggersservicesclub.com.au/wp/wp-content/uploads/2025/03/NEW-Thurs-AM-Program_page-0001.jpg
END:VEVENT
BEGIN:VEVENT
DTSTART;TZID=Australia/Brisbane:20251203T190000
DTEND;TZID=Australia/Brisbane:20251203T220000
DTSTAMP:20260424T080853
CREATED:20250619T002453Z
LAST-MODIFIED:20250619T002541Z
UID:10013844-1764788400-1764799200@www.diggersservicesclub.com.au
SUMMARY:Race to Gold
DESCRIPTION:Wednesday 7pm – 10pm\nWin up to $250 cash every 30 mins
URL:https://www.diggersservicesclub.com.au/event/race-to-gold/2025-12-03/
CATEGORIES:Gaming
ATTACH;FMTTYPE=image/jpeg:https://www.diggersservicesclub.com.au/wp/wp-content/uploads/2025/06/Wednesdays_Race-to-Gold_A3_PRINT.jpg
END:VEVENT
BEGIN:VEVENT
DTSTART;TZID=Australia/Brisbane:20251203T100000
DTEND;TZID=Australia/Brisbane:20251203T130000
DTSTAMP:20260424T080853
CREATED:20251106T004951Z
LAST-MODIFIED:20251106T004951Z
UID:10016133-1764756000-1764766800@www.diggersservicesclub.com.au
SUMMARY:Wednesday AM Bingo
DESCRIPTION:Doors open – 10am / Eyes Down – 11am (Paper sales close @ 10.55am)\nJackpot starts @ $2\,000 in 45 calls (+1 call each week unclaimed)\nTreble sheet – $100/$100/$100\nBook 10 (Trebles) – $40/$50/$60\nBook 5 (Feature/Full House) – $40/$50/$60
URL:https://www.diggersservicesclub.com.au/event/wednesday-am-bingo/2025-12-03/
ATTACH;FMTTYPE=image/jpeg:https://www.diggersservicesclub.com.au/wp/wp-content/uploads/2025/03/NEW-Wednesday-Program_page-0001-Copy.jpg
END:VEVENT
BEGIN:VEVENT
DTSTART;TZID=Australia/Brisbane:20251202T100000
DTEND;TZID=Australia/Brisbane:20251202T130000
DTSTAMP:20260424T080853
CREATED:20250710T035034Z
LAST-MODIFIED:20250710T035034Z
UID:10015765-1764669600-1764680400@www.diggersservicesclub.com.au
SUMMARY:Tuesday AM Bingo
DESCRIPTION:Doors open – 10am / Eyes down – 11am (paper sales close @10.55am)\nJackpot starts @ $3\,500 in 45 calls (+1 call each week unclaimed) $500 consolation\n$750 Treble sheet – $200/$250/$300\nBook 10 (Feature/Full House) – $40/$50/$60\nBook 5 (Trebles) – $50/$70/$100
URL:https://www.diggersservicesclub.com.au/event/tuesday-am-bingo/2025-12-02/
CATEGORIES:Bingo
ATTACH;FMTTYPE=image/jpeg:https://www.diggersservicesclub.com.au/wp/wp-content/uploads/2025/07/tuesday-bingo_A3_PRINT.jpg
END:VEVENT
BEGIN:VEVENT
DTSTART;TZID=Australia/Brisbane:20251201T123000
DTEND;TZID=Australia/Brisbane:20251201T150000
DTSTAMP:20260424T080853
CREATED:20250619T002328Z
LAST-MODIFIED:20250619T002344Z
UID:10013346-1764592200-1764601200@www.diggersservicesclub.com.au
SUMMARY:Grocery Grab
DESCRIPTION:Mondays & Fridays 12.30pm – 3pm\nWin up to $800 per week on Cash\, Prizes & Groceries!
URL:https://www.diggersservicesclub.com.au/event/grocery-grab/2025-12-01/
CATEGORIES:Gaming
ATTACH;FMTTYPE=image/jpeg:https://www.diggersservicesclub.com.au/wp/wp-content/uploads/2025/06/GroceryGrab_A3_PRINT.jpg
END:VEVENT
BEGIN:VEVENT
DTSTART;TZID=Australia/Brisbane:20251201T100000
DTEND;TZID=Australia/Brisbane:20251201T130000
DTSTAMP:20260424T080853
CREATED:20250303T181740Z
LAST-MODIFIED:20250303T181740Z
UID:10010407-1764583200-1764594000@www.diggersservicesclub.com.au
SUMMARY:Monday Bingo
DESCRIPTION:Doors open – 10am / Eyes Down – 11am\nPAPER ONLY SESSION\nJackpot starts @ $1000 in 45 calls (+1 call & $100 each week unclaimed)\nTreble sheet – $100/$100/$100\nBook 10 (Feature/Full House) – $20/$30/$40\nBook 5 (Trebles) – $40/$40/$40
URL:https://www.diggersservicesclub.com.au/event/monday-bingo/2025-12-01/
CATEGORIES:Bingo
ATTACH;FMTTYPE=image/jpeg:https://www.diggersservicesclub.com.au/wp/wp-content/uploads/2025/03/NEW-Monday-Program_page-0001.jpg
END:VEVENT
BEGIN:VEVENT
DTSTART;TZID=Australia/Brisbane:20251130T210000
DTEND;TZID=Australia/Brisbane:20251130T230000
DTSTAMP:20260424T080853
CREATED:20250619T002616Z
LAST-MODIFIED:20250619T053802Z
UID:10015154-1764536400-1764543600@www.diggersservicesclub.com.au
SUMMARY:Fast Fortune
DESCRIPTION:Thursday & Sundays 9pm – 11pm\nRandom gaming machine draws! Win a share in $500 Cash!
URL:https://www.diggersservicesclub.com.au/event/fast-fortune/2025-11-30/
CATEGORIES:Gaming
ATTACH;FMTTYPE=image/jpeg:https://www.diggersservicesclub.com.au/wp/wp-content/uploads/2025/06/Fast_Fortune_A3_PRINT.jpg
END:VEVENT
BEGIN:VEVENT
DTSTART;TZID=Australia/Brisbane:20251130T120000
DTEND;TZID=Australia/Brisbane:20251130T150000
DTSTAMP:20260424T080853
CREATED:20250619T002918Z
LAST-MODIFIED:20251119T220606Z
UID:10014888-1764504000-1764514800@www.diggersservicesclub.com.au
SUMMARY:Sunday Bingo
DESCRIPTION:Sunday 12pm – 3pm\nTicket Sales 12pm\nEyes Down 1pm\nOver $4k cash to be won\n$1.5K UNLIMITED JACKPOT!
URL:https://www.diggersservicesclub.com.au/event/sunday-bingo-2/2025-11-30/
CATEGORIES:Food & DIning
ATTACH;FMTTYPE=image/jpeg:https://www.diggersservicesclub.com.au/wp/wp-content/uploads/2025/06/NEW-Sun-Program_page-0001.jpg
END:VEVENT
BEGIN:VEVENT
DTSTART;TZID=Australia/Brisbane:20251129T173000
DTEND;TZID=Australia/Brisbane:20251129T203000
DTSTAMP:20260424T080853
CREATED:20250303T183210Z
LAST-MODIFIED:20250710T034931Z
UID:10013017-1764437400-1764448200@www.diggersservicesclub.com.au
SUMMARY:Saturday PM Bingo
DESCRIPTION:Doors open – 5.30pm / Eyes Down – 7pm (Paper sales close @ 6.55pm)\nJackpot starts @ $1500 UNLIMITED CALLS\nTreble sheet – $200/$300/$500\nBook 10 (Feature/Full House) – $50/$60/$70\nBook 5 (Trebles) – $50/$70/$100
URL:https://www.diggersservicesclub.com.au/event/saturday-pm-bingo/2025-11-29/
CATEGORIES:Bingo
ATTACH;FMTTYPE=image/jpeg:https://www.diggersservicesclub.com.au/wp/wp-content/uploads/2025/03/NEW-Sat-PM-Program_page-0001.jpg
END:VEVENT
END:VCALENDAR