BEGIN:VCALENDAR
VERSION:2.0
PRODID:-//Diggers Services Club - ECPv6.15.20//NONSGML v1.0//EN
CALSCALE:GREGORIAN
METHOD:PUBLISH
X-WR-CALNAME:Diggers Services Club
X-ORIGINAL-URL:https://www.diggersservicesclub.com.au
X-WR-CALDESC:Events for Diggers Services Club
REFRESH-INTERVAL;VALUE=DURATION:PT1H
X-Robots-Tag:noindex
X-PUBLISHED-TTL:PT1H
BEGIN:VTIMEZONE
TZID:Australia/Brisbane
BEGIN:STANDARD
TZOFFSETFROM:+1000
TZOFFSETTO:+1000
TZNAME:AEST
DTSTART:20240101T000000
END:STANDARD
END:VTIMEZONE
BEGIN:VEVENT
DTSTART;TZID=Australia/Brisbane:20251113T100000
DTEND;TZID=Australia/Brisbane:20251113T130000
DTSTAMP:20260424T153635
CREATED:20251106T005315Z
LAST-MODIFIED:20251106T005315Z
UID:10016392-1763028000-1763038800@www.diggersservicesclub.com.au
SUMMARY:Thursday AM Bingo
DESCRIPTION:Doors open – 10am / Eyes Down – 11am (Paper sales close @ 10.55pm)\nJackpot – $1\,000 UNLIMITED\nTreble sheet – $100/$150/$200\nBook 10 (Trebles) – $20/$30/$40\nBook 5 (Feature/Full House) – $40/$60/$70
URL:https://www.diggersservicesclub.com.au/event/thursday-am-bingo-2/2025-11-13/
ATTACH;FMTTYPE=image/jpeg:https://www.diggersservicesclub.com.au/wp/wp-content/uploads/2025/03/NEW-Thurs-AM-Program_page-0001.jpg
END:VEVENT
BEGIN:VEVENT
DTSTART;TZID=Australia/Brisbane:20251112T190000
DTEND;TZID=Australia/Brisbane:20251112T220000
DTSTAMP:20260424T153635
CREATED:20250619T002453Z
LAST-MODIFIED:20250619T002541Z
UID:10013841-1762974000-1762984800@www.diggersservicesclub.com.au
SUMMARY:Race to Gold
DESCRIPTION:Wednesday 7pm – 10pm\nWin up to $250 cash every 30 mins
URL:https://www.diggersservicesclub.com.au/event/race-to-gold/2025-11-12/
CATEGORIES:Gaming
ATTACH;FMTTYPE=image/jpeg:https://www.diggersservicesclub.com.au/wp/wp-content/uploads/2025/06/Wednesdays_Race-to-Gold_A3_PRINT.jpg
END:VEVENT
BEGIN:VEVENT
DTSTART;TZID=Australia/Brisbane:20251112T100000
DTEND;TZID=Australia/Brisbane:20251112T130000
DTSTAMP:20260424T153635
CREATED:20251106T004951Z
LAST-MODIFIED:20251106T004951Z
UID:10016130-1762941600-1762952400@www.diggersservicesclub.com.au
SUMMARY:Wednesday AM Bingo
DESCRIPTION:Doors open – 10am / Eyes Down – 11am (Paper sales close @ 10.55am)\nJackpot starts @ $2\,000 in 45 calls (+1 call each week unclaimed)\nTreble sheet – $100/$100/$100\nBook 10 (Trebles) – $40/$50/$60\nBook 5 (Feature/Full House) – $40/$50/$60
URL:https://www.diggersservicesclub.com.au/event/wednesday-am-bingo/2025-11-12/
ATTACH;FMTTYPE=image/jpeg:https://www.diggersservicesclub.com.au/wp/wp-content/uploads/2025/03/NEW-Wednesday-Program_page-0001-Copy.jpg
END:VEVENT
BEGIN:VEVENT
DTSTART;TZID=Australia/Brisbane:20251111T100000
DTEND;TZID=Australia/Brisbane:20251111T130000
DTSTAMP:20260424T153635
CREATED:20250710T035034Z
LAST-MODIFIED:20250710T035034Z
UID:10015762-1762855200-1762866000@www.diggersservicesclub.com.au
SUMMARY:Tuesday AM Bingo
DESCRIPTION:Doors open – 10am / Eyes down – 11am (paper sales close @10.55am)\nJackpot starts @ $3\,500 in 45 calls (+1 call each week unclaimed) $500 consolation\n$750 Treble sheet – $200/$250/$300\nBook 10 (Feature/Full House) – $40/$50/$60\nBook 5 (Trebles) – $50/$70/$100
URL:https://www.diggersservicesclub.com.au/event/tuesday-am-bingo/2025-11-11/
CATEGORIES:Bingo
ATTACH;FMTTYPE=image/jpeg:https://www.diggersservicesclub.com.au/wp/wp-content/uploads/2025/07/tuesday-bingo_A3_PRINT.jpg
END:VEVENT
BEGIN:VEVENT
DTSTART;VALUE=DATE:20251111
DTEND;VALUE=DATE:20251113
DTSTAMP:20260424T153635
CREATED:20251013T171255Z
LAST-MODIFIED:20251013T171255Z
UID:10016129-1762822800-1762909199@www.diggersservicesclub.com.au
SUMMARY:Remembrance Day
DESCRIPTION:Bingo Sales 10 – 10.30am\nPlease Arrive by 10.45am for Service\nAll areas stop trading/Doors locked at 10.50am\nService starts 10.50am\nClub reopen 11.05am\nMorning Tea and Fellowship in Bravo bar: 11.05am\nBingo Starts: immediately following service
URL:https://www.diggersservicesclub.com.au/event/remembrance-day-2/
CATEGORIES:Special Event
ATTACH;FMTTYPE=image/jpeg:https://www.diggersservicesclub.com.au/wp/wp-content/uploads/2025/10/Remembrance-Day-25_A3_PRINT.jpg
END:VEVENT
BEGIN:VEVENT
DTSTART;TZID=Australia/Brisbane:20251110T123000
DTEND;TZID=Australia/Brisbane:20251110T150000
DTSTAMP:20260424T153635
CREATED:20250619T002328Z
LAST-MODIFIED:20250619T002344Z
UID:10013340-1762777800-1762786800@www.diggersservicesclub.com.au
SUMMARY:Grocery Grab
DESCRIPTION:Mondays & Fridays 12.30pm – 3pm\nWin up to $800 per week on Cash\, Prizes & Groceries!
URL:https://www.diggersservicesclub.com.au/event/grocery-grab/2025-11-10/
CATEGORIES:Gaming
ATTACH;FMTTYPE=image/jpeg:https://www.diggersservicesclub.com.au/wp/wp-content/uploads/2025/06/GroceryGrab_A3_PRINT.jpg
END:VEVENT
BEGIN:VEVENT
DTSTART;TZID=Australia/Brisbane:20251110T100000
DTEND;TZID=Australia/Brisbane:20251110T130000
DTSTAMP:20260424T153635
CREATED:20250303T181740Z
LAST-MODIFIED:20250303T181740Z
UID:10010404-1762768800-1762779600@www.diggersservicesclub.com.au
SUMMARY:Monday Bingo
DESCRIPTION:Doors open – 10am / Eyes Down – 11am\nPAPER ONLY SESSION\nJackpot starts @ $1000 in 45 calls (+1 call & $100 each week unclaimed)\nTreble sheet – $100/$100/$100\nBook 10 (Feature/Full House) – $20/$30/$40\nBook 5 (Trebles) – $40/$40/$40
URL:https://www.diggersservicesclub.com.au/event/monday-bingo/2025-11-10/
CATEGORIES:Bingo
ATTACH;FMTTYPE=image/jpeg:https://www.diggersservicesclub.com.au/wp/wp-content/uploads/2025/03/NEW-Monday-Program_page-0001.jpg
END:VEVENT
BEGIN:VEVENT
DTSTART;TZID=Australia/Brisbane:20251109T210000
DTEND;TZID=Australia/Brisbane:20251109T230000
DTSTAMP:20260424T153635
CREATED:20250619T002616Z
LAST-MODIFIED:20250619T053802Z
UID:10015151-1762722000-1762729200@www.diggersservicesclub.com.au
SUMMARY:Fast Fortune
DESCRIPTION:Thursday & Sundays 9pm – 11pm\nRandom gaming machine draws! Win a share in $500 Cash!
URL:https://www.diggersservicesclub.com.au/event/fast-fortune/2025-11-09/
CATEGORIES:Gaming
ATTACH;FMTTYPE=image/jpeg:https://www.diggersservicesclub.com.au/wp/wp-content/uploads/2025/06/Fast_Fortune_A3_PRINT.jpg
END:VEVENT
BEGIN:VEVENT
DTSTART;TZID=Australia/Brisbane:20251109T120000
DTEND;TZID=Australia/Brisbane:20251109T150000
DTSTAMP:20260424T153635
CREATED:20250619T002918Z
LAST-MODIFIED:20251119T220606Z
UID:10014885-1762689600-1762700400@www.diggersservicesclub.com.au
SUMMARY:Sunday Bingo
DESCRIPTION:Sunday 12pm – 3pm\nTicket Sales 12pm\nEyes Down 1pm\nOver $4k cash to be won\n$1.5K UNLIMITED JACKPOT!
URL:https://www.diggersservicesclub.com.au/event/sunday-bingo-2/2025-11-09/
CATEGORIES:Food & DIning
ATTACH;FMTTYPE=image/jpeg:https://www.diggersservicesclub.com.au/wp/wp-content/uploads/2025/06/NEW-Sun-Program_page-0001.jpg
END:VEVENT
BEGIN:VEVENT
DTSTART;TZID=Australia/Brisbane:20251108T173000
DTEND;TZID=Australia/Brisbane:20251108T203000
DTSTAMP:20260424T153635
CREATED:20250303T183210Z
LAST-MODIFIED:20250710T034931Z
UID:10013014-1762623000-1762633800@www.diggersservicesclub.com.au
SUMMARY:Saturday PM Bingo
DESCRIPTION:Doors open – 5.30pm / Eyes Down – 7pm (Paper sales close @ 6.55pm)\nJackpot starts @ $1500 UNLIMITED CALLS\nTreble sheet – $200/$300/$500\nBook 10 (Feature/Full House) – $50/$60/$70\nBook 5 (Trebles) – $50/$70/$100
URL:https://www.diggersservicesclub.com.au/event/saturday-pm-bingo/2025-11-08/
CATEGORIES:Bingo
ATTACH;FMTTYPE=image/jpeg:https://www.diggersservicesclub.com.au/wp/wp-content/uploads/2025/03/NEW-Sat-PM-Program_page-0001.jpg
END:VEVENT
BEGIN:VEVENT
DTSTART;TZID=Australia/Brisbane:20251108T170000
DTEND;TZID=Australia/Brisbane:20251108T193000
DTSTAMP:20260424T153635
CREATED:20250619T002700Z
LAST-MODIFIED:20250619T002700Z
UID:10014624-1762621200-1762630200@www.diggersservicesclub.com.au
SUMMARY:Diggers Dollars
DESCRIPTION:Saturdays 5pm – 7.30pm\nFind the gold & win up to $4K Cash! 4x $100 consolation prizes weekly!
URL:https://www.diggersservicesclub.com.au/event/diggers-dollars/2025-11-08/
CATEGORIES:Gaming
ATTACH;FMTTYPE=image/jpeg:https://www.diggersservicesclub.com.au/wp/wp-content/uploads/2025/06/Dollar-Diggers_A3_PRINT.jpg
END:VEVENT
BEGIN:VEVENT
DTSTART;TZID=Australia/Brisbane:20251108T100000
DTEND;TZID=Australia/Brisbane:20251108T130000
DTSTAMP:20260424T153635
CREATED:20250303T183006Z
LAST-MODIFIED:20250710T034919Z
UID:10012753-1762596000-1762606800@www.diggersservicesclub.com.au
SUMMARY:Saturday AM Bingo
DESCRIPTION:Doors open – 10am / Eyes Down – 11am (Paper sales close @ 10.55am)\nJackpot starts @ $1\,000 UNLIMITED CALLS + Bingo Ball Multiplier\nTreble sheet – $200/$250/$300\nBook 10 (Trebles) – $40/$50/$60\nBook 5 (Feature/Full House) – $50/$60/$70
URL:https://www.diggersservicesclub.com.au/event/saturday-am-bingo/2025-11-08/
CATEGORIES:Bingo
ATTACH;FMTTYPE=image/jpeg:https://www.diggersservicesclub.com.au/wp/wp-content/uploads/2025/03/NEW-Sat-AM-Program_page-0001.jpg
END:VEVENT
BEGIN:VEVENT
DTSTART;TZID=Australia/Brisbane:20251108T093000
DTEND;TZID=Australia/Brisbane:20251108T121000
DTSTAMP:20260424T153635
CREATED:20240929T191811Z
LAST-MODIFIED:20240929T191811Z
UID:10007082-1762594200-1762603800@www.diggersservicesclub.com.au
SUMMARY:Weekly Saturday Raffles
DESCRIPTION:Diggers Services Club is the place to be every Saturday! Aside from all the happenings at the club\, you can also take part in our weekly Saturday Raffles. With $650 in cash and prizes\, including four meat trays\, club vouchers\, and cash vouchers\, there’s no better way to spend a Saturday. \nAdditionally\, become a Star VIP Raffle Club member for extra chances to win our Saturday Raffle. It’s free to join\, and your chances of winning increase. \nTickets go on sale at 10:30 am and are drawn at 1.10 pm every Saturday. \nPrizes Drawn in Random order \n\n4x $60 Meat Trays\n2x $50 Coles/Myer Gift Cards\n1x $60 Carton Beer\n$50 Club Voucher (1 x $20 & 1 x $30)\n$50 Cash\n$100 Cash\n$50 Cash\n\n 
URL:https://www.diggersservicesclub.com.au/event/weekly-saturday-raffles-2/2025-11-08/
CATEGORIES:Raffles
ATTACH;FMTTYPE=image/jpeg:https://www.diggersservicesclub.com.au/wp/wp-content/uploads/2021/07/Sat-Raffle_A3_PRINT.jpg
END:VEVENT
BEGIN:VEVENT
DTSTART;TZID=Australia/Brisbane:20251107T173000
DTEND;TZID=Australia/Brisbane:20251107T203000
DTSTAMP:20260424T153635
CREATED:20250303T182908Z
LAST-MODIFIED:20250303T182908Z
UID:10012231-1762536600-1762547400@www.diggersservicesclub.com.au
SUMMARY:Friday PM Bingo
DESCRIPTION:Doors open – 5.30pm / Eyes Down – 7pm (Paper sales close @ 6.55pm)\nJackpot starts @ $2000 in 50 calls (+1 call & $250 each week unclaimed)\nTreble sheet – $100/$200/$300\nBook 10 (Feature/Full House) – $50/$100/$150\nBook 5 (Trebles) – $50/$100/$150
URL:https://www.diggersservicesclub.com.au/event/friday-pm-bingo/2025-11-07/
CATEGORIES:Bingo
ATTACH;FMTTYPE=image/jpeg:https://www.diggersservicesclub.com.au/wp/wp-content/uploads/2025/03/NEW-Fri-PM-Program_page-0001.jpg
END:VEVENT
BEGIN:VEVENT
DTSTART;TZID=Australia/Brisbane:20251107T123000
DTEND;TZID=Australia/Brisbane:20251107T150000
DTSTAMP:20260424T153635
CREATED:20250619T002328Z
LAST-MODIFIED:20250619T002344Z
UID:10013339-1762518600-1762527600@www.diggersservicesclub.com.au
SUMMARY:Grocery Grab
DESCRIPTION:Mondays & Fridays 12.30pm – 3pm\nWin up to $800 per week on Cash\, Prizes & Groceries!
URL:https://www.diggersservicesclub.com.au/event/grocery-grab/2025-11-07/
CATEGORIES:Gaming
ATTACH;FMTTYPE=image/jpeg:https://www.diggersservicesclub.com.au/wp/wp-content/uploads/2025/06/GroceryGrab_A3_PRINT.jpg
END:VEVENT
BEGIN:VEVENT
DTSTART;TZID=Australia/Brisbane:20251107T100000
DTEND;TZID=Australia/Brisbane:20251107T130000
DTSTAMP:20260424T153635
CREATED:20250303T182721Z
LAST-MODIFIED:20250303T182721Z
UID:10011709-1762509600-1762520400@www.diggersservicesclub.com.au
SUMMARY:Friday AM Bingo
DESCRIPTION:Doors open – 10am / Eyes Down – 11am (Paper sales close @ 10.55am)\nHALF PRICE & SHORTER SESSION\nJackpot starts @ $1000 in 45 calls (+1 call each week unclaimed)\nTreble sheet – $100/$150/$200\nBook 10 (Trebles) – $20/$30/$40
URL:https://www.diggersservicesclub.com.au/event/friday-am-bingo/2025-11-07/
CATEGORIES:Bingo
ATTACH;FMTTYPE=image/jpeg:https://www.diggersservicesclub.com.au/wp/wp-content/uploads/2025/03/NEW-Fri-AM-Program_page-0001.jpg
END:VEVENT
BEGIN:VEVENT
DTSTART;TZID=Australia/Brisbane:20251106T210000
DTEND;TZID=Australia/Brisbane:20251106T230000
DTSTAMP:20260424T153635
CREATED:20250619T002616Z
LAST-MODIFIED:20250619T053802Z
UID:10014122-1762462800-1762470000@www.diggersservicesclub.com.au
SUMMARY:Fast Fortune
DESCRIPTION:Thursday & Sundays 9pm – 11pm\nRandom gaming machine draws! Win a share in $500 Cash!
URL:https://www.diggersservicesclub.com.au/event/fast-fortune/2025-11-06/
CATEGORIES:Gaming
ATTACH;FMTTYPE=image/jpeg:https://www.diggersservicesclub.com.au/wp/wp-content/uploads/2025/06/Fast_Fortune_A3_PRINT.jpg
END:VEVENT
BEGIN:VEVENT
DTSTART;TZID=Australia/Brisbane:20251106T180000
DTEND;TZID=Australia/Brisbane:20251106T210000
DTSTAMP:20260424T153635
CREATED:20250303T182627Z
LAST-MODIFIED:20250303T182746Z
UID:10011970-1762452000-1762462800@www.diggersservicesclub.com.au
SUMMARY:Thursday PM Bingo
DESCRIPTION:Doors open – 6pm / Eyes Down – 7pm (Paper sales close @ 6.55pm)\nJackpot starts @ $1500 in 55 calls (+1 call & $100 each week unclaimed)\nTreble sheet – $200/$250/$300\nBook 10 (Feature/Full House) – $50/$60/$70\nBook 5 (Trebles) – $40/$60/$100
URL:https://www.diggersservicesclub.com.au/event/thursday-pm-bingo/2025-11-06/
CATEGORIES:Bingo
ATTACH;FMTTYPE=image/jpeg:https://www.diggersservicesclub.com.au/wp/wp-content/uploads/2025/03/NEW-Thurs-PM-Program_page-0001.jpg
END:VEVENT
BEGIN:VEVENT
DTSTART;TZID=Australia/Brisbane:20251106T100000
DTEND;TZID=Australia/Brisbane:20251106T130000
DTSTAMP:20260424T153635
CREATED:20251106T005315Z
LAST-MODIFIED:20251106T005315Z
UID:10016391-1762423200-1762434000@www.diggersservicesclub.com.au
SUMMARY:Thursday AM Bingo
DESCRIPTION:Doors open – 10am / Eyes Down – 11am (Paper sales close @ 10.55pm)\nJackpot – $1\,000 UNLIMITED\nTreble sheet – $100/$150/$200\nBook 10 (Trebles) – $20/$30/$40\nBook 5 (Feature/Full House) – $40/$60/$70
URL:https://www.diggersservicesclub.com.au/event/thursday-am-bingo-2/2025-11-06/
ATTACH;FMTTYPE=image/jpeg:https://www.diggersservicesclub.com.au/wp/wp-content/uploads/2025/03/NEW-Thurs-AM-Program_page-0001.jpg
END:VEVENT
BEGIN:VEVENT
DTSTART;TZID=Australia/Brisbane:20251105T190000
DTEND;TZID=Australia/Brisbane:20251105T220000
DTSTAMP:20260424T153635
CREATED:20250619T002453Z
LAST-MODIFIED:20250619T002541Z
UID:10013840-1762369200-1762380000@www.diggersservicesclub.com.au
SUMMARY:Race to Gold
DESCRIPTION:Wednesday 7pm – 10pm\nWin up to $250 cash every 30 mins
URL:https://www.diggersservicesclub.com.au/event/race-to-gold/2025-11-05/
CATEGORIES:Gaming
ATTACH;FMTTYPE=image/jpeg:https://www.diggersservicesclub.com.au/wp/wp-content/uploads/2025/06/Wednesdays_Race-to-Gold_A3_PRINT.jpg
END:VEVENT
BEGIN:VEVENT
DTSTART;TZID=Australia/Brisbane:20251104T100000
DTEND;TZID=Australia/Brisbane:20251104T130000
DTSTAMP:20260424T153635
CREATED:20250710T035034Z
LAST-MODIFIED:20250710T035034Z
UID:10015761-1762250400-1762261200@www.diggersservicesclub.com.au
SUMMARY:Tuesday AM Bingo
DESCRIPTION:Doors open – 10am / Eyes down – 11am (paper sales close @10.55am)\nJackpot starts @ $3\,500 in 45 calls (+1 call each week unclaimed) $500 consolation\n$750 Treble sheet – $200/$250/$300\nBook 10 (Feature/Full House) – $40/$50/$60\nBook 5 (Trebles) – $50/$70/$100
URL:https://www.diggersservicesclub.com.au/event/tuesday-am-bingo/2025-11-04/
CATEGORIES:Bingo
ATTACH;FMTTYPE=image/jpeg:https://www.diggersservicesclub.com.au/wp/wp-content/uploads/2025/07/tuesday-bingo_A3_PRINT.jpg
END:VEVENT
BEGIN:VEVENT
DTSTART;VALUE=DATE:20251104
DTEND;VALUE=DATE:20251106
DTSTAMP:20260424T153635
CREATED:20250930T030530Z
LAST-MODIFIED:20250930T030530Z
UID:10016128-1762218000-1762304399@www.diggersservicesclub.com.au
SUMMARY:2025 Melbourne Cup
DESCRIPTION:Join us for an action packed Race Day\, kicking off from 10am! \nCup sweeps available! \nFREE Entertainment! \nBuffet lunch! \nBingo from 10am! \nPLUS Prizes for Best Dressed & Best Hats! \n 
URL:https://www.diggersservicesclub.com.au/event/2025-melbourne-cup/
ATTACH;FMTTYPE=image/jpeg:https://www.diggersservicesclub.com.au/wp/wp-content/uploads/2025/09/Melb-Cup25_A3_PRINT-scaled.jpg
END:VEVENT
BEGIN:VEVENT
DTSTART;TZID=Australia/Brisbane:20251103T123000
DTEND;TZID=Australia/Brisbane:20251103T150000
DTSTAMP:20260424T153635
CREATED:20250619T002328Z
LAST-MODIFIED:20250619T002344Z
UID:10013338-1762173000-1762182000@www.diggersservicesclub.com.au
SUMMARY:Grocery Grab
DESCRIPTION:Mondays & Fridays 12.30pm – 3pm\nWin up to $800 per week on Cash\, Prizes & Groceries!
URL:https://www.diggersservicesclub.com.au/event/grocery-grab/2025-11-03/
CATEGORIES:Gaming
ATTACH;FMTTYPE=image/jpeg:https://www.diggersservicesclub.com.au/wp/wp-content/uploads/2025/06/GroceryGrab_A3_PRINT.jpg
END:VEVENT
BEGIN:VEVENT
DTSTART;TZID=Australia/Brisbane:20251103T100000
DTEND;TZID=Australia/Brisbane:20251103T130000
DTSTAMP:20260424T153635
CREATED:20250303T181740Z
LAST-MODIFIED:20250303T181740Z
UID:10010403-1762164000-1762174800@www.diggersservicesclub.com.au
SUMMARY:Monday Bingo
DESCRIPTION:Doors open – 10am / Eyes Down – 11am\nPAPER ONLY SESSION\nJackpot starts @ $1000 in 45 calls (+1 call & $100 each week unclaimed)\nTreble sheet – $100/$100/$100\nBook 10 (Feature/Full House) – $20/$30/$40\nBook 5 (Trebles) – $40/$40/$40
URL:https://www.diggersservicesclub.com.au/event/monday-bingo/2025-11-03/
CATEGORIES:Bingo
ATTACH;FMTTYPE=image/jpeg:https://www.diggersservicesclub.com.au/wp/wp-content/uploads/2025/03/NEW-Monday-Program_page-0001.jpg
END:VEVENT
BEGIN:VEVENT
DTSTART;TZID=Australia/Brisbane:20251102T210000
DTEND;TZID=Australia/Brisbane:20251102T230000
DTSTAMP:20260424T153635
CREATED:20250619T002616Z
LAST-MODIFIED:20250619T053802Z
UID:10015150-1762117200-1762124400@www.diggersservicesclub.com.au
SUMMARY:Fast Fortune
DESCRIPTION:Thursday & Sundays 9pm – 11pm\nRandom gaming machine draws! Win a share in $500 Cash!
URL:https://www.diggersservicesclub.com.au/event/fast-fortune/2025-11-02/
CATEGORIES:Gaming
ATTACH;FMTTYPE=image/jpeg:https://www.diggersservicesclub.com.au/wp/wp-content/uploads/2025/06/Fast_Fortune_A3_PRINT.jpg
END:VEVENT
BEGIN:VEVENT
DTSTART;TZID=Australia/Brisbane:20251102T120000
DTEND;TZID=Australia/Brisbane:20251102T150000
DTSTAMP:20260424T153635
CREATED:20250619T002918Z
LAST-MODIFIED:20251119T220606Z
UID:10014884-1762084800-1762095600@www.diggersservicesclub.com.au
SUMMARY:Sunday Bingo
DESCRIPTION:Sunday 12pm – 3pm\nTicket Sales 12pm\nEyes Down 1pm\nOver $4k cash to be won\n$1.5K UNLIMITED JACKPOT!
URL:https://www.diggersservicesclub.com.au/event/sunday-bingo-2/2025-11-02/
CATEGORIES:Food & DIning
ATTACH;FMTTYPE=image/jpeg:https://www.diggersservicesclub.com.au/wp/wp-content/uploads/2025/06/NEW-Sun-Program_page-0001.jpg
END:VEVENT
BEGIN:VEVENT
DTSTART;TZID=Australia/Brisbane:20251101T173000
DTEND;TZID=Australia/Brisbane:20251101T203000
DTSTAMP:20260424T153635
CREATED:20250303T183210Z
LAST-MODIFIED:20250710T034931Z
UID:10013013-1762018200-1762029000@www.diggersservicesclub.com.au
SUMMARY:Saturday PM Bingo
DESCRIPTION:Doors open – 5.30pm / Eyes Down – 7pm (Paper sales close @ 6.55pm)\nJackpot starts @ $1500 UNLIMITED CALLS\nTreble sheet – $200/$300/$500\nBook 10 (Feature/Full House) – $50/$60/$70\nBook 5 (Trebles) – $50/$70/$100
URL:https://www.diggersservicesclub.com.au/event/saturday-pm-bingo/2025-11-01/
CATEGORIES:Bingo
ATTACH;FMTTYPE=image/jpeg:https://www.diggersservicesclub.com.au/wp/wp-content/uploads/2025/03/NEW-Sat-PM-Program_page-0001.jpg
END:VEVENT
BEGIN:VEVENT
DTSTART;TZID=Australia/Brisbane:20251101T170000
DTEND;TZID=Australia/Brisbane:20251101T193000
DTSTAMP:20260424T153635
CREATED:20250619T002700Z
LAST-MODIFIED:20250619T002700Z
UID:10014623-1762016400-1762025400@www.diggersservicesclub.com.au
SUMMARY:Diggers Dollars
DESCRIPTION:Saturdays 5pm – 7.30pm\nFind the gold & win up to $4K Cash! 4x $100 consolation prizes weekly!
URL:https://www.diggersservicesclub.com.au/event/diggers-dollars/2025-11-01/
CATEGORIES:Gaming
ATTACH;FMTTYPE=image/jpeg:https://www.diggersservicesclub.com.au/wp/wp-content/uploads/2025/06/Dollar-Diggers_A3_PRINT.jpg
END:VEVENT
BEGIN:VEVENT
DTSTART;TZID=Australia/Brisbane:20251101T100000
DTEND;TZID=Australia/Brisbane:20251101T130000
DTSTAMP:20260424T153635
CREATED:20250303T183006Z
LAST-MODIFIED:20250710T034919Z
UID:10012752-1761991200-1762002000@www.diggersservicesclub.com.au
SUMMARY:Saturday AM Bingo
DESCRIPTION:Doors open – 10am / Eyes Down – 11am (Paper sales close @ 10.55am)\nJackpot starts @ $1\,000 UNLIMITED CALLS + Bingo Ball Multiplier\nTreble sheet – $200/$250/$300\nBook 10 (Trebles) – $40/$50/$60\nBook 5 (Feature/Full House) – $50/$60/$70
URL:https://www.diggersservicesclub.com.au/event/saturday-am-bingo/2025-11-01/
CATEGORIES:Bingo
ATTACH;FMTTYPE=image/jpeg:https://www.diggersservicesclub.com.au/wp/wp-content/uploads/2025/03/NEW-Sat-AM-Program_page-0001.jpg
END:VEVENT
BEGIN:VEVENT
DTSTART;TZID=Australia/Brisbane:20251101T093000
DTEND;TZID=Australia/Brisbane:20251101T121000
DTSTAMP:20260424T153635
CREATED:20240929T191811Z
LAST-MODIFIED:20240929T191811Z
UID:10007081-1761989400-1761999000@www.diggersservicesclub.com.au
SUMMARY:Weekly Saturday Raffles
DESCRIPTION:Diggers Services Club is the place to be every Saturday! Aside from all the happenings at the club\, you can also take part in our weekly Saturday Raffles. With $650 in cash and prizes\, including four meat trays\, club vouchers\, and cash vouchers\, there’s no better way to spend a Saturday. \nAdditionally\, become a Star VIP Raffle Club member for extra chances to win our Saturday Raffle. It’s free to join\, and your chances of winning increase. \nTickets go on sale at 10:30 am and are drawn at 1.10 pm every Saturday. \nPrizes Drawn in Random order \n\n4x $60 Meat Trays\n2x $50 Coles/Myer Gift Cards\n1x $60 Carton Beer\n$50 Club Voucher (1 x $20 & 1 x $30)\n$50 Cash\n$100 Cash\n$50 Cash\n\n 
URL:https://www.diggersservicesclub.com.au/event/weekly-saturday-raffles-2/2025-11-01/
CATEGORIES:Raffles
ATTACH;FMTTYPE=image/jpeg:https://www.diggersservicesclub.com.au/wp/wp-content/uploads/2021/07/Sat-Raffle_A3_PRINT.jpg
END:VEVENT
END:VCALENDAR