BEGIN:VCALENDAR
VERSION:2.0
PRODID:-//Diggers Services Club - ECPv6.15.20//NONSGML v1.0//EN
CALSCALE:GREGORIAN
METHOD:PUBLISH
X-WR-CALNAME:Diggers Services Club
X-ORIGINAL-URL:https://www.diggersservicesclub.com.au
X-WR-CALDESC:Events for Diggers Services Club
REFRESH-INTERVAL;VALUE=DURATION:PT1H
X-Robots-Tag:noindex
X-PUBLISHED-TTL:PT1H
BEGIN:VTIMEZONE
TZID:Australia/Brisbane
BEGIN:STANDARD
TZOFFSETFROM:+1000
TZOFFSETTO:+1000
TZNAME:AEST
DTSTART:20270101T000000
END:STANDARD
END:VTIMEZONE
BEGIN:VEVENT
DTSTART;TZID=Australia/Brisbane:20280205T093000
DTEND;TZID=Australia/Brisbane:20280205T121000
DTSTAMP:20260425T231010
CREATED:20240929T191811Z
LAST-MODIFIED:20240929T191811Z
UID:10007199-1833355800-1833365400@www.diggersservicesclub.com.au
SUMMARY:Weekly Saturday Raffles
DESCRIPTION:Diggers Services Club is the place to be every Saturday! Aside from all the happenings at the club\, you can also take part in our weekly Saturday Raffles. With $650 in cash and prizes\, including four meat trays\, club vouchers\, and cash vouchers\, there’s no better way to spend a Saturday. \nAdditionally\, become a Star VIP Raffle Club member for extra chances to win our Saturday Raffle. It’s free to join\, and your chances of winning increase. \nTickets go on sale at 10:30 am and are drawn at 1.10 pm every Saturday. \nPrizes Drawn in Random order \n\n4x $60 Meat Trays\n2x $50 Coles/Myer Gift Cards\n1x $60 Carton Beer\n$50 Club Voucher (1 x $20 & 1 x $30)\n$50 Cash\n$100 Cash\n$50 Cash\n\n 
URL:https://www.diggersservicesclub.com.au/event/weekly-saturday-raffles-2/2028-02-05/
CATEGORIES:Raffles
ATTACH;FMTTYPE=image/jpeg:https://www.diggersservicesclub.com.au/wp/wp-content/uploads/2021/07/Sat-Raffle_A3_PRINT.jpg
END:VEVENT
BEGIN:VEVENT
DTSTART;TZID=Australia/Brisbane:20280205T100000
DTEND;TZID=Australia/Brisbane:20280205T130000
DTSTAMP:20260425T231010
CREATED:20250303T183006Z
LAST-MODIFIED:20250710T034919Z
UID:10012870-1833357600-1833368400@www.diggersservicesclub.com.au
SUMMARY:Saturday AM Bingo
DESCRIPTION:Doors open – 10am / Eyes Down – 11am (Paper sales close @ 10.55am)\nJackpot starts @ $1\,000 UNLIMITED CALLS + Bingo Ball Multiplier\nTreble sheet – $200/$250/$300\nBook 10 (Trebles) – $40/$50/$60\nBook 5 (Feature/Full House) – $50/$60/$70
URL:https://www.diggersservicesclub.com.au/event/saturday-am-bingo/2028-02-05/
CATEGORIES:Bingo
ATTACH;FMTTYPE=image/jpeg:https://www.diggersservicesclub.com.au/wp/wp-content/uploads/2025/03/NEW-Sat-AM-Program_page-0001.jpg
END:VEVENT
BEGIN:VEVENT
DTSTART;TZID=Australia/Brisbane:20280205T120000
DTEND;TZID=Australia/Brisbane:20280205T140000
DTSTAMP:20260425T231010
CREATED:20260202T032358Z
LAST-MODIFIED:20260202T032358Z
UID:10017247-1833364800-1833372000@www.diggersservicesclub.com.au
SUMMARY:Saturday Steak & Pint - Bistro Special
DESCRIPTION:200g Rump Steak & Pint for ONLY $15 \nServed w/ chips & gravy. \nLunch time Special ONLY.
URL:https://www.diggersservicesclub.com.au/event/saturday-steak-pint-bistro-special/2028-02-05/
ATTACH;FMTTYPE=image/png:https://www.diggersservicesclub.com.au/wp/wp-content/uploads/2025/11/A3.png
END:VEVENT
BEGIN:VEVENT
DTSTART;TZID=Australia/Brisbane:20280205T173000
DTEND;TZID=Australia/Brisbane:20280205T203000
DTSTAMP:20260425T231010
CREATED:20250303T183210Z
LAST-MODIFIED:20250710T034931Z
UID:10013131-1833384600-1833395400@www.diggersservicesclub.com.au
SUMMARY:Saturday PM Bingo
DESCRIPTION:Doors open – 5.30pm / Eyes Down – 7pm (Paper sales close @ 6.55pm)\nJackpot starts @ $1500 UNLIMITED CALLS\nTreble sheet – $200/$300/$500\nBook 10 (Feature/Full House) – $50/$60/$70\nBook 5 (Trebles) – $50/$70/$100
URL:https://www.diggersservicesclub.com.au/event/saturday-pm-bingo/2028-02-05/
CATEGORIES:Bingo
ATTACH;FMTTYPE=image/jpeg:https://www.diggersservicesclub.com.au/wp/wp-content/uploads/2025/03/NEW-Sat-PM-Program_page-0001.jpg
END:VEVENT
BEGIN:VEVENT
DTSTART;TZID=Australia/Brisbane:20280206T120000
DTEND;TZID=Australia/Brisbane:20280206T150000
DTSTAMP:20260425T231010
CREATED:20250619T002918Z
LAST-MODIFIED:20251119T220606Z
UID:10015002-1833451200-1833462000@www.diggersservicesclub.com.au
SUMMARY:Sunday Bingo
DESCRIPTION:Sunday 12pm – 3pm\nTicket Sales 12pm\nEyes Down 1pm\nOver $4k cash to be won\n$1.5K UNLIMITED JACKPOT!
URL:https://www.diggersservicesclub.com.au/event/sunday-bingo-2/2028-02-06/
CATEGORIES:Food & DIning
ATTACH;FMTTYPE=image/jpeg:https://www.diggersservicesclub.com.au/wp/wp-content/uploads/2025/06/NEW-Sun-Program_page-0001.jpg
END:VEVENT
BEGIN:VEVENT
DTSTART;TZID=Australia/Brisbane:20280207T100000
DTEND;TZID=Australia/Brisbane:20280207T130000
DTSTAMP:20260425T231010
CREATED:20250303T181740Z
LAST-MODIFIED:20250303T181740Z
UID:10010521-1833530400-1833541200@www.diggersservicesclub.com.au
SUMMARY:Monday Bingo
DESCRIPTION:Doors open – 10am / Eyes Down – 11am\nPAPER ONLY SESSION\nJackpot starts @ $1000 in 45 calls (+1 call & $100 each week unclaimed)\nTreble sheet – $100/$100/$100\nBook 10 (Feature/Full House) – $20/$30/$40\nBook 5 (Trebles) – $40/$40/$40
URL:https://www.diggersservicesclub.com.au/event/monday-bingo/2028-02-07/
CATEGORIES:Bingo
ATTACH;FMTTYPE=image/jpeg:https://www.diggersservicesclub.com.au/wp/wp-content/uploads/2025/03/NEW-Monday-Program_page-0001.jpg
END:VEVENT
BEGIN:VEVENT
DTSTART;TZID=Australia/Brisbane:20280208T100000
DTEND;TZID=Australia/Brisbane:20280208T130000
DTSTAMP:20260425T231010
CREATED:20250710T035034Z
LAST-MODIFIED:20250710T035034Z
UID:10015879-1833616800-1833627600@www.diggersservicesclub.com.au
SUMMARY:Tuesday AM Bingo
DESCRIPTION:Doors open – 10am / Eyes down – 11am (paper sales close @10.55am)\nJackpot starts @ $3\,500 in 45 calls (+1 call each week unclaimed) $500 consolation\n$750 Treble sheet – $200/$250/$300\nBook 10 (Feature/Full House) – $40/$50/$60\nBook 5 (Trebles) – $50/$70/$100
URL:https://www.diggersservicesclub.com.au/event/tuesday-am-bingo/2028-02-08/
CATEGORIES:Bingo
ATTACH;FMTTYPE=image/jpeg:https://www.diggersservicesclub.com.au/wp/wp-content/uploads/2025/07/tuesday-bingo_A3_PRINT.jpg
END:VEVENT
BEGIN:VEVENT
DTSTART;TZID=Australia/Brisbane:20280209T100000
DTEND;TZID=Australia/Brisbane:20280209T130000
DTSTAMP:20260425T231010
CREATED:20251106T004951Z
LAST-MODIFIED:20251106T004951Z
UID:10016247-1833703200-1833714000@www.diggersservicesclub.com.au
SUMMARY:Wednesday AM Bingo
DESCRIPTION:Doors open – 10am / Eyes Down – 11am (Paper sales close @ 10.55am)\nJackpot starts @ $2\,000 in 45 calls (+1 call each week unclaimed)\nTreble sheet – $100/$100/$100\nBook 10 (Trebles) – $40/$50/$60\nBook 5 (Feature/Full House) – $40/$50/$60
URL:https://www.diggersservicesclub.com.au/event/wednesday-am-bingo/2028-02-09/
ATTACH;FMTTYPE=image/jpeg:https://www.diggersservicesclub.com.au/wp/wp-content/uploads/2025/03/NEW-Wednesday-Program_page-0001-Copy.jpg
END:VEVENT
BEGIN:VEVENT
DTSTART;TZID=Australia/Brisbane:20280210T100000
DTEND;TZID=Australia/Brisbane:20280210T130000
DTSTAMP:20260425T231010
CREATED:20251106T005315Z
LAST-MODIFIED:20251106T005315Z
UID:10016509-1833789600-1833800400@www.diggersservicesclub.com.au
SUMMARY:Thursday AM Bingo
DESCRIPTION:Doors open – 10am / Eyes Down – 11am (Paper sales close @ 10.55pm)\nJackpot – $1\,000 UNLIMITED\nTreble sheet – $100/$150/$200\nBook 10 (Trebles) – $20/$30/$40\nBook 5 (Feature/Full House) – $40/$60/$70
URL:https://www.diggersservicesclub.com.au/event/thursday-am-bingo-2/2028-02-10/
ATTACH;FMTTYPE=image/jpeg:https://www.diggersservicesclub.com.au/wp/wp-content/uploads/2025/03/NEW-Thurs-AM-Program_page-0001.jpg
END:VEVENT
BEGIN:VEVENT
DTSTART;TZID=Australia/Brisbane:20280210T180000
DTEND;TZID=Australia/Brisbane:20280210T210000
DTSTAMP:20260425T231010
CREATED:20250303T182627Z
LAST-MODIFIED:20250303T182746Z
UID:10012088-1833818400-1833829200@www.diggersservicesclub.com.au
SUMMARY:Thursday PM Bingo
DESCRIPTION:Doors open – 6pm / Eyes Down – 7pm (Paper sales close @ 6.55pm)\nJackpot starts @ $1500 in 55 calls (+1 call & $100 each week unclaimed)\nTreble sheet – $200/$250/$300\nBook 10 (Feature/Full House) – $50/$60/$70\nBook 5 (Trebles) – $40/$60/$100
URL:https://www.diggersservicesclub.com.au/event/thursday-pm-bingo/2028-02-10/
CATEGORIES:Bingo
ATTACH;FMTTYPE=image/jpeg:https://www.diggersservicesclub.com.au/wp/wp-content/uploads/2025/03/NEW-Thurs-PM-Program_page-0001.jpg
END:VEVENT
BEGIN:VEVENT
DTSTART;TZID=Australia/Brisbane:20280211T100000
DTEND;TZID=Australia/Brisbane:20280211T130000
DTSTAMP:20260425T231010
CREATED:20250303T182721Z
LAST-MODIFIED:20250303T182721Z
UID:10011827-1833876000-1833886800@www.diggersservicesclub.com.au
SUMMARY:Friday AM Bingo
DESCRIPTION:Doors open – 10am / Eyes Down – 11am (Paper sales close @ 10.55am)\nHALF PRICE & SHORTER SESSION\nJackpot starts @ $1000 in 45 calls (+1 call each week unclaimed)\nTreble sheet – $100/$150/$200\nBook 10 (Trebles) – $20/$30/$40
URL:https://www.diggersservicesclub.com.au/event/friday-am-bingo/2028-02-11/
CATEGORIES:Bingo
ATTACH;FMTTYPE=image/jpeg:https://www.diggersservicesclub.com.au/wp/wp-content/uploads/2025/03/NEW-Fri-AM-Program_page-0001.jpg
END:VEVENT
BEGIN:VEVENT
DTSTART;TZID=Australia/Brisbane:20280211T140000
DTEND;TZID=Australia/Brisbane:20280211T173000
DTSTAMP:20260425T231010
CREATED:20260121T054951Z
LAST-MODIFIED:20260121T054951Z
UID:10016989-1833890400-1833903000@www.diggersservicesclub.com.au
SUMMARY:Friday Arvo Feed - Bistro Special
DESCRIPTION:Beef Burger \nor \nSouthern Fried Chicken Burger \nw/Chips & a Pint \nONLY $7.00
URL:https://www.diggersservicesclub.com.au/event/friday-arvo-feed-bistro-special/2028-02-11/
ATTACH;FMTTYPE=image/jpeg:https://www.diggersservicesclub.com.au/wp/wp-content/uploads/2026/01/FridayArvoFeed_JAN26_A3_PRINT_NEW-scaled.jpg
END:VEVENT
BEGIN:VEVENT
DTSTART;TZID=Australia/Brisbane:20280211T173000
DTEND;TZID=Australia/Brisbane:20280211T203000
DTSTAMP:20260425T231010
CREATED:20250303T182908Z
LAST-MODIFIED:20250303T182908Z
UID:10012349-1833903000-1833913800@www.diggersservicesclub.com.au
SUMMARY:Friday PM Bingo
DESCRIPTION:Doors open – 5.30pm / Eyes Down – 7pm (Paper sales close @ 6.55pm)\nJackpot starts @ $2000 in 50 calls (+1 call & $250 each week unclaimed)\nTreble sheet – $100/$200/$300\nBook 10 (Feature/Full House) – $50/$100/$150\nBook 5 (Trebles) – $50/$100/$150
URL:https://www.diggersservicesclub.com.au/event/friday-pm-bingo/2028-02-11/
CATEGORIES:Bingo
ATTACH;FMTTYPE=image/jpeg:https://www.diggersservicesclub.com.au/wp/wp-content/uploads/2025/03/NEW-Fri-PM-Program_page-0001.jpg
END:VEVENT
BEGIN:VEVENT
DTSTART;TZID=Australia/Brisbane:20280212T093000
DTEND;TZID=Australia/Brisbane:20280212T121000
DTSTAMP:20260425T231010
CREATED:20240929T191811Z
LAST-MODIFIED:20240929T191811Z
UID:10007200-1833960600-1833970200@www.diggersservicesclub.com.au
SUMMARY:Weekly Saturday Raffles
DESCRIPTION:Diggers Services Club is the place to be every Saturday! Aside from all the happenings at the club\, you can also take part in our weekly Saturday Raffles. With $650 in cash and prizes\, including four meat trays\, club vouchers\, and cash vouchers\, there’s no better way to spend a Saturday. \nAdditionally\, become a Star VIP Raffle Club member for extra chances to win our Saturday Raffle. It’s free to join\, and your chances of winning increase. \nTickets go on sale at 10:30 am and are drawn at 1.10 pm every Saturday. \nPrizes Drawn in Random order \n\n4x $60 Meat Trays\n2x $50 Coles/Myer Gift Cards\n1x $60 Carton Beer\n$50 Club Voucher (1 x $20 & 1 x $30)\n$50 Cash\n$100 Cash\n$50 Cash\n\n 
URL:https://www.diggersservicesclub.com.au/event/weekly-saturday-raffles-2/2028-02-12/
CATEGORIES:Raffles
ATTACH;FMTTYPE=image/jpeg:https://www.diggersservicesclub.com.au/wp/wp-content/uploads/2021/07/Sat-Raffle_A3_PRINT.jpg
END:VEVENT
BEGIN:VEVENT
DTSTART;TZID=Australia/Brisbane:20280212T100000
DTEND;TZID=Australia/Brisbane:20280212T130000
DTSTAMP:20260425T231010
CREATED:20250303T183006Z
LAST-MODIFIED:20250710T034919Z
UID:10012871-1833962400-1833973200@www.diggersservicesclub.com.au
SUMMARY:Saturday AM Bingo
DESCRIPTION:Doors open – 10am / Eyes Down – 11am (Paper sales close @ 10.55am)\nJackpot starts @ $1\,000 UNLIMITED CALLS + Bingo Ball Multiplier\nTreble sheet – $200/$250/$300\nBook 10 (Trebles) – $40/$50/$60\nBook 5 (Feature/Full House) – $50/$60/$70
URL:https://www.diggersservicesclub.com.au/event/saturday-am-bingo/2028-02-12/
CATEGORIES:Bingo
ATTACH;FMTTYPE=image/jpeg:https://www.diggersservicesclub.com.au/wp/wp-content/uploads/2025/03/NEW-Sat-AM-Program_page-0001.jpg
END:VEVENT
BEGIN:VEVENT
DTSTART;TZID=Australia/Brisbane:20280212T120000
DTEND;TZID=Australia/Brisbane:20280212T140000
DTSTAMP:20260425T231010
CREATED:20260202T032358Z
LAST-MODIFIED:20260202T032358Z
UID:10017248-1833969600-1833976800@www.diggersservicesclub.com.au
SUMMARY:Saturday Steak & Pint - Bistro Special
DESCRIPTION:200g Rump Steak & Pint for ONLY $15 \nServed w/ chips & gravy. \nLunch time Special ONLY.
URL:https://www.diggersservicesclub.com.au/event/saturday-steak-pint-bistro-special/2028-02-12/
ATTACH;FMTTYPE=image/png:https://www.diggersservicesclub.com.au/wp/wp-content/uploads/2025/11/A3.png
END:VEVENT
BEGIN:VEVENT
DTSTART;TZID=Australia/Brisbane:20280212T173000
DTEND;TZID=Australia/Brisbane:20280212T203000
DTSTAMP:20260425T231010
CREATED:20250303T183210Z
LAST-MODIFIED:20250710T034931Z
UID:10013132-1833989400-1834000200@www.diggersservicesclub.com.au
SUMMARY:Saturday PM Bingo
DESCRIPTION:Doors open – 5.30pm / Eyes Down – 7pm (Paper sales close @ 6.55pm)\nJackpot starts @ $1500 UNLIMITED CALLS\nTreble sheet – $200/$300/$500\nBook 10 (Feature/Full House) – $50/$60/$70\nBook 5 (Trebles) – $50/$70/$100
URL:https://www.diggersservicesclub.com.au/event/saturday-pm-bingo/2028-02-12/
CATEGORIES:Bingo
ATTACH;FMTTYPE=image/jpeg:https://www.diggersservicesclub.com.au/wp/wp-content/uploads/2025/03/NEW-Sat-PM-Program_page-0001.jpg
END:VEVENT
BEGIN:VEVENT
DTSTART;TZID=Australia/Brisbane:20280213T120000
DTEND;TZID=Australia/Brisbane:20280213T150000
DTSTAMP:20260425T231010
CREATED:20250619T002918Z
LAST-MODIFIED:20251119T220606Z
UID:10015003-1834056000-1834066800@www.diggersservicesclub.com.au
SUMMARY:Sunday Bingo
DESCRIPTION:Sunday 12pm – 3pm\nTicket Sales 12pm\nEyes Down 1pm\nOver $4k cash to be won\n$1.5K UNLIMITED JACKPOT!
URL:https://www.diggersservicesclub.com.au/event/sunday-bingo-2/2028-02-13/
CATEGORIES:Food & DIning
ATTACH;FMTTYPE=image/jpeg:https://www.diggersservicesclub.com.au/wp/wp-content/uploads/2025/06/NEW-Sun-Program_page-0001.jpg
END:VEVENT
BEGIN:VEVENT
DTSTART;TZID=Australia/Brisbane:20280214T100000
DTEND;TZID=Australia/Brisbane:20280214T130000
DTSTAMP:20260425T231010
CREATED:20250303T181740Z
LAST-MODIFIED:20250303T181740Z
UID:10010522-1834135200-1834146000@www.diggersservicesclub.com.au
SUMMARY:Monday Bingo
DESCRIPTION:Doors open – 10am / Eyes Down – 11am\nPAPER ONLY SESSION\nJackpot starts @ $1000 in 45 calls (+1 call & $100 each week unclaimed)\nTreble sheet – $100/$100/$100\nBook 10 (Feature/Full House) – $20/$30/$40\nBook 5 (Trebles) – $40/$40/$40
URL:https://www.diggersservicesclub.com.au/event/monday-bingo/2028-02-14/
CATEGORIES:Bingo
ATTACH;FMTTYPE=image/jpeg:https://www.diggersservicesclub.com.au/wp/wp-content/uploads/2025/03/NEW-Monday-Program_page-0001.jpg
END:VEVENT
BEGIN:VEVENT
DTSTART;TZID=Australia/Brisbane:20280215T100000
DTEND;TZID=Australia/Brisbane:20280215T130000
DTSTAMP:20260425T231010
CREATED:20250710T035034Z
LAST-MODIFIED:20250710T035034Z
UID:10015880-1834221600-1834232400@www.diggersservicesclub.com.au
SUMMARY:Tuesday AM Bingo
DESCRIPTION:Doors open – 10am / Eyes down – 11am (paper sales close @10.55am)\nJackpot starts @ $3\,500 in 45 calls (+1 call each week unclaimed) $500 consolation\n$750 Treble sheet – $200/$250/$300\nBook 10 (Feature/Full House) – $40/$50/$60\nBook 5 (Trebles) – $50/$70/$100
URL:https://www.diggersservicesclub.com.au/event/tuesday-am-bingo/2028-02-15/
CATEGORIES:Bingo
ATTACH;FMTTYPE=image/jpeg:https://www.diggersservicesclub.com.au/wp/wp-content/uploads/2025/07/tuesday-bingo_A3_PRINT.jpg
END:VEVENT
BEGIN:VEVENT
DTSTART;TZID=Australia/Brisbane:20280216T100000
DTEND;TZID=Australia/Brisbane:20280216T130000
DTSTAMP:20260425T231010
CREATED:20251106T004951Z
LAST-MODIFIED:20251106T004951Z
UID:10016248-1834308000-1834318800@www.diggersservicesclub.com.au
SUMMARY:Wednesday AM Bingo
DESCRIPTION:Doors open – 10am / Eyes Down – 11am (Paper sales close @ 10.55am)\nJackpot starts @ $2\,000 in 45 calls (+1 call each week unclaimed)\nTreble sheet – $100/$100/$100\nBook 10 (Trebles) – $40/$50/$60\nBook 5 (Feature/Full House) – $40/$50/$60
URL:https://www.diggersservicesclub.com.au/event/wednesday-am-bingo/2028-02-16/
ATTACH;FMTTYPE=image/jpeg:https://www.diggersservicesclub.com.au/wp/wp-content/uploads/2025/03/NEW-Wednesday-Program_page-0001-Copy.jpg
END:VEVENT
BEGIN:VEVENT
DTSTART;TZID=Australia/Brisbane:20280217T100000
DTEND;TZID=Australia/Brisbane:20280217T130000
DTSTAMP:20260425T231010
CREATED:20251106T005315Z
LAST-MODIFIED:20251106T005315Z
UID:10016510-1834394400-1834405200@www.diggersservicesclub.com.au
SUMMARY:Thursday AM Bingo
DESCRIPTION:Doors open – 10am / Eyes Down – 11am (Paper sales close @ 10.55pm)\nJackpot – $1\,000 UNLIMITED\nTreble sheet – $100/$150/$200\nBook 10 (Trebles) – $20/$30/$40\nBook 5 (Feature/Full House) – $40/$60/$70
URL:https://www.diggersservicesclub.com.au/event/thursday-am-bingo-2/2028-02-17/
ATTACH;FMTTYPE=image/jpeg:https://www.diggersservicesclub.com.au/wp/wp-content/uploads/2025/03/NEW-Thurs-AM-Program_page-0001.jpg
END:VEVENT
BEGIN:VEVENT
DTSTART;TZID=Australia/Brisbane:20280217T180000
DTEND;TZID=Australia/Brisbane:20280217T210000
DTSTAMP:20260425T231010
CREATED:20250303T182627Z
LAST-MODIFIED:20250303T182746Z
UID:10012089-1834423200-1834434000@www.diggersservicesclub.com.au
SUMMARY:Thursday PM Bingo
DESCRIPTION:Doors open – 6pm / Eyes Down – 7pm (Paper sales close @ 6.55pm)\nJackpot starts @ $1500 in 55 calls (+1 call & $100 each week unclaimed)\nTreble sheet – $200/$250/$300\nBook 10 (Feature/Full House) – $50/$60/$70\nBook 5 (Trebles) – $40/$60/$100
URL:https://www.diggersservicesclub.com.au/event/thursday-pm-bingo/2028-02-17/
CATEGORIES:Bingo
ATTACH;FMTTYPE=image/jpeg:https://www.diggersservicesclub.com.au/wp/wp-content/uploads/2025/03/NEW-Thurs-PM-Program_page-0001.jpg
END:VEVENT
BEGIN:VEVENT
DTSTART;TZID=Australia/Brisbane:20280218T100000
DTEND;TZID=Australia/Brisbane:20280218T130000
DTSTAMP:20260425T231010
CREATED:20250303T182721Z
LAST-MODIFIED:20250303T182721Z
UID:10011828-1834480800-1834491600@www.diggersservicesclub.com.au
SUMMARY:Friday AM Bingo
DESCRIPTION:Doors open – 10am / Eyes Down – 11am (Paper sales close @ 10.55am)\nHALF PRICE & SHORTER SESSION\nJackpot starts @ $1000 in 45 calls (+1 call each week unclaimed)\nTreble sheet – $100/$150/$200\nBook 10 (Trebles) – $20/$30/$40
URL:https://www.diggersservicesclub.com.au/event/friday-am-bingo/2028-02-18/
CATEGORIES:Bingo
ATTACH;FMTTYPE=image/jpeg:https://www.diggersservicesclub.com.au/wp/wp-content/uploads/2025/03/NEW-Fri-AM-Program_page-0001.jpg
END:VEVENT
BEGIN:VEVENT
DTSTART;TZID=Australia/Brisbane:20280218T140000
DTEND;TZID=Australia/Brisbane:20280218T173000
DTSTAMP:20260425T231010
CREATED:20260121T054951Z
LAST-MODIFIED:20260121T054951Z
UID:10016990-1834495200-1834507800@www.diggersservicesclub.com.au
SUMMARY:Friday Arvo Feed - Bistro Special
DESCRIPTION:Beef Burger \nor \nSouthern Fried Chicken Burger \nw/Chips & a Pint \nONLY $7.00
URL:https://www.diggersservicesclub.com.au/event/friday-arvo-feed-bistro-special/2028-02-18/
ATTACH;FMTTYPE=image/jpeg:https://www.diggersservicesclub.com.au/wp/wp-content/uploads/2026/01/FridayArvoFeed_JAN26_A3_PRINT_NEW-scaled.jpg
END:VEVENT
BEGIN:VEVENT
DTSTART;TZID=Australia/Brisbane:20280218T173000
DTEND;TZID=Australia/Brisbane:20280218T203000
DTSTAMP:20260425T231010
CREATED:20250303T182908Z
LAST-MODIFIED:20250303T182908Z
UID:10012350-1834507800-1834518600@www.diggersservicesclub.com.au
SUMMARY:Friday PM Bingo
DESCRIPTION:Doors open – 5.30pm / Eyes Down – 7pm (Paper sales close @ 6.55pm)\nJackpot starts @ $2000 in 50 calls (+1 call & $250 each week unclaimed)\nTreble sheet – $100/$200/$300\nBook 10 (Feature/Full House) – $50/$100/$150\nBook 5 (Trebles) – $50/$100/$150
URL:https://www.diggersservicesclub.com.au/event/friday-pm-bingo/2028-02-18/
CATEGORIES:Bingo
ATTACH;FMTTYPE=image/jpeg:https://www.diggersservicesclub.com.au/wp/wp-content/uploads/2025/03/NEW-Fri-PM-Program_page-0001.jpg
END:VEVENT
BEGIN:VEVENT
DTSTART;TZID=Australia/Brisbane:20280219T093000
DTEND;TZID=Australia/Brisbane:20280219T121000
DTSTAMP:20260425T231010
CREATED:20240929T191811Z
LAST-MODIFIED:20240929T191811Z
UID:10007201-1834565400-1834575000@www.diggersservicesclub.com.au
SUMMARY:Weekly Saturday Raffles
DESCRIPTION:Diggers Services Club is the place to be every Saturday! Aside from all the happenings at the club\, you can also take part in our weekly Saturday Raffles. With $650 in cash and prizes\, including four meat trays\, club vouchers\, and cash vouchers\, there’s no better way to spend a Saturday. \nAdditionally\, become a Star VIP Raffle Club member for extra chances to win our Saturday Raffle. It’s free to join\, and your chances of winning increase. \nTickets go on sale at 10:30 am and are drawn at 1.10 pm every Saturday. \nPrizes Drawn in Random order \n\n4x $60 Meat Trays\n2x $50 Coles/Myer Gift Cards\n1x $60 Carton Beer\n$50 Club Voucher (1 x $20 & 1 x $30)\n$50 Cash\n$100 Cash\n$50 Cash\n\n 
URL:https://www.diggersservicesclub.com.au/event/weekly-saturday-raffles-2/2028-02-19/
CATEGORIES:Raffles
ATTACH;FMTTYPE=image/jpeg:https://www.diggersservicesclub.com.au/wp/wp-content/uploads/2021/07/Sat-Raffle_A3_PRINT.jpg
END:VEVENT
BEGIN:VEVENT
DTSTART;TZID=Australia/Brisbane:20280219T100000
DTEND;TZID=Australia/Brisbane:20280219T130000
DTSTAMP:20260425T231010
CREATED:20250303T183006Z
LAST-MODIFIED:20250710T034919Z
UID:10012872-1834567200-1834578000@www.diggersservicesclub.com.au
SUMMARY:Saturday AM Bingo
DESCRIPTION:Doors open – 10am / Eyes Down – 11am (Paper sales close @ 10.55am)\nJackpot starts @ $1\,000 UNLIMITED CALLS + Bingo Ball Multiplier\nTreble sheet – $200/$250/$300\nBook 10 (Trebles) – $40/$50/$60\nBook 5 (Feature/Full House) – $50/$60/$70
URL:https://www.diggersservicesclub.com.au/event/saturday-am-bingo/2028-02-19/
CATEGORIES:Bingo
ATTACH;FMTTYPE=image/jpeg:https://www.diggersservicesclub.com.au/wp/wp-content/uploads/2025/03/NEW-Sat-AM-Program_page-0001.jpg
END:VEVENT
BEGIN:VEVENT
DTSTART;TZID=Australia/Brisbane:20280219T120000
DTEND;TZID=Australia/Brisbane:20280219T140000
DTSTAMP:20260425T231010
CREATED:20260202T032358Z
LAST-MODIFIED:20260202T032358Z
UID:10017249-1834574400-1834581600@www.diggersservicesclub.com.au
SUMMARY:Saturday Steak & Pint - Bistro Special
DESCRIPTION:200g Rump Steak & Pint for ONLY $15 \nServed w/ chips & gravy. \nLunch time Special ONLY.
URL:https://www.diggersservicesclub.com.au/event/saturday-steak-pint-bistro-special/2028-02-19/
ATTACH;FMTTYPE=image/png:https://www.diggersservicesclub.com.au/wp/wp-content/uploads/2025/11/A3.png
END:VEVENT
BEGIN:VEVENT
DTSTART;TZID=Australia/Brisbane:20280219T173000
DTEND;TZID=Australia/Brisbane:20280219T203000
DTSTAMP:20260425T231010
CREATED:20250303T183210Z
LAST-MODIFIED:20250710T034931Z
UID:10013133-1834594200-1834605000@www.diggersservicesclub.com.au
SUMMARY:Saturday PM Bingo
DESCRIPTION:Doors open – 5.30pm / Eyes Down – 7pm (Paper sales close @ 6.55pm)\nJackpot starts @ $1500 UNLIMITED CALLS\nTreble sheet – $200/$300/$500\nBook 10 (Feature/Full House) – $50/$60/$70\nBook 5 (Trebles) – $50/$70/$100
URL:https://www.diggersservicesclub.com.au/event/saturday-pm-bingo/2028-02-19/
CATEGORIES:Bingo
ATTACH;FMTTYPE=image/jpeg:https://www.diggersservicesclub.com.au/wp/wp-content/uploads/2025/03/NEW-Sat-PM-Program_page-0001.jpg
END:VEVENT
END:VCALENDAR