BEGIN:VCALENDAR
VERSION:2.0
PRODID:-//Diggers Services Club - ECPv6.15.20//NONSGML v1.0//EN
CALSCALE:GREGORIAN
METHOD:PUBLISH
X-WR-CALNAME:Diggers Services Club
X-ORIGINAL-URL:https://www.diggersservicesclub.com.au
X-WR-CALDESC:Events for Diggers Services Club
REFRESH-INTERVAL;VALUE=DURATION:PT1H
X-Robots-Tag:noindex
X-PUBLISHED-TTL:PT1H
BEGIN:VTIMEZONE
TZID:Australia/Brisbane
BEGIN:STANDARD
TZOFFSETFROM:+1000
TZOFFSETTO:+1000
TZNAME:AEST
DTSTART:20270101T000000
END:STANDARD
END:VTIMEZONE
BEGIN:VEVENT
DTSTART;TZID=Australia/Brisbane:20280325T173000
DTEND;TZID=Australia/Brisbane:20280325T203000
DTSTAMP:20260426T020927
CREATED:20250303T183210Z
LAST-MODIFIED:20250710T034931Z
UID:10013138-1837618200-1837629000@www.diggersservicesclub.com.au
SUMMARY:Saturday PM Bingo
DESCRIPTION:Doors open – 5.30pm / Eyes Down – 7pm (Paper sales close @ 6.55pm)\nJackpot starts @ $1500 UNLIMITED CALLS\nTreble sheet – $200/$300/$500\nBook 10 (Feature/Full House) – $50/$60/$70\nBook 5 (Trebles) – $50/$70/$100
URL:https://www.diggersservicesclub.com.au/event/saturday-pm-bingo/2028-03-25/
CATEGORIES:Bingo
ATTACH;FMTTYPE=image/jpeg:https://www.diggersservicesclub.com.au/wp/wp-content/uploads/2025/03/NEW-Sat-PM-Program_page-0001.jpg
END:VEVENT
BEGIN:VEVENT
DTSTART;TZID=Australia/Brisbane:20280326T120000
DTEND;TZID=Australia/Brisbane:20280326T150000
DTSTAMP:20260426T020927
CREATED:20250619T002918Z
LAST-MODIFIED:20251119T220606Z
UID:10015009-1837684800-1837695600@www.diggersservicesclub.com.au
SUMMARY:Sunday Bingo
DESCRIPTION:Sunday 12pm – 3pm\nTicket Sales 12pm\nEyes Down 1pm\nOver $4k cash to be won\n$1.5K UNLIMITED JACKPOT!
URL:https://www.diggersservicesclub.com.au/event/sunday-bingo-2/2028-03-26/
CATEGORIES:Food & DIning
ATTACH;FMTTYPE=image/jpeg:https://www.diggersservicesclub.com.au/wp/wp-content/uploads/2025/06/NEW-Sun-Program_page-0001.jpg
END:VEVENT
BEGIN:VEVENT
DTSTART;TZID=Australia/Brisbane:20280327T100000
DTEND;TZID=Australia/Brisbane:20280327T130000
DTSTAMP:20260426T020927
CREATED:20250303T181740Z
LAST-MODIFIED:20250303T181740Z
UID:10010528-1837764000-1837774800@www.diggersservicesclub.com.au
SUMMARY:Monday Bingo
DESCRIPTION:Doors open – 10am / Eyes Down – 11am\nPAPER ONLY SESSION\nJackpot starts @ $1000 in 45 calls (+1 call & $100 each week unclaimed)\nTreble sheet – $100/$100/$100\nBook 10 (Feature/Full House) – $20/$30/$40\nBook 5 (Trebles) – $40/$40/$40
URL:https://www.diggersservicesclub.com.au/event/monday-bingo/2028-03-27/
CATEGORIES:Bingo
ATTACH;FMTTYPE=image/jpeg:https://www.diggersservicesclub.com.au/wp/wp-content/uploads/2025/03/NEW-Monday-Program_page-0001.jpg
END:VEVENT
BEGIN:VEVENT
DTSTART;TZID=Australia/Brisbane:20280328T100000
DTEND;TZID=Australia/Brisbane:20280328T130000
DTSTAMP:20260426T020927
CREATED:20250710T035034Z
LAST-MODIFIED:20250710T035034Z
UID:10015886-1837850400-1837861200@www.diggersservicesclub.com.au
SUMMARY:Tuesday AM Bingo
DESCRIPTION:Doors open – 10am / Eyes down – 11am (paper sales close @10.55am)\nJackpot starts @ $3\,500 in 45 calls (+1 call each week unclaimed) $500 consolation\n$750 Treble sheet – $200/$250/$300\nBook 10 (Feature/Full House) – $40/$50/$60\nBook 5 (Trebles) – $50/$70/$100
URL:https://www.diggersservicesclub.com.au/event/tuesday-am-bingo/2028-03-28/
CATEGORIES:Bingo
ATTACH;FMTTYPE=image/jpeg:https://www.diggersservicesclub.com.au/wp/wp-content/uploads/2025/07/tuesday-bingo_A3_PRINT.jpg
END:VEVENT
BEGIN:VEVENT
DTSTART;TZID=Australia/Brisbane:20280329T100000
DTEND;TZID=Australia/Brisbane:20280329T130000
DTSTAMP:20260426T020927
CREATED:20251106T004951Z
LAST-MODIFIED:20251106T004951Z
UID:10016254-1837936800-1837947600@www.diggersservicesclub.com.au
SUMMARY:Wednesday AM Bingo
DESCRIPTION:Doors open – 10am / Eyes Down – 11am (Paper sales close @ 10.55am)\nJackpot starts @ $2\,000 in 45 calls (+1 call each week unclaimed)\nTreble sheet – $100/$100/$100\nBook 10 (Trebles) – $40/$50/$60\nBook 5 (Feature/Full House) – $40/$50/$60
URL:https://www.diggersservicesclub.com.au/event/wednesday-am-bingo/2028-03-29/
ATTACH;FMTTYPE=image/jpeg:https://www.diggersservicesclub.com.au/wp/wp-content/uploads/2025/03/NEW-Wednesday-Program_page-0001-Copy.jpg
END:VEVENT
BEGIN:VEVENT
DTSTART;TZID=Australia/Brisbane:20280330T100000
DTEND;TZID=Australia/Brisbane:20280330T130000
DTSTAMP:20260426T020927
CREATED:20251106T005315Z
LAST-MODIFIED:20251106T005315Z
UID:10016516-1838023200-1838034000@www.diggersservicesclub.com.au
SUMMARY:Thursday AM Bingo
DESCRIPTION:Doors open – 10am / Eyes Down – 11am (Paper sales close @ 10.55pm)\nJackpot – $1\,000 UNLIMITED\nTreble sheet – $100/$150/$200\nBook 10 (Trebles) – $20/$30/$40\nBook 5 (Feature/Full House) – $40/$60/$70
URL:https://www.diggersservicesclub.com.au/event/thursday-am-bingo-2/2028-03-30/
ATTACH;FMTTYPE=image/jpeg:https://www.diggersservicesclub.com.au/wp/wp-content/uploads/2025/03/NEW-Thurs-AM-Program_page-0001.jpg
END:VEVENT
BEGIN:VEVENT
DTSTART;TZID=Australia/Brisbane:20280330T180000
DTEND;TZID=Australia/Brisbane:20280330T210000
DTSTAMP:20260426T020927
CREATED:20250303T182627Z
LAST-MODIFIED:20250303T182746Z
UID:10012095-1838052000-1838062800@www.diggersservicesclub.com.au
SUMMARY:Thursday PM Bingo
DESCRIPTION:Doors open – 6pm / Eyes Down – 7pm (Paper sales close @ 6.55pm)\nJackpot starts @ $1500 in 55 calls (+1 call & $100 each week unclaimed)\nTreble sheet – $200/$250/$300\nBook 10 (Feature/Full House) – $50/$60/$70\nBook 5 (Trebles) – $40/$60/$100
URL:https://www.diggersservicesclub.com.au/event/thursday-pm-bingo/2028-03-30/
CATEGORIES:Bingo
ATTACH;FMTTYPE=image/jpeg:https://www.diggersservicesclub.com.au/wp/wp-content/uploads/2025/03/NEW-Thurs-PM-Program_page-0001.jpg
END:VEVENT
BEGIN:VEVENT
DTSTART;TZID=Australia/Brisbane:20280331T100000
DTEND;TZID=Australia/Brisbane:20280331T130000
DTSTAMP:20260426T020927
CREATED:20250303T182721Z
LAST-MODIFIED:20250303T182721Z
UID:10011834-1838109600-1838120400@www.diggersservicesclub.com.au
SUMMARY:Friday AM Bingo
DESCRIPTION:Doors open – 10am / Eyes Down – 11am (Paper sales close @ 10.55am)\nHALF PRICE & SHORTER SESSION\nJackpot starts @ $1000 in 45 calls (+1 call each week unclaimed)\nTreble sheet – $100/$150/$200\nBook 10 (Trebles) – $20/$30/$40
URL:https://www.diggersservicesclub.com.au/event/friday-am-bingo/2028-03-31/
CATEGORIES:Bingo
ATTACH;FMTTYPE=image/jpeg:https://www.diggersservicesclub.com.au/wp/wp-content/uploads/2025/03/NEW-Fri-AM-Program_page-0001.jpg
END:VEVENT
BEGIN:VEVENT
DTSTART;TZID=Australia/Brisbane:20280331T140000
DTEND;TZID=Australia/Brisbane:20280331T173000
DTSTAMP:20260426T020927
CREATED:20260121T054951Z
LAST-MODIFIED:20260121T054951Z
UID:10016996-1838124000-1838136600@www.diggersservicesclub.com.au
SUMMARY:Friday Arvo Feed - Bistro Special
DESCRIPTION:Beef Burger \nor \nSouthern Fried Chicken Burger \nw/Chips & a Pint \nONLY $7.00
URL:https://www.diggersservicesclub.com.au/event/friday-arvo-feed-bistro-special/2028-03-31/
ATTACH;FMTTYPE=image/jpeg:https://www.diggersservicesclub.com.au/wp/wp-content/uploads/2026/01/FridayArvoFeed_JAN26_A3_PRINT_NEW-scaled.jpg
END:VEVENT
BEGIN:VEVENT
DTSTART;TZID=Australia/Brisbane:20280331T173000
DTEND;TZID=Australia/Brisbane:20280331T203000
DTSTAMP:20260426T020927
CREATED:20250303T182908Z
LAST-MODIFIED:20250303T182908Z
UID:10012356-1838136600-1838147400@www.diggersservicesclub.com.au
SUMMARY:Friday PM Bingo
DESCRIPTION:Doors open – 5.30pm / Eyes Down – 7pm (Paper sales close @ 6.55pm)\nJackpot starts @ $2000 in 50 calls (+1 call & $250 each week unclaimed)\nTreble sheet – $100/$200/$300\nBook 10 (Feature/Full House) – $50/$100/$150\nBook 5 (Trebles) – $50/$100/$150
URL:https://www.diggersservicesclub.com.au/event/friday-pm-bingo/2028-03-31/
CATEGORIES:Bingo
ATTACH;FMTTYPE=image/jpeg:https://www.diggersservicesclub.com.au/wp/wp-content/uploads/2025/03/NEW-Fri-PM-Program_page-0001.jpg
END:VEVENT
BEGIN:VEVENT
DTSTART;TZID=Australia/Brisbane:20280401T093000
DTEND;TZID=Australia/Brisbane:20280401T121000
DTSTAMP:20260426T020927
CREATED:20240929T191811Z
LAST-MODIFIED:20240929T191811Z
UID:10007207-1838194200-1838203800@www.diggersservicesclub.com.au
SUMMARY:Weekly Saturday Raffles
DESCRIPTION:Diggers Services Club is the place to be every Saturday! Aside from all the happenings at the club\, you can also take part in our weekly Saturday Raffles. With $650 in cash and prizes\, including four meat trays\, club vouchers\, and cash vouchers\, there’s no better way to spend a Saturday. \nAdditionally\, become a Star VIP Raffle Club member for extra chances to win our Saturday Raffle. It’s free to join\, and your chances of winning increase. \nTickets go on sale at 10:30 am and are drawn at 1.10 pm every Saturday. \nPrizes Drawn in Random order \n\n4x $60 Meat Trays\n2x $50 Coles/Myer Gift Cards\n1x $60 Carton Beer\n$50 Club Voucher (1 x $20 & 1 x $30)\n$50 Cash\n$100 Cash\n$50 Cash\n\n 
URL:https://www.diggersservicesclub.com.au/event/weekly-saturday-raffles-2/2028-04-01/
CATEGORIES:Raffles
ATTACH;FMTTYPE=image/jpeg:https://www.diggersservicesclub.com.au/wp/wp-content/uploads/2021/07/Sat-Raffle_A3_PRINT.jpg
END:VEVENT
BEGIN:VEVENT
DTSTART;TZID=Australia/Brisbane:20280401T100000
DTEND;TZID=Australia/Brisbane:20280401T130000
DTSTAMP:20260426T020927
CREATED:20250303T183006Z
LAST-MODIFIED:20250710T034919Z
UID:10012878-1838196000-1838206800@www.diggersservicesclub.com.au
SUMMARY:Saturday AM Bingo
DESCRIPTION:Doors open – 10am / Eyes Down – 11am (Paper sales close @ 10.55am)\nJackpot starts @ $1\,000 UNLIMITED CALLS + Bingo Ball Multiplier\nTreble sheet – $200/$250/$300\nBook 10 (Trebles) – $40/$50/$60\nBook 5 (Feature/Full House) – $50/$60/$70
URL:https://www.diggersservicesclub.com.au/event/saturday-am-bingo/2028-04-01/
CATEGORIES:Bingo
ATTACH;FMTTYPE=image/jpeg:https://www.diggersservicesclub.com.au/wp/wp-content/uploads/2025/03/NEW-Sat-AM-Program_page-0001.jpg
END:VEVENT
BEGIN:VEVENT
DTSTART;TZID=Australia/Brisbane:20280401T120000
DTEND;TZID=Australia/Brisbane:20280401T140000
DTSTAMP:20260426T020927
CREATED:20260202T032358Z
LAST-MODIFIED:20260202T032358Z
UID:10017255-1838203200-1838210400@www.diggersservicesclub.com.au
SUMMARY:Saturday Steak & Pint - Bistro Special
DESCRIPTION:200g Rump Steak & Pint for ONLY $15 \nServed w/ chips & gravy. \nLunch time Special ONLY.
URL:https://www.diggersservicesclub.com.au/event/saturday-steak-pint-bistro-special/2028-04-01/
ATTACH;FMTTYPE=image/png:https://www.diggersservicesclub.com.au/wp/wp-content/uploads/2025/11/A3.png
END:VEVENT
BEGIN:VEVENT
DTSTART;TZID=Australia/Brisbane:20280401T173000
DTEND;TZID=Australia/Brisbane:20280401T203000
DTSTAMP:20260426T020927
CREATED:20250303T183210Z
LAST-MODIFIED:20250710T034931Z
UID:10013139-1838223000-1838233800@www.diggersservicesclub.com.au
SUMMARY:Saturday PM Bingo
DESCRIPTION:Doors open – 5.30pm / Eyes Down – 7pm (Paper sales close @ 6.55pm)\nJackpot starts @ $1500 UNLIMITED CALLS\nTreble sheet – $200/$300/$500\nBook 10 (Feature/Full House) – $50/$60/$70\nBook 5 (Trebles) – $50/$70/$100
URL:https://www.diggersservicesclub.com.au/event/saturday-pm-bingo/2028-04-01/
CATEGORIES:Bingo
ATTACH;FMTTYPE=image/jpeg:https://www.diggersservicesclub.com.au/wp/wp-content/uploads/2025/03/NEW-Sat-PM-Program_page-0001.jpg
END:VEVENT
BEGIN:VEVENT
DTSTART;TZID=Australia/Brisbane:20280402T120000
DTEND;TZID=Australia/Brisbane:20280402T150000
DTSTAMP:20260426T020927
CREATED:20250619T002918Z
LAST-MODIFIED:20251119T220606Z
UID:10015010-1838289600-1838300400@www.diggersservicesclub.com.au
SUMMARY:Sunday Bingo
DESCRIPTION:Sunday 12pm – 3pm\nTicket Sales 12pm\nEyes Down 1pm\nOver $4k cash to be won\n$1.5K UNLIMITED JACKPOT!
URL:https://www.diggersservicesclub.com.au/event/sunday-bingo-2/2028-04-02/
CATEGORIES:Food & DIning
ATTACH;FMTTYPE=image/jpeg:https://www.diggersservicesclub.com.au/wp/wp-content/uploads/2025/06/NEW-Sun-Program_page-0001.jpg
END:VEVENT
BEGIN:VEVENT
DTSTART;TZID=Australia/Brisbane:20280403T100000
DTEND;TZID=Australia/Brisbane:20280403T130000
DTSTAMP:20260426T020927
CREATED:20250303T181740Z
LAST-MODIFIED:20250303T181740Z
UID:10010529-1838368800-1838379600@www.diggersservicesclub.com.au
SUMMARY:Monday Bingo
DESCRIPTION:Doors open – 10am / Eyes Down – 11am\nPAPER ONLY SESSION\nJackpot starts @ $1000 in 45 calls (+1 call & $100 each week unclaimed)\nTreble sheet – $100/$100/$100\nBook 10 (Feature/Full House) – $20/$30/$40\nBook 5 (Trebles) – $40/$40/$40
URL:https://www.diggersservicesclub.com.au/event/monday-bingo/2028-04-03/
CATEGORIES:Bingo
ATTACH;FMTTYPE=image/jpeg:https://www.diggersservicesclub.com.au/wp/wp-content/uploads/2025/03/NEW-Monday-Program_page-0001.jpg
END:VEVENT
BEGIN:VEVENT
DTSTART;TZID=Australia/Brisbane:20280404T100000
DTEND;TZID=Australia/Brisbane:20280404T130000
DTSTAMP:20260426T020927
CREATED:20250710T035034Z
LAST-MODIFIED:20250710T035034Z
UID:10015887-1838455200-1838466000@www.diggersservicesclub.com.au
SUMMARY:Tuesday AM Bingo
DESCRIPTION:Doors open – 10am / Eyes down – 11am (paper sales close @10.55am)\nJackpot starts @ $3\,500 in 45 calls (+1 call each week unclaimed) $500 consolation\n$750 Treble sheet – $200/$250/$300\nBook 10 (Feature/Full House) – $40/$50/$60\nBook 5 (Trebles) – $50/$70/$100
URL:https://www.diggersservicesclub.com.au/event/tuesday-am-bingo/2028-04-04/
CATEGORIES:Bingo
ATTACH;FMTTYPE=image/jpeg:https://www.diggersservicesclub.com.au/wp/wp-content/uploads/2025/07/tuesday-bingo_A3_PRINT.jpg
END:VEVENT
BEGIN:VEVENT
DTSTART;TZID=Australia/Brisbane:20280405T100000
DTEND;TZID=Australia/Brisbane:20280405T130000
DTSTAMP:20260426T020927
CREATED:20251106T004951Z
LAST-MODIFIED:20251106T004951Z
UID:10016255-1838541600-1838552400@www.diggersservicesclub.com.au
SUMMARY:Wednesday AM Bingo
DESCRIPTION:Doors open – 10am / Eyes Down – 11am (Paper sales close @ 10.55am)\nJackpot starts @ $2\,000 in 45 calls (+1 call each week unclaimed)\nTreble sheet – $100/$100/$100\nBook 10 (Trebles) – $40/$50/$60\nBook 5 (Feature/Full House) – $40/$50/$60
URL:https://www.diggersservicesclub.com.au/event/wednesday-am-bingo/2028-04-05/
ATTACH;FMTTYPE=image/jpeg:https://www.diggersservicesclub.com.au/wp/wp-content/uploads/2025/03/NEW-Wednesday-Program_page-0001-Copy.jpg
END:VEVENT
BEGIN:VEVENT
DTSTART;TZID=Australia/Brisbane:20280406T100000
DTEND;TZID=Australia/Brisbane:20280406T130000
DTSTAMP:20260426T020927
CREATED:20251106T005315Z
LAST-MODIFIED:20251106T005315Z
UID:10016517-1838628000-1838638800@www.diggersservicesclub.com.au
SUMMARY:Thursday AM Bingo
DESCRIPTION:Doors open – 10am / Eyes Down – 11am (Paper sales close @ 10.55pm)\nJackpot – $1\,000 UNLIMITED\nTreble sheet – $100/$150/$200\nBook 10 (Trebles) – $20/$30/$40\nBook 5 (Feature/Full House) – $40/$60/$70
URL:https://www.diggersservicesclub.com.au/event/thursday-am-bingo-2/2028-04-06/
ATTACH;FMTTYPE=image/jpeg:https://www.diggersservicesclub.com.au/wp/wp-content/uploads/2025/03/NEW-Thurs-AM-Program_page-0001.jpg
END:VEVENT
BEGIN:VEVENT
DTSTART;TZID=Australia/Brisbane:20280406T180000
DTEND;TZID=Australia/Brisbane:20280406T210000
DTSTAMP:20260426T020927
CREATED:20250303T182627Z
LAST-MODIFIED:20250303T182746Z
UID:10012096-1838656800-1838667600@www.diggersservicesclub.com.au
SUMMARY:Thursday PM Bingo
DESCRIPTION:Doors open – 6pm / Eyes Down – 7pm (Paper sales close @ 6.55pm)\nJackpot starts @ $1500 in 55 calls (+1 call & $100 each week unclaimed)\nTreble sheet – $200/$250/$300\nBook 10 (Feature/Full House) – $50/$60/$70\nBook 5 (Trebles) – $40/$60/$100
URL:https://www.diggersservicesclub.com.au/event/thursday-pm-bingo/2028-04-06/
CATEGORIES:Bingo
ATTACH;FMTTYPE=image/jpeg:https://www.diggersservicesclub.com.au/wp/wp-content/uploads/2025/03/NEW-Thurs-PM-Program_page-0001.jpg
END:VEVENT
BEGIN:VEVENT
DTSTART;TZID=Australia/Brisbane:20280407T100000
DTEND;TZID=Australia/Brisbane:20280407T130000
DTSTAMP:20260426T020927
CREATED:20250303T182721Z
LAST-MODIFIED:20250303T182721Z
UID:10011835-1838714400-1838725200@www.diggersservicesclub.com.au
SUMMARY:Friday AM Bingo
DESCRIPTION:Doors open – 10am / Eyes Down – 11am (Paper sales close @ 10.55am)\nHALF PRICE & SHORTER SESSION\nJackpot starts @ $1000 in 45 calls (+1 call each week unclaimed)\nTreble sheet – $100/$150/$200\nBook 10 (Trebles) – $20/$30/$40
URL:https://www.diggersservicesclub.com.au/event/friday-am-bingo/2028-04-07/
CATEGORIES:Bingo
ATTACH;FMTTYPE=image/jpeg:https://www.diggersservicesclub.com.au/wp/wp-content/uploads/2025/03/NEW-Fri-AM-Program_page-0001.jpg
END:VEVENT
BEGIN:VEVENT
DTSTART;TZID=Australia/Brisbane:20280407T140000
DTEND;TZID=Australia/Brisbane:20280407T173000
DTSTAMP:20260426T020927
CREATED:20260121T054951Z
LAST-MODIFIED:20260121T054951Z
UID:10016997-1838728800-1838741400@www.diggersservicesclub.com.au
SUMMARY:Friday Arvo Feed - Bistro Special
DESCRIPTION:Beef Burger \nor \nSouthern Fried Chicken Burger \nw/Chips & a Pint \nONLY $7.00
URL:https://www.diggersservicesclub.com.au/event/friday-arvo-feed-bistro-special/2028-04-07/
ATTACH;FMTTYPE=image/jpeg:https://www.diggersservicesclub.com.au/wp/wp-content/uploads/2026/01/FridayArvoFeed_JAN26_A3_PRINT_NEW-scaled.jpg
END:VEVENT
BEGIN:VEVENT
DTSTART;TZID=Australia/Brisbane:20280407T173000
DTEND;TZID=Australia/Brisbane:20280407T203000
DTSTAMP:20260426T020927
CREATED:20250303T182908Z
LAST-MODIFIED:20250303T182908Z
UID:10012357-1838741400-1838752200@www.diggersservicesclub.com.au
SUMMARY:Friday PM Bingo
DESCRIPTION:Doors open – 5.30pm / Eyes Down – 7pm (Paper sales close @ 6.55pm)\nJackpot starts @ $2000 in 50 calls (+1 call & $250 each week unclaimed)\nTreble sheet – $100/$200/$300\nBook 10 (Feature/Full House) – $50/$100/$150\nBook 5 (Trebles) – $50/$100/$150
URL:https://www.diggersservicesclub.com.au/event/friday-pm-bingo/2028-04-07/
CATEGORIES:Bingo
ATTACH;FMTTYPE=image/jpeg:https://www.diggersservicesclub.com.au/wp/wp-content/uploads/2025/03/NEW-Fri-PM-Program_page-0001.jpg
END:VEVENT
BEGIN:VEVENT
DTSTART;TZID=Australia/Brisbane:20280408T100000
DTEND;TZID=Australia/Brisbane:20280408T130000
DTSTAMP:20260426T020927
CREATED:20250303T183006Z
LAST-MODIFIED:20250710T034919Z
UID:10012879-1838800800-1838811600@www.diggersservicesclub.com.au
SUMMARY:Saturday AM Bingo
DESCRIPTION:Doors open – 10am / Eyes Down – 11am (Paper sales close @ 10.55am)\nJackpot starts @ $1\,000 UNLIMITED CALLS + Bingo Ball Multiplier\nTreble sheet – $200/$250/$300\nBook 10 (Trebles) – $40/$50/$60\nBook 5 (Feature/Full House) – $50/$60/$70
URL:https://www.diggersservicesclub.com.au/event/saturday-am-bingo/2028-04-08/
CATEGORIES:Bingo
ATTACH;FMTTYPE=image/jpeg:https://www.diggersservicesclub.com.au/wp/wp-content/uploads/2025/03/NEW-Sat-AM-Program_page-0001.jpg
END:VEVENT
BEGIN:VEVENT
DTSTART;TZID=Australia/Brisbane:20280408T103000
DTEND;TZID=Australia/Brisbane:20280408T131000
DTSTAMP:20260426T020927
CREATED:20240929T191811Z
LAST-MODIFIED:20240929T191811Z
UID:10007208-1838802600-1838812200@www.diggersservicesclub.com.au
SUMMARY:Weekly Saturday Raffles
DESCRIPTION:Diggers Services Club is the place to be every Saturday! Aside from all the happenings at the club\, you can also take part in our weekly Saturday Raffles. With $650 in cash and prizes\, including four meat trays\, club vouchers\, and cash vouchers\, there’s no better way to spend a Saturday. \nAdditionally\, become a Star VIP Raffle Club member for extra chances to win our Saturday Raffle. It’s free to join\, and your chances of winning increase. \nTickets go on sale at 10:30 am and are drawn at 1.10 pm every Saturday. \nPrizes Drawn in Random order \n\n4x $60 Meat Trays\n2x $50 Coles/Myer Gift Cards\n1x $60 Carton Beer\n$50 Club Voucher (1 x $20 & 1 x $30)\n$50 Cash\n$100 Cash\n$50 Cash\n\n 
URL:https://www.diggersservicesclub.com.au/event/weekly-saturday-raffles-2/2028-04-08/
CATEGORIES:Raffles
ATTACH;FMTTYPE=image/jpeg:https://www.diggersservicesclub.com.au/wp/wp-content/uploads/2021/07/Sat-Raffle_A3_PRINT.jpg
END:VEVENT
BEGIN:VEVENT
DTSTART;TZID=Australia/Brisbane:20280408T120000
DTEND;TZID=Australia/Brisbane:20280408T140000
DTSTAMP:20260426T020927
CREATED:20260202T032358Z
LAST-MODIFIED:20260202T032358Z
UID:10017256-1838808000-1838815200@www.diggersservicesclub.com.au
SUMMARY:Saturday Steak & Pint - Bistro Special
DESCRIPTION:200g Rump Steak & Pint for ONLY $15 \nServed w/ chips & gravy. \nLunch time Special ONLY.
URL:https://www.diggersservicesclub.com.au/event/saturday-steak-pint-bistro-special/2028-04-08/
ATTACH;FMTTYPE=image/png:https://www.diggersservicesclub.com.au/wp/wp-content/uploads/2025/11/A3.png
END:VEVENT
BEGIN:VEVENT
DTSTART;TZID=Australia/Brisbane:20280408T173000
DTEND;TZID=Australia/Brisbane:20280408T203000
DTSTAMP:20260426T020927
CREATED:20250303T183210Z
LAST-MODIFIED:20250710T034931Z
UID:10013140-1838827800-1838838600@www.diggersservicesclub.com.au
SUMMARY:Saturday PM Bingo
DESCRIPTION:Doors open – 5.30pm / Eyes Down – 7pm (Paper sales close @ 6.55pm)\nJackpot starts @ $1500 UNLIMITED CALLS\nTreble sheet – $200/$300/$500\nBook 10 (Feature/Full House) – $50/$60/$70\nBook 5 (Trebles) – $50/$70/$100
URL:https://www.diggersservicesclub.com.au/event/saturday-pm-bingo/2028-04-08/
CATEGORIES:Bingo
ATTACH;FMTTYPE=image/jpeg:https://www.diggersservicesclub.com.au/wp/wp-content/uploads/2025/03/NEW-Sat-PM-Program_page-0001.jpg
END:VEVENT
BEGIN:VEVENT
DTSTART;TZID=Australia/Brisbane:20280409T120000
DTEND;TZID=Australia/Brisbane:20280409T150000
DTSTAMP:20260426T020927
CREATED:20250619T002918Z
LAST-MODIFIED:20251119T220606Z
UID:10015011-1838894400-1838905200@www.diggersservicesclub.com.au
SUMMARY:Sunday Bingo
DESCRIPTION:Sunday 12pm – 3pm\nTicket Sales 12pm\nEyes Down 1pm\nOver $4k cash to be won\n$1.5K UNLIMITED JACKPOT!
URL:https://www.diggersservicesclub.com.au/event/sunday-bingo-2/2028-04-09/
CATEGORIES:Food & DIning
ATTACH;FMTTYPE=image/jpeg:https://www.diggersservicesclub.com.au/wp/wp-content/uploads/2025/06/NEW-Sun-Program_page-0001.jpg
END:VEVENT
BEGIN:VEVENT
DTSTART;TZID=Australia/Brisbane:20280410T100000
DTEND;TZID=Australia/Brisbane:20280410T130000
DTSTAMP:20260426T020927
CREATED:20250303T181740Z
LAST-MODIFIED:20250303T181740Z
UID:10010530-1838973600-1838984400@www.diggersservicesclub.com.au
SUMMARY:Monday Bingo
DESCRIPTION:Doors open – 10am / Eyes Down – 11am\nPAPER ONLY SESSION\nJackpot starts @ $1000 in 45 calls (+1 call & $100 each week unclaimed)\nTreble sheet – $100/$100/$100\nBook 10 (Feature/Full House) – $20/$30/$40\nBook 5 (Trebles) – $40/$40/$40
URL:https://www.diggersservicesclub.com.au/event/monday-bingo/2028-04-10/
CATEGORIES:Bingo
ATTACH;FMTTYPE=image/jpeg:https://www.diggersservicesclub.com.au/wp/wp-content/uploads/2025/03/NEW-Monday-Program_page-0001.jpg
END:VEVENT
BEGIN:VEVENT
DTSTART;TZID=Australia/Brisbane:20280411T100000
DTEND;TZID=Australia/Brisbane:20280411T130000
DTSTAMP:20260426T020927
CREATED:20250710T035034Z
LAST-MODIFIED:20250710T035034Z
UID:10015888-1839060000-1839070800@www.diggersservicesclub.com.au
SUMMARY:Tuesday AM Bingo
DESCRIPTION:Doors open – 10am / Eyes down – 11am (paper sales close @10.55am)\nJackpot starts @ $3\,500 in 45 calls (+1 call each week unclaimed) $500 consolation\n$750 Treble sheet – $200/$250/$300\nBook 10 (Feature/Full House) – $40/$50/$60\nBook 5 (Trebles) – $50/$70/$100
URL:https://www.diggersservicesclub.com.au/event/tuesday-am-bingo/2028-04-11/
CATEGORIES:Bingo
ATTACH;FMTTYPE=image/jpeg:https://www.diggersservicesclub.com.au/wp/wp-content/uploads/2025/07/tuesday-bingo_A3_PRINT.jpg
END:VEVENT
END:VCALENDAR